{"text_format":"1","workbook":"xlsx","n_sheets":4,"sheets":["Daten","Berechnung - Seite 1","Berechnung - Seite 2","Listen"],"not_rendered":{"charts":0,"images":2,"macros":1,"external_links":0,"defined_names":4,"comments":0,"pivot_tables":0},"unopened":[],"bounds":{"document_bytes":16777216,"sheet_cells":100000,"rows_first":2000,"rows_last":500,"rows_between":2000,"halvings":0,"cell_chars":16384,"cell_head_chars":4096},"cells_cut":0,"cells_raw":0,"read":"whole","date_system":"1900"}

{"sheet":"Daten","index":0,"n_rows":6,"n_cols":8,"rows_kept":6,"cut":false,"hidden":false,"merged":[[0,0,0,9],[5,8,5,9],[1,7,1,8],[1,1,1,6],[2,2,2,4],[2,5,2,6],[2,7,2,9],[3,0,3,1],[3,2,3,3],[3,4,3,6],[3,8,3,9],[4,0,4,6],[4,8,4,9]]}
["Anlage 2a                                                                                              PK - RLSB Lüneburg, Dez. 1, Fachbereich 1F, Stand: 30.11.2023                           \nBitte unbedingt vollständig ausfüllen!\nNach Auswahl des Schuljahres ergänzen sich weitere Zellen automatisch!"]
["Schulname:",null,null,null,null,null,null,"Schulnummer:"]
["Schuljahr:",null,"Antrag vom:"]
[{"$f":"\"Sonderbeitrag gesamt 20\" & MID(B3,3,2) &\":\"","v":"Sonderbeitrag gesamt 20:"},null,null,null,{"$f":"\"Sonderbeitrag gesamt 20\" &RIGHT(B3,2) &\":\"","v":"Sonderbeitrag gesamt 20:"}]
["Rentenversicherungspflichtiges Gesamtentgelt aller bei der Zusatzversorgungskasse gemeldeten Beschäftigten der Schule im abzurechnenden Schuljahr:"]
["Name","Vorname","Funktion","rentenvers. pflichtiges Entgelt","ZV (ohne\nSonderbeitrag)","Anteil Sonderbeitrag","ZV (mit\nSonderbeitrag)"]

{"sheet":"Berechnung - Seite 1","index":1,"n_rows":62,"n_cols":6,"rows_kept":62,"cut":false,"hidden":false,"merged":[]}
[{"$f":"\"Aufteilung Sonderbeitrag für das Schuljahr \" &Daten!B3","v":"Aufteilung Sonderbeitrag für das Schuljahr "}]
[{"$f":"IF(Daten!B2=\"\",\"\",Daten!B2)","v":""}]
[]
[{"$f":"\"Für den Zeitraum 01.08.20\" &MID(Daten!B3,3,2) &\" bis 31.07.20\" &RIGHT(Daten!B3,2) &\" entfallen auf alle bei der Zusatzversorgungskasse\"","v":"Für den Zeitraum 01.08.20 bis 31.07.20 entfallen auf alle bei der Zusatzversorgungskasse"}]
["versicherten Beschäftigten des Schulträgers"]
[]
["Gesamtvergütung",null,null,{"$f":"Daten!H5","v":0}]
["Sonderbeitrag",null,null,{"$f":"Daten!C4*5/12+Daten!H4*7/12","v":0}]
["Qoutient Sonderbeitrag/Gesamtvergütung",null,null,{"$f":"IF(ISERROR(D8/D7),\"\",D8/D7)","v":""}]
[]
["Nr.","Name, Vorname",{"$f":"\"RV-pflichtiges Entgelt 01.08.20\" &MID(Daten!B3,3,2) &\" bis 31.07.20\" &RIGHT(Daten!B3,2)","v":"RV-pflichtiges Entgelt 01.08.20 bis 31.07.20"},"Umlage Sonderbeitrag nach Bruttovergütung","übrige Beiträge ZVK","Summe ZVK inkl. Sonderbeitrag"]
["1.",{"$f":"IF(Daten!A7=\"\",\"\",Daten!A7 &\", \" &Daten!B7)","v":""},{"$f":"Daten!D7","v":0},{"$f":"IF(OR(E12=\"\",E12=0),\"\",IF(ISERROR(C12*$D$9),\"\",C12*$D$9))","v":""},{"$f":"Daten!E7","v":0},{"$f":"IF(OR(E12=\"\",E12=0),\"\",SUM(D12:E12))","v":""}]
["2.",{"$f":"IF(Daten!A8=\"\",\"\",Daten!A8 &\", \" &Daten!B8)","v":""},{"$f":"Daten!D8","v":0},{"$f":"IF(OR(E13=\"\",E13=0),\"\",IF(ISERROR(C13*$D$9),\"\",C13*$D$9))","v":""},{"$f":"Daten!E8","v":0},{"$f":"IF(OR(E13=\"\",E13=0),\"\",SUM(D13:E13))","v":""}]
["3.",{"$f":"IF(Daten!A9=\"\",\"\",Daten!A9 &\", \" &Daten!B9)","v":""},{"$f":"Daten!D9","v":0},"",{"$f":"Daten!E9","v":0},""]
["4.",{"$f":"IF(Daten!A10=\"\",\"\",Daten!A10 &\", \" &Daten!B10)","v":""},{"$f":"Daten!D10","v":0},"",{"$f":"Daten!E10","v":0},""]
["5.",{"$f":"IF(Daten!A11=\"\",\"\",Daten!A11 &\", \" &Daten!B11)","v":""},{"$f":"Daten!D11","v":0},"",{"$f":"Daten!E11","v":0},""]
["6.",{"$f":"IF(Daten!A12=\"\",\"\",Daten!A12 &\", \" &Daten!B12)","v":""},{"$f":"Daten!D12","v":0},"",{"$f":"Daten!E12","v":0},""]
["7.",{"$f":"IF(Daten!A13=\"\",\"\",Daten!A13 &\", \" &Daten!B13)","v":""},{"$f":"Daten!D13","v":0},"",{"$f":"Daten!E13","v":0},""]
["8.",{"$f":"IF(Daten!A14=\"\",\"\",Daten!A14 &\", \" &Daten!B14)","v":""},{"$f":"Daten!D14","v":0},"",{"$f":"Daten!E14","v":0},""]
["9.",{"$f":"IF(Daten!A15=\"\",\"\",Daten!A15 &\", \" &Daten!B15)","v":""},{"$f":"Daten!D15","v":0},"",{"$f":"Daten!E15","v":0},""]
["10.",{"$f":"IF(Daten!A16=\"\",\"\",Daten!A16 &\", \" &Daten!B16)","v":""},{"$f":"Daten!D16","v":0},"",{"$f":"Daten!E16","v":0},""]
["11.",{"$f":"IF(Daten!A17=\"\",\"\",Daten!A17 &\", \" &Daten!B17)","v":""},{"$f":"Daten!D17","v":0},"",{"$f":"Daten!E17","v":0},""]
["12.",{"$f":"IF(Daten!A18=\"\",\"\",Daten!A18 &\", \" &Daten!B18)","v":""},{"$f":"Daten!D18","v":0},"",{"$f":"Daten!E18","v":0},""]
["13.",{"$f":"IF(Daten!A19=\"\",\"\",Daten!A19 &\", \" &Daten!B19)","v":""},{"$f":"Daten!D19","v":0},"",{"$f":"Daten!E19","v":0},""]
["14.",{"$f":"IF(Daten!A20=\"\",\"\",Daten!A20 &\", \" &Daten!B20)","v":""},{"$f":"Daten!D20","v":0},"",{"$f":"Daten!E20","v":0},""]
["15.",{"$f":"IF(Daten!A21=\"\",\"\",Daten!A21 &\", \" &Daten!B21)","v":""},{"$f":"Daten!D21","v":0},"",{"$f":"Daten!E21","v":0},""]
["16.",{"$f":"IF(Daten!A22=\"\",\"\",Daten!A22 &\", \" &Daten!B22)","v":""},{"$f":"Daten!D22","v":0},"",{"$f":"Daten!E22","v":0},""]
["17.",{"$f":"IF(Daten!A23=\"\",\"\",Daten!A23 &\", \" &Daten!B23)","v":""},{"$f":"Daten!D23","v":0},"",{"$f":"Daten!E23","v":0},""]
["18.",{"$f":"IF(Daten!A24=\"\",\"\",Daten!A24 &\", \" &Daten!B24)","v":""},{"$f":"Daten!D24","v":0},"",{"$f":"Daten!E24","v":0},""]
["19.",{"$f":"IF(Daten!A25=\"\",\"\",Daten!A25 &\", \" &Daten!B25)","v":""},{"$f":"Daten!D25","v":0},"",{"$f":"Daten!E25","v":0},""]
["20.",{"$f":"IF(Daten!A26=\"\",\"\",Daten!A26 &\", \" &Daten!B26)","v":""},{"$f":"Daten!D26","v":0},"",{"$f":"Daten!E26","v":0},""]
["21.",{"$f":"IF(Daten!A27=\"\",\"\",Daten!A27 &\", \" &Daten!B27)","v":""},{"$f":"Daten!D27","v":0},"",{"$f":"Daten!E27","v":0},""]
["22.",{"$f":"IF(Daten!A28=\"\",\"\",Daten!A28 &\", \" &Daten!B28)","v":""},{"$f":"Daten!D28","v":0},"",{"$f":"Daten!E28","v":0},""]
["23.",{"$f":"IF(Daten!A29=\"\",\"\",Daten!A29 &\", \" &Daten!B29)","v":""},{"$f":"Daten!D29","v":0},"",{"$f":"Daten!E29","v":0},""]
["24.",{"$f":"IF(Daten!A30=\"\",\"\",Daten!A30 &\", \" &Daten!B30)","v":""},{"$f":"Daten!D30","v":0},"",{"$f":"Daten!E30","v":0},""]
["25.",{"$f":"IF(Daten!A31=\"\",\"\",Daten!A31 &\", \" &Daten!B31)","v":""},{"$f":"Daten!D31","v":0},"",{"$f":"Daten!E31","v":0},""]
["26.",{"$f":"IF(Daten!A32=\"\",\"\",Daten!A32 &\", \" &Daten!B32)","v":""},{"$f":"Daten!D32","v":0},"",{"$f":"Daten!E32","v":0},""]
["27.",{"$f":"IF(Daten!A33=\"\",\"\",Daten!A33 &\", \" &Daten!B33)","v":""},{"$f":"Daten!D33","v":0},"",{"$f":"Daten!E33","v":0},""]
["28.",{"$f":"IF(Daten!A34=\"\",\"\",Daten!A34 &\", \" &Daten!B34)","v":""},{"$f":"Daten!D34","v":0},"",{"$f":"Daten!E34","v":0},""]
["29.",{"$f":"IF(Daten!A35=\"\",\"\",Daten!A35 &\", \" &Daten!B35)","v":""},{"$f":"Daten!D35","v":0},"",{"$f":"Daten!E35","v":0},""]
["30.",{"$f":"IF(Daten!A36=\"\",\"\",Daten!A36 &\", \" &Daten!B36)","v":""},{"$f":"Daten!D36","v":0},"",{"$f":"Daten!E36","v":0},""]
["31.",{"$f":"IF(Daten!A37=\"\",\"\",Daten!A37 &\", \" &Daten!B37)","v":""},{"$f":"Daten!D37","v":0},"",{"$f":"Daten!E37","v":0},""]
["32.",{"$f":"IF(Daten!A38=\"\",\"\",Daten!A38 &\", \" &Daten!B38)","v":""},{"$f":"Daten!D38","v":0},"",{"$f":"Daten!E38","v":0},""]
["33.",{"$f":"IF(Daten!A39=\"\",\"\",Daten!A39 &\", \" &Daten!B39)","v":""},{"$f":"Daten!D39","v":0},"",{"$f":"Daten!E39","v":0},""]
["34.",{"$f":"IF(Daten!A40=\"\",\"\",Daten!A40 &\", \" &Daten!B40)","v":""},{"$f":"Daten!D40","v":0},"",{"$f":"Daten!E40","v":0},""]
["35.",{"$f":"IF(Daten!A41=\"\",\"\",Daten!A41 &\", \" &Daten!B41)","v":""},{"$f":"Daten!D41","v":0},"",{"$f":"Daten!E41","v":0},""]
["36.",{"$f":"IF(Daten!A42=\"\",\"\",Daten!A42 &\", \" &Daten!B42)","v":""},{"$f":"Daten!D42","v":0},"",{"$f":"Daten!E42","v":0},""]
["37.",{"$f":"IF(Daten!A43=\"\",\"\",Daten!A43 &\", \" &Daten!B43)","v":""},{"$f":"Daten!D43","v":0},"",{"$f":"Daten!E43","v":0},""]
["38.",{"$f":"IF(Daten!A44=\"\",\"\",Daten!A44 &\", \" &Daten!B44)","v":""},{"$f":"Daten!D44","v":0},"",{"$f":"Daten!E44","v":0},""]
["39.",{"$f":"IF(Daten!A45=\"\",\"\",Daten!A45 &\", \" &Daten!B45)","v":""},{"$f":"Daten!D45","v":0},"",{"$f":"Daten!E45","v":0},""]
["40.",{"$f":"IF(Daten!A46=\"\",\"\",Daten!A46 &\", \" &Daten!B46)","v":""},{"$f":"Daten!D46","v":0},"",{"$f":"Daten!E46","v":0},""]
["41.",{"$f":"IF(Daten!A47=\"\",\"\",Daten!A47 &\", \" &Daten!B47)","v":""},{"$f":"Daten!D47","v":0},"",{"$f":"Daten!E47","v":0},""]
["42.",{"$f":"IF(Daten!A48=\"\",\"\",Daten!A48 &\", \" &Daten!B48)","v":""},{"$f":"Daten!D48","v":0},"",{"$f":"Daten!E48","v":0},""]
["43.",{"$f":"IF(Daten!A49=\"\",\"\",Daten!A49 &\", \" &Daten!B49)","v":""},{"$f":"Daten!D49","v":0},"",{"$f":"Daten!E49","v":0},""]
["44.",{"$f":"IF(Daten!A50=\"\",\"\",Daten!A50 &\", \" &Daten!B50)","v":""},{"$f":"Daten!D50","v":0},"",{"$f":"Daten!E50","v":0},""]
["45.",{"$f":"IF(Daten!A51=\"\",\"\",Daten!A51 &\", \" &Daten!B51)","v":""},{"$f":"Daten!D51","v":0},"",{"$f":"Daten!E51","v":0},""]
["46.",{"$f":"IF(Daten!A52=\"\",\"\",Daten!A52 &\", \" &Daten!B52)","v":""},{"$f":"Daten!D52","v":0},"",{"$f":"Daten!E52","v":0},""]
["47.",{"$f":"IF(Daten!A53=\"\",\"\",Daten!A53 &\", \" &Daten!B53)","v":""},{"$f":"Daten!D53","v":0},"",{"$f":"Daten!E53","v":0},""]
["48.",{"$f":"IF(Daten!A54=\"\",\"\",Daten!A54 &\", \" &Daten!B54)","v":""},{"$f":"Daten!D54","v":0},"",{"$f":"Daten!E54","v":0},""]
["49.",{"$f":"IF(Daten!A55=\"\",\"\",Daten!A55 &\", \" &Daten!B55)","v":""},{"$f":"Daten!D55","v":0},"",{"$f":"Daten!E55","v":0},""]
["50.",{"$f":"IF(Daten!A56=\"\",\"\",Daten!A56 &\", \" &Daten!B56)","v":""},{"$f":"Daten!D56","v":0},"",{"$f":"Daten!E56","v":0},""]
[null,"Summe",{"$f":"SUM(C12:C61)","v":0},{"$f":"SUM(D12:D61)","v":0},{"$f":"SUM(E12:E61)","v":0},{"$f":"SUM(D62:E62)","v":0}]

{"sheet":"Berechnung - Seite 2","index":2,"n_rows":62,"n_cols":6,"rows_kept":62,"cut":false,"hidden":false,"merged":[]}
[{"$f":"\"Aufteilung Sonderbeitrag für das Schuljahr \" &Daten!B3","v":"Aufteilung Sonderbeitrag für das Schuljahr "}]
[{"$f":"IF(Daten!B2=\"\",\"\",Daten!B2)","v":""}]
[]
[{"$f":"\"Für den Zeitraum 01.08.20\" &MID(Daten!B3,3,2) &\" bis 31.07.20\" &RIGHT(Daten!B3,2) &\" entfallen auf alle bei der Zusatzversorgungskasse\"","v":"Für den Zeitraum 01.08.20 bis 31.07.20 entfallen auf alle bei der Zusatzversorgungskasse"}]
["versicherten Beschäftigten des Schulträgers"]
[]
["Gesamtvergütung",null,null,{"$f":"Daten!H5","v":0}]
["Sonderbeitrag ",null,null,{"$f":"Daten!C4*5/12+Daten!H4*7/12","v":0}]
["Qoutient Sonderbeitrag/Gesamtvergütung",null,null,{"$f":"IF(ISERROR(D8/D7),\"\",D8/D7)","v":""}]
[]
["Nr.","Name, Vorname",{"$f":"\"Bruttovergütung 01.08.20\" &MID(Daten!B3,3,2) &\" bis 31.07.20\" &RIGHT(Daten!B3,2)","v":"Bruttovergütung 01.08.20 bis 31.07.20"},"Umlage Sonderbeitrag nach Bruttovergütung","übrige Beiträge ZVK","Summe ZVK inkl. Sonderbeitrag"]
["51.",{"$f":"IF(Daten!A57=\"\",\"\",Daten!A57 &\", \" &Daten!B57)","v":""},{"$f":"Daten!D57","v":0},{"$f":"IF(OR(E12=\"\",E12=0),\"\",IF(ISERROR(C12*$D$9),\"\",C12*$D$9))","v":""},{"$f":"Daten!E57","v":0},{"$f":"IF(OR(E12=\"\",E12=0),\"\",SUM(D12:E12))","v":""}]
["52.",{"$f":"IF(Daten!A58=\"\",\"\",Daten!A58 &\", \" &Daten!B58)","v":""},{"$f":"Daten!D58","v":0},{"$f":"IF(OR(E13=\"\",E13=0),\"\",IF(ISERROR(C13*$D$9),\"\",C13*$D$9))","v":""},{"$f":"Daten!E58","v":0},{"$f":"IF(OR(E13=\"\",E13=0),\"\",SUM(D13:E13))","v":""}]
["53.",{"$f":"IF(Daten!A59=\"\",\"\",Daten!A59 &\", \" &Daten!B59)","v":""},{"$f":"Daten!D59","v":0},"",{"$f":"Daten!E59","v":0},""]
["54.",{"$f":"IF(Daten!A60=\"\",\"\",Daten!A60 &\", \" &Daten!B60)","v":""},{"$f":"Daten!D60","v":0},"",{"$f":"Daten!E60","v":0},""]
["55.",{"$f":"IF(Daten!A61=\"\",\"\",Daten!A61 &\", \" &Daten!B61)","v":""},{"$f":"Daten!D61","v":0},"",{"$f":"Daten!E61","v":0},""]
["56.",{"$f":"IF(Daten!A62=\"\",\"\",Daten!A62 &\", \" &Daten!B62)","v":""},{"$f":"Daten!D62","v":0},"",{"$f":"Daten!E62","v":0},""]
["57.",{"$f":"IF(Daten!A63=\"\",\"\",Daten!A63 &\", \" &Daten!B63)","v":""},{"$f":"Daten!D63","v":0},"",{"$f":"Daten!E63","v":0},""]
["58.",{"$f":"IF(Daten!A64=\"\",\"\",Daten!A64 &\", \" &Daten!B64)","v":""},{"$f":"Daten!D64","v":0},"",{"$f":"Daten!E64","v":0},""]
["59.",{"$f":"IF(Daten!A65=\"\",\"\",Daten!A65 &\", \" &Daten!B65)","v":""},{"$f":"Daten!D65","v":0},"",{"$f":"Daten!E65","v":0},""]
["60.",{"$f":"IF(Daten!A66=\"\",\"\",Daten!A66 &\", \" &Daten!B66)","v":""},{"$f":"Daten!D66","v":0},"",{"$f":"Daten!E66","v":0},""]
["61.",{"$f":"IF(Daten!A67=\"\",\"\",Daten!A67 &\", \" &Daten!B67)","v":""},{"$f":"Daten!D67","v":0},"",{"$f":"Daten!E67","v":0},""]
["62.",{"$f":"IF(Daten!A68=\"\",\"\",Daten!A68 &\", \" &Daten!B68)","v":""},{"$f":"Daten!D68","v":0},"",{"$f":"Daten!E68","v":0},""]
["63.",{"$f":"IF(Daten!A69=\"\",\"\",Daten!A69 &\", \" &Daten!B69)","v":""},{"$f":"Daten!D69","v":0},"",{"$f":"Daten!E69","v":0},""]
["64.",{"$f":"IF(Daten!A70=\"\",\"\",Daten!A70 &\", \" &Daten!B70)","v":""},{"$f":"Daten!D70","v":0},"",{"$f":"Daten!E70","v":0},""]
["65.",{"$f":"IF(Daten!A71=\"\",\"\",Daten!A71 &\", \" &Daten!B71)","v":""},{"$f":"Daten!D71","v":0},"",{"$f":"Daten!E71","v":0},""]
["66.",{"$f":"IF(Daten!A72=\"\",\"\",Daten!A72 &\", \" &Daten!B72)","v":""},{"$f":"Daten!D72","v":0},"",{"$f":"Daten!E72","v":0},""]
["67.",{"$f":"IF(Daten!A73=\"\",\"\",Daten!A73 &\", \" &Daten!B73)","v":""},{"$f":"Daten!D73","v":0},"",{"$f":"Daten!E73","v":0},""]
["68.",{"$f":"IF(Daten!A74=\"\",\"\",Daten!A74 &\", \" &Daten!B74)","v":""},{"$f":"Daten!D74","v":0},"",{"$f":"Daten!E74","v":0},""]
["69.",{"$f":"IF(Daten!A75=\"\",\"\",Daten!A75 &\", \" &Daten!B75)","v":""},{"$f":"Daten!D75","v":0},"",{"$f":"Daten!E75","v":0},""]
["70.",{"$f":"IF(Daten!A76=\"\",\"\",Daten!A76 &\", \" &Daten!B76)","v":""},{"$f":"Daten!D76","v":0},"",{"$f":"Daten!E76","v":0},""]
["71.",{"$f":"IF(Daten!A77=\"\",\"\",Daten!A77 &\", \" &Daten!B77)","v":""},{"$f":"Daten!D77","v":0},"",{"$f":"Daten!E77","v":0},""]
["72.",{"$f":"IF(Daten!A78=\"\",\"\",Daten!A78 &\", \" &Daten!B78)","v":""},{"$f":"Daten!D78","v":0},"",{"$f":"Daten!E78","v":0},""]
["73.",{"$f":"IF(Daten!A79=\"\",\"\",Daten!A79 &\", \" &Daten!B79)","v":""},{"$f":"Daten!D79","v":0},"",{"$f":"Daten!E79","v":0},""]
["74.",{"$f":"IF(Daten!A80=\"\",\"\",Daten!A80 &\", \" &Daten!B80)","v":""},{"$f":"Daten!D80","v":0},"",{"$f":"Daten!E80","v":0},""]
["75.",{"$f":"IF(Daten!A81=\"\",\"\",Daten!A81 &\", \" &Daten!B81)","v":""},{"$f":"Daten!D81","v":0},"",{"$f":"Daten!E81","v":0},""]
["76.",{"$f":"IF(Daten!A82=\"\",\"\",Daten!A82 &\", \" &Daten!B82)","v":""},{"$f":"Daten!D82","v":0},"",{"$f":"Daten!E82","v":0},""]
["77.",{"$f":"IF(Daten!A83=\"\",\"\",Daten!A83 &\", \" &Daten!B83)","v":""},{"$f":"Daten!D83","v":0},"",{"$f":"Daten!E83","v":0},""]
["78.",{"$f":"IF(Daten!A84=\"\",\"\",Daten!A84 &\", \" &Daten!B84)","v":""},{"$f":"Daten!D84","v":0},"",{"$f":"Daten!E84","v":0},""]
["79.",{"$f":"IF(Daten!A85=\"\",\"\",Daten!A85 &\", \" &Daten!B85)","v":""},{"$f":"Daten!D85","v":0},"",{"$f":"Daten!E85","v":0},""]
["80.",{"$f":"IF(Daten!A86=\"\",\"\",Daten!A86 &\", \" &Daten!B86)","v":""},{"$f":"Daten!D86","v":0},"",{"$f":"Daten!E86","v":0},""]
["81.",{"$f":"IF(Daten!A87=\"\",\"\",Daten!A87 &\", \" &Daten!B87)","v":""},{"$f":"Daten!D87","v":0},"",{"$f":"Daten!E87","v":0},""]
["82.",{"$f":"IF(Daten!A88=\"\",\"\",Daten!A88 &\", \" &Daten!B88)","v":""},{"$f":"Daten!D88","v":0},"",{"$f":"Daten!E88","v":0},""]
["83.",{"$f":"IF(Daten!A89=\"\",\"\",Daten!A89 &\", \" &Daten!B89)","v":""},{"$f":"Daten!D89","v":0},"",{"$f":"Daten!E89","v":0},""]
["84.",{"$f":"IF(Daten!A90=\"\",\"\",Daten!A90 &\", \" &Daten!B90)","v":""},{"$f":"Daten!D90","v":0},"",{"$f":"Daten!E90","v":0},""]
["85.",{"$f":"IF(Daten!A91=\"\",\"\",Daten!A91 &\", \" &Daten!B91)","v":""},{"$f":"Daten!D91","v":0},"",{"$f":"Daten!E91","v":0},""]
["86.",{"$f":"IF(Daten!A92=\"\",\"\",Daten!A92 &\", \" &Daten!B92)","v":""},{"$f":"Daten!D92","v":0},"",{"$f":"Daten!E92","v":0},""]
["87.",{"$f":"IF(Daten!A93=\"\",\"\",Daten!A93 &\", \" &Daten!B93)","v":""},{"$f":"Daten!D93","v":0},"",{"$f":"Daten!E93","v":0},""]
["88.",{"$f":"IF(Daten!A94=\"\",\"\",Daten!A94 &\", \" &Daten!B94)","v":""},{"$f":"Daten!D94","v":0},"",{"$f":"Daten!E94","v":0},""]
["89.",{"$f":"IF(Daten!A95=\"\",\"\",Daten!A95 &\", \" &Daten!B95)","v":""},{"$f":"Daten!D95","v":0},"",{"$f":"Daten!E95","v":0},""]
["90.",{"$f":"IF(Daten!A96=\"\",\"\",Daten!A96 &\", \" &Daten!B96)","v":""},{"$f":"Daten!D96","v":0},"",{"$f":"Daten!E96","v":0},""]
["91.",{"$f":"IF(Daten!A97=\"\",\"\",Daten!A97 &\", \" &Daten!B97)","v":""},{"$f":"Daten!D97","v":0},"",{"$f":"Daten!E97","v":0},""]
["92.",{"$f":"IF(Daten!A98=\"\",\"\",Daten!A98 &\", \" &Daten!B98)","v":""},{"$f":"Daten!D98","v":0},"",{"$f":"Daten!E98","v":0},""]
["93.",{"$f":"IF(Daten!A99=\"\",\"\",Daten!A99 &\", \" &Daten!B99)","v":""},{"$f":"Daten!D99","v":0},"",{"$f":"Daten!E99","v":0},""]
["94.",{"$f":"IF(Daten!A100=\"\",\"\",Daten!A100 &\", \" &Daten!B100)","v":""},{"$f":"Daten!D100","v":0},"",{"$f":"Daten!E100","v":0},""]
["95.",{"$f":"IF(Daten!A101=\"\",\"\",Daten!A101 &\", \" &Daten!B101)","v":""},{"$f":"Daten!D101","v":0},"",{"$f":"Daten!E101","v":0},""]
["96.",{"$f":"IF(Daten!A102=\"\",\"\",Daten!A102 &\", \" &Daten!B102)","v":""},{"$f":"Daten!D102","v":0},"",{"$f":"Daten!E102","v":0},""]
["97.",{"$f":"IF(Daten!A103=\"\",\"\",Daten!A103 &\", \" &Daten!B103)","v":""},{"$f":"Daten!D103","v":0},"",{"$f":"Daten!E103","v":0},""]
["98.",{"$f":"IF(Daten!A104=\"\",\"\",Daten!A104 &\", \" &Daten!B104)","v":""},{"$f":"Daten!D104","v":0},"",{"$f":"Daten!E104","v":0},""]
["99.",{"$f":"IF(Daten!A105=\"\",\"\",Daten!A105 &\", \" &Daten!B105)","v":""},{"$f":"Daten!D105","v":0},"",{"$f":"Daten!E105","v":0},""]
["100.",{"$f":"IF(Daten!A106=\"\",\"\",Daten!A106 &\", \" &Daten!B106)","v":""},{"$f":"Daten!D106","v":0},"",{"$f":"Daten!E106","v":0},""]
[null,"Summe",{"$f":"SUM(C12:C61)","v":0},{"$f":"SUM(D12:D61)","v":0},{"$f":"SUM(E12:E61)","v":0},{"$f":"SUM(D62:E62)","v":0}]

{"sheet":"Listen","index":3,"n_rows":23,"n_cols":3,"rows_kept":23,"cut":false,"hidden":true,"merged":[]}
[]
["2018/19",null,"07080 - Evangelische Waldschule Eichelkamp Wolfsburg (GS)"]
["2019/20",null,"36547 - Michaelschule Papenburg (ObS)"]
["2020/21",null,"37205 - Johannesschule Meppen (ObS)"]
["2021/22",null,"40526 - Ludwig-Windhorst-Schule Hannover (ObS)"]
["2022/23",null,"41750 - Bonifatius-Schule II Göttingen (ObS)"]
["2023/24",null,"42055 - Albertus-Magnus Hildesheim (RS)"]
["2024/25",null,"42134 - St. Augustinus-Schule Hildesheim (ObS)"]
["2025/26",null,"42894 - Domschule Osnabrück (ObS)"]
["2026/27",null,"43540 - Thomas-Morus-Schule Osnabrück (ObS)"]
["2027/28",null,"43655 - Marienschule Lingen (ObS)"]
["2028/29",null,"45524 - Paulus-Schule Oldenburg (ObS)"]
["2029/30",null,"45998 - Ludgerus-Schule Vechta (ObS)"]
["2030/31",null,"46796 - Eichendorff-Schule Wolfsburg (ObS)"]
[null,null,"48628 - Franziskusschule Wilhelmshaven (ObS)"]
[null,null,"49104 - Marienschule Cloppenburg (ObS)"]
[null,null,"65407 - Philipp-Melanchthon-Gymnasium, Meine"]
[null,null,"65973 - Gy Mariano-Josephinum Hildesheim"]
[null,null,"65985 - Andreanum Hildesheim (Gy)"]
[null,null,"66151 - Gy Eichendorff-Schule Wolfsburg"]
[null,null,"66199 - Hildegard-von-Bingen-Gymnasium Twistringen"]
[null,null,"66539 - Evangelisches Gymnasium Nordhorn (Gy)"]
[null,null,"80238 - Evangelische IGS Wunstorf"]