{"text_format":"1","workbook":"xlsx","n_sheets":11,"sheets":["Daten","Anlage 3","Seite 2","Seite 3","Seite 4","Seite 5","Seite 6","Seite 7","Summen für Abrechnung","zweizeilig","Listen"],"not_rendered":{"charts":0,"images":0,"macros":1,"external_links":0,"defined_names":30,"comments":0,"pivot_tables":0},"unopened":[],"bounds":{"document_bytes":16777216,"sheet_cells":100000,"rows_first":2000,"rows_last":500,"rows_between":2000,"halvings":0,"cell_chars":16384,"cell_head_chars":4096},"cells_cut":0,"cells_raw":0,"read":"whole","date_system":"1900"}

{"sheet":"Daten","index":0,"n_rows":4,"n_cols":14,"rows_kept":4,"cut":false,"hidden":false,"merged":[[0,11,0,13],[0,0,0,10],[2,2,2,4],[2,7,2,13],[1,7,1,8],[1,1,1,6],[2,5,2,6],[1,10,1,11]]}
["Datenvorblatt Anlage 3: Achtung! Die rot hinterlegten Zeilen dürfen nicht überschrieben werden!\nBitte unbedingt die Angaben zu Schulname/-nummer, Schuljahr und Antragsdatum ausfüllen!",null,null,null,null,null,null,null,null,null,null,"RLSB Lüneburg, Dez. 1, Fachbereich 1F, Stand: 01.07.2023"]
["Schulname:",null,null,null,null,null,null,"Schulnummer:",null,null,"Az. RLSB Lüneburg"]
["Schuljahr:",null,"Antrag vom:"]
["Name","Vorname","Funktion","rentenver-\nsicherungspfl.\nEntgelt","tatsUStd","VertrUStd","AV","KV","PV","RV","ZV","Kriterien ZVL\nerfüllt (ja/nein)?","mit einzelver-traglicher Regelung?\n(ja/nein)","Art der ZV/\nVersicherer"]

{"sheet":"Anlage 3","index":1,"n_rows":50,"n_cols":15,"rows_kept":50,"cut":false,"hidden":false,"merged":[[0,5,3,11],[2,12,2,14],[45,6,45,7],[42,5,42,6],[43,5,43,6],[44,5,44,6],[41,8,41,9],[41,6,41,7],[39,4,39,5],[35,12,35,13],[31,8,31,9],[31,6,31,7],[31,4,31,5],[33,4,33,5],[28,14,29,14],[29,10,29,11],[29,12,29,13],[24,14,25,14],[25,10,25,11],[25,12,25,13],[20,14,21,14],[21,10,21,11],[38,1,39,1],[1,12,1,14],[10,2,11,2],[39,12,39,13],[36,14,37,14],[37,10,37,11],[37,12,37,13],[39,8,39,9],[34,1,35,1],[36,1,37,1],[38,3,39,3],[38,14,39,14],[34,2,35,2],[34,3,35,3],[35,8,35,9],[39,6,39,7],[37,4,37,5],[36,2,37,2],[38,2,39,2],[34,14,35,14],[35,10,35,11],[35,6,35,7],[35,4,35,5],[39,10,39,11],[48,12,49,14],[40,1,41,1],[40,2,41,2],[40,3,41,3],[40,14,41,14],[41,10,41,11],[41,12,41,13],[42,0,45,3],[43,8,43,9],[45,10,45,13],[44,10,44,13],[43,10,43,13],[42,8,42,9],[42,10,42,13],[46,10,46,13],[41,4,41,5],[36,3,37,3],[37,8,37,9],[37,6,37,7],[32,3,33,3],[33,8,33,9],[33,6,33,7],[30,14,31,14],[31,10,31,11],[31,12,31,13],[32,14,33,14],[33,10,33,11],[33,12,33,13],[28,1,29,1],[28,2,29,2],[28,3,29,3],[29,8,29,9],[29,6,29,7],[29,4,29,5],[26,14,27,14],[27,10,27,11],[27,12,27,13],[26,1,27,1],[26,2,27,2],[26,3,27,3],[27,8,27,9],[27,6,27,7],[27,4,27,5],[24,1,25,1],[24,2,25,2],[24,3,25,3],[25,8,25,9],[25,6,25,7],[25,4,25,5],[22,14,23,14],[23,10,23,11],[23,12,23,13],[22,1,23,1],[22,2,23,2],[22,3,23,3],[23,8,23,9],[23,6,23,7],[23,4,23,5],[20,1,21,1],[20,2,21,2],[20,3,21,3],[21,8,21,9],[21,6,21,7],[21,4,21,5],[18,14,19,14],[19,10,19,11],[19,12,19,13],[18,1,19,1],[18,2,19,2],[18,3,19,3],[19,8,19,9],[19,6,19,7],[19,4,19,5],[16,1,17,1],[16,2,17,2],[16,3,17,3],[17,8,17,9],[17,6,17,7],[17,4,17,5],[15,8,15,9],[12,2,13,2],[12,3,13,3],[4,0,5,0],[8,14,9,14],[9,10,9,11],[9,12,9,13],[4,14,5,14],[6,1,7,1],[8,1,9,1],[8,2,9,2],[8,3,9,3],[4,1,5,1],[4,10,4,11],[4,12,4,13],[6,2,7,2],[6,3,7,3],[4,8,4,9],[7,8,7,9],[7,10,7,11],[7,12,7,13],[4,4,4,5],[4,2,4,3],[9,4,9,5],[7,4,7,5],[4,6,4,7],[9,6,9,7],[30,2,31,2],[11,6,11,7],[11,4,11,5],[6,14,7,14],[10,14,11,14],[11,10,11,11],[11,12,11,13],[9,8,9,9],[7,6,7,7],[11,8,11,9],[16,14,17,14],[17,10,17,11],[17,12,17,13],[14,14,15,14],[15,10,15,11],[12,14,13,14],[13,10,13,11],[15,12,15,13],[13,12,13,13],[13,8,13,9],[21,12,21,13],[32,1,33,1],[32,2,33,2],[47,10,47,13],[8,0,9,0],[10,0,11,0],[12,0,13,0],[20,0,21,0],[10,3,11,3],[40,0,41,0],[13,4,13,5],[32,0,33,0],[28,0,29,0],[38,0,39,0],[30,0,31,0],[15,6,15,7],[13,6,13,7],[14,3,15,3],[12,1,13,1],[15,4,15,5],[30,3,31,3],[10,1,11,1],[14,1,15,1],[14,2,15,2],[30,1,31,1],[6,0,7,0],[14,0,15,0],[16,0,17,0],[18,0,19,0],[36,0,37,0],[22,0,23,0],[24,0,25,0],[34,0,35,0],[26,0,27,0]]}
["Nachweis der Lehrkräfte, Bruttogehaltssummen und",null,null,null,null,null,null,null,null,null,null,null,null,null,"Anlage 3 zum Antrag auf Finanzhilfe"]
["Aufwendungen für die soziale Sicherung",null,null,null,null,null,null,null,null,null,null,null,{"$f":"\"für das Schuljahr \" &Daten!B3","v":"für das Schuljahr "}]
["Funktion: SL (Schulleitung), LK (Lehrkraft), PM (Pädagogische(r) Mitarbeiter(in))",null,null,null,null,null,null,null,null,null,null,null,{"$f":"Daten!F3","v":"00:00:00"}]
["Hinweis: PM nur bei Förderschulen in vorgesehenen Schwerpunkten!"]
["Name und\nFunktion","rentenvers.-\npfl. Entgelt","Lehr-/Zusatzpersonal",null,"Arbeitslosenversicherung",null,"Krankenversicherung",null,"Pflegeversicherung",null,"Rentenversicherung",null,"Zusatzversicherung",null,"zu berück-\nsichtigen"]
[null,null,"tats. Std.***","Vertragsstd.",{"$f":"IF(Daten!B3=\"\",\"\",VLOOKUP(Daten!B3,Sätze,5))","v":""},"Ist",{"$f":"IF(Daten!B3=\"\",\"\",VLOOKUP(Daten!B3,Sätze,6))","v":""},"Ist",{"$f":"IF(Daten!B3=\"\",\"\",VLOOKUP(Daten!B3,Sätze,7))","v":""},"Ist",{"$f":"IF(Daten!B3=\"\",\"\",VLOOKUP(Daten!B3,Sätze,8))","v":""},"Ist",{"$f":"IF(Daten!B3=\"\",\"\",VLOOKUP(Daten!B3,Sätze,9))","v":""},"Ist"]
[{"$f":"IF(zweizeilig!A2=\"\",\"\",zweizeilig!A2)","v":" "},{"$f":"IF(zweizeilig!E2=\"\",\"\",zweizeilig!E2)","v":0},{"$f":"IF(zweizeilig!F2=\"\",\"\",zweizeilig!F2)","v":0},{"$f":"IF(zweizeilig!G2=\"\",\"\",zweizeilig!G2)","v":0},{"$f":"IF(OR(B7=\"\",C7=\"\",D7=\"\"),\"\",IF(ISERROR(IF(B7>BBMAVRV,BBMAVRV*$E$6*C7/D7,B7*$E$6*C7/D7)),\"\",IF(B7>BBMAVRV,BBMAVRV*$E$6*C7/D7,B7*$E$6*C7/D7)))","v":""},{"$f":"IF(zweizeilig!I2=\"\",\"\",zweizeilig!I2)","v":0},{"$f":"IF(E7=\"\",\"\",IF(B7>BBMKVPV,BBMKVPV*$G$6*C7/D7,B7*$G$6*C7/D7))","v":""},{"$f":"IF(zweizeilig!K2=\"\",\"\",zweizeilig!K2)","v":0},{"$f":"IF(E7=\"\",\"\",IF(B7>BBMKVPV,BBMKVPV*$I$6*C7/D7,B7*$I$6*C7/D7))","v":""},{"$f":"IF(zweizeilig!M2=\"\",\"\",zweizeilig!M2)","v":0},{"$f":"IF(E7=\"\",\"\",IF(B7>BBMAVRV,BBMAVRV*$K$6*C7/D7,B7*$K$6*C7/D7))","v":""},{"$f":"IF(zweizeilig!O2=\"\",\"\",zweizeilig!O2)","v":0},{"$f":"IF(E7=\"\",\"\",IF(B7>BBMAVRV,BBMAVRV*$M$6*C7/D7,B7*$M$6*C7/D7))","v":""},{"$f":"IF(zweizeilig!Q2=\"\",\"\",zweizeilig!Q2)","v":0},{"$f":"IF(C7=\"\",\"\",IF(D7=\"\",\"\",SUM(E8:N8)))","v":0}]
[null,null,null,null,{"$f":"IF(E7=\"\",\"\",MIN(E7,F7))","v":""},null,{"$f":"IF(G7=\"\",\"\",MIN(G7,H7))","v":""},null,{"$f":"IF(I7=\"\",\"\",MIN(I7,J7))","v":""},null,{"$f":"IF(K7=\"\",\"\",MIN(K7,L7))","v":""},null,{"$f":"IF(OR(M7=\"\",zweizeilig!S2<>\"ja\"),\"\",MIN(M7,N7))","v":""}]
[{"$f":"IF(zweizeilig!A4=\"\",\"\",zweizeilig!A4)","v":" "},{"$f":"IF(zweizeilig!E4=\"\",\"\",zweizeilig!E4)","v":0},{"$f":"IF(zweizeilig!F4=\"\",\"\",zweizeilig!F4)","v":0},{"$f":"IF(zweizeilig!G4=\"\",\"\",zweizeilig!G4)","v":0},{"$f":"IF(OR(B9=\"\",C9=\"\",D9=\"\"),\"\",IF(ISERROR(IF(B9>BBMAVRV,BBMAVRV*$E$6*C9/D9,B9*$E$6*C9/D9)),\"\",IF(B9>BBMAVRV,BBMAVRV*$E$6*C9/D9,B9*$E$6*C9/D9)))","v":""},{"$f":"IF(zweizeilig!I4=\"\",\"\",zweizeilig!I4)","v":0},{"$f":"IF(E9=\"\",\"\",IF(B9>BBMKVPV,BBMKVPV*$G$6*C9/D9,B9*$G$6*C9/D9))","v":""},{"$f":"IF(zweizeilig!K4=\"\",\"\",zweizeilig!K4)","v":0},{"$f":"IF(E9=\"\",\"\",IF(B9>BBMKVPV,BBMKVPV*$I$6*C9/D9,B9*$I$6*C9/D9))","v":""},{"$f":"IF(zweizeilig!M4=\"\",\"\",zweizeilig!M4)","v":0},{"$f":"IF(E9=\"\",\"\",IF(B9>BBMAVRV,BBMAVRV*$K$6*C9/D9,B9*$K$6*C9/D9))","v":""},{"$f":"IF(zweizeilig!O4=\"\",\"\",zweizeilig!O4)","v":0},{"$f":"IF(E9=\"\",\"\",IF(B9>BBMAVRV,BBMAVRV*$M$6*C9/D9,B9*$M$6*C9/D9))","v":""},{"$f":"IF(zweizeilig!Q4=\"\",\"\",zweizeilig!Q4)","v":0},{"$f":"IF(C9=\"\",\"\",IF(D9=\"\",\"\",SUM(E10:N10)))","v":0}]
[null,null,null,null,{"$f":"IF(E9=\"\",\"\",MIN(E9,F9))","v":""},null,{"$f":"IF(G9=\"\",\"\",MIN(G9,H9))","v":""},null,{"$f":"IF(I9=\"\",\"\",MIN(I9,J9))","v":""},null,{"$f":"IF(K9=\"\",\"\",MIN(K9,L9))","v":""},null,{"$f":"IF(OR(M9=\"\",zweizeilig!S4<>\"ja\"),\"\",MIN(M9,N9))","v":""}]
[{"$f":"IF(zweizeilig!A6=\"\",\"\",zweizeilig!A6)","v":" "},{"$f":"IF(zweizeilig!E6=\"\",\"\",zweizeilig!E6)","v":0},{"$f":"IF(zweizeilig!F6=\"\",\"\",zweizeilig!F6)","v":0},{"$f":"IF(zweizeilig!G6=\"\",\"\",zweizeilig!G6)","v":0},{"$f":"IF(OR(B11=\"\",C11=\"\",D11=\"\"),\"\",IF(ISERROR(IF(B11>BBMAVRV,BBMAVRV*$E$6*C11/D11,B11*$E$6*C11/D11)),\"\",IF(B11>BBMAVRV,BBMAVRV*$E$6*C11/D11,B11*$E$6*C11/D11)))","v":""},{"$f":"IF(zweizeilig!I6=\"\",\"\",zweizeilig!I6)","v":0},{"$f":"IF(E11=\"\",\"\",IF(B11>BBMKVPV,BBMKVPV*$G$6*C11/D11,B11*$G$6*C11/D11))","v":""},{"$f":"IF(zweizeilig!K6=\"\",\"\",zweizeilig!K6)","v":0},{"$f":"IF(E11=\"\",\"\",IF(B11>BBMKVPV,BBMKVPV*$I$6*C11/D11,B11*$I$6*C11/D11))","v":""},{"$f":"IF(zweizeilig!M6=\"\",\"\",zweizeilig!M6)","v":0},{"$f":"IF(E11=\"\",\"\",IF(B11>BBMAVRV,BBMAVRV*$K$6*C11/D11,B11*$K$6*C11/D11))","v":""},{"$f":"IF(zweizeilig!O6=\"\",\"\",zweizeilig!O6)","v":0},{"$f":"IF(E11=\"\",\"\",IF(B11>BBMAVRV,BBMAVRV*$M$6*C11/D11,B11*$M$6*C11/D11))","v":""},{"$f":"IF(zweizeilig!Q6=\"\",\"\",zweizeilig!Q6)","v":0},{"$f":"IF(C11=\"\",\"\",IF(D11=\"\",\"\",SUM(E12:N12)))","v":0}]
[null,null,null,null,{"$f":"IF(E11=\"\",\"\",MIN(E11,F11))","v":""},null,{"$f":"IF(G11=\"\",\"\",MIN(G11,H11))","v":""},null,{"$f":"IF(I11=\"\",\"\",MIN(I11,J11))","v":""},null,{"$f":"IF(K11=\"\",\"\",MIN(K11,L11))","v":""},null,{"$f":"IF(OR(M11=\"\",zweizeilig!S6<>\"ja\"),\"\",MIN(M11,N11))","v":""}]
[{"$f":"IF(zweizeilig!A8=\"\",\"\",zweizeilig!A8)","v":" "},{"$f":"IF(zweizeilig!E8=\"\",\"\",zweizeilig!E8)","v":0},{"$f":"IF(zweizeilig!F8=\"\",\"\",zweizeilig!F8)","v":0},{"$f":"IF(zweizeilig!G8=\"\",\"\",zweizeilig!G8)","v":0},{"$f":"IF(OR(B13=\"\",C13=\"\",D13=\"\"),\"\",IF(ISERROR(IF(B13>BBMAVRV,BBMAVRV*$E$6*C13/D13,B13*$E$6*C13/D13)),\"\",IF(B13>BBMAVRV,BBMAVRV*$E$6*C13/D13,B13*$E$6*C13/D13)))","v":""},{"$f":"IF(zweizeilig!I8=\"\",\"\",zweizeilig!I8)","v":0},{"$f":"IF(E13=\"\",\"\",IF(B13>BBMKVPV,BBMKVPV*$G$6*C13/D13,B13*$G$6*C13/D13))","v":""},{"$f":"IF(zweizeilig!K8=\"\",\"\",zweizeilig!K8)","v":0},{"$f":"IF(E13=\"\",\"\",IF(B13>BBMKVPV,BBMKVPV*$I$6*C13/D13,B13*$I$6*C13/D13))","v":""},{"$f":"IF(zweizeilig!M8=\"\",\"\",zweizeilig!M8)","v":0},{"$f":"IF(E13=\"\",\"\",IF(B13>BBMAVRV,BBMAVRV*$K$6*C13/D13,B13*$K$6*C13/D13))","v":""},{"$f":"IF(zweizeilig!O8=\"\",\"\",zweizeilig!O8)","v":0},{"$f":"IF(E13=\"\",\"\",IF(B13>BBMAVRV,BBMAVRV*$M$6*C13/D13,B13*$M$6*C13/D13))","v":""},{"$f":"IF(zweizeilig!Q8=\"\",\"\",zweizeilig!Q8)","v":0},{"$f":"IF(C13=\"\",\"\",IF(D13=\"\",\"\",SUM(E14:N14)))","v":0}]
[null,null,null,null,{"$f":"IF(E13=\"\",\"\",MIN(E13,F13))","v":""},null,{"$f":"IF(G13=\"\",\"\",MIN(G13,H13))","v":""},null,{"$f":"IF(I13=\"\",\"\",MIN(I13,J13))","v":""},null,{"$f":"IF(K13=\"\",\"\",MIN(K13,L13))","v":""},null,{"$f":"IF(OR(M13=\"\",zweizeilig!S8<>\"ja\"),\"\",MIN(M13,N13))","v":""}]
[{"$f":"IF(zweizeilig!A10=\"\",\"\",zweizeilig!A10)","v":" "},{"$f":"IF(zweizeilig!E10=\"\",\"\",zweizeilig!E10)","v":0},{"$f":"IF(zweizeilig!F10=\"\",\"\",zweizeilig!F10)","v":0},{"$f":"IF(zweizeilig!G10=\"\",\"\",zweizeilig!G10)","v":0},{"$f":"IF(OR(B15=\"\",C15=\"\",D15=\"\"),\"\",IF(ISERROR(IF(B15>BBMAVRV,BBMAVRV*$E$6*C15/D15,B15*$E$6*C15/D15)),\"\",IF(B15>BBMAVRV,BBMAVRV*$E$6*C15/D15,B15*$E$6*C15/D15)))","v":""},{"$f":"IF(zweizeilig!I10=\"\",\"\",zweizeilig!I10)","v":0},{"$f":"IF(E15=\"\",\"\",IF(B15>BBMKVPV,BBMKVPV*$G$6*C15/D15,B15*$G$6*C15/D15))","v":""},{"$f":"IF(zweizeilig!K10=\"\",\"\",zweizeilig!K10)","v":0},{"$f":"IF(E15=\"\",\"\",IF(B15>BBMKVPV,BBMKVPV*$I$6*C15/D15,B15*$I$6*C15/D15))","v":""},{"$f":"IF(zweizeilig!M10=\"\",\"\",zweizeilig!M10)","v":0},{"$f":"IF(E15=\"\",\"\",IF(B15>BBMAVRV,BBMAVRV*$K$6*C15/D15,B15*$K$6*C15/D15))","v":""},{"$f":"IF(zweizeilig!O10=\"\",\"\",zweizeilig!O10)","v":0},{"$f":"IF(E15=\"\",\"\",IF(B15>BBMAVRV,BBMAVRV*$M$6*C15/D15,B15*$M$6*C15/D15))","v":""},{"$f":"IF(zweizeilig!Q10=\"\",\"\",zweizeilig!Q10)","v":0},{"$f":"IF(C15=\"\",\"\",IF(D15=\"\",\"\",SUM(E16:N16)))","v":0}]
[null,null,null,null,{"$f":"IF(E15=\"\",\"\",MIN(E15,F15))","v":""},null,{"$f":"IF(G15=\"\",\"\",MIN(G15,H15))","v":""},null,{"$f":"IF(I15=\"\",\"\",MIN(I15,J15))","v":""},null,{"$f":"IF(K15=\"\",\"\",MIN(K15,L15))","v":""},null,{"$f":"IF(OR(M15=\"\",zweizeilig!S10<>\"ja\"),\"\",MIN(M15,N15))","v":""}]
[{"$f":"IF(zweizeilig!A12=\"\",\"\",zweizeilig!A12)","v":" "},{"$f":"IF(zweizeilig!E12=\"\",\"\",zweizeilig!E12)","v":0},{"$f":"IF(zweizeilig!F12=\"\",\"\",zweizeilig!F12)","v":0},{"$f":"IF(zweizeilig!G12=\"\",\"\",zweizeilig!G12)","v":0},{"$f":"IF(OR(B17=\"\",C17=\"\",D17=\"\"),\"\",IF(ISERROR(IF(B17>BBMAVRV,BBMAVRV*$E$6*C17/D17,B17*$E$6*C17/D17)),\"\",IF(B17>BBMAVRV,BBMAVRV*$E$6*C17/D17,B17*$E$6*C17/D17)))","v":""},{"$f":"IF(zweizeilig!I12=\"\",\"\",zweizeilig!I12)","v":0},{"$f":"IF(E17=\"\",\"\",IF(B17>BBMKVPV,BBMKVPV*$G$6*C17/D17,B17*$G$6*C17/D17))","v":""},{"$f":"IF(zweizeilig!K12=\"\",\"\",zweizeilig!K12)","v":0},{"$f":"IF(E17=\"\",\"\",IF(B17>BBMKVPV,BBMKVPV*$I$6*C17/D17,B17*$I$6*C17/D17))","v":""},{"$f":"IF(zweizeilig!M12=\"\",\"\",zweizeilig!M12)","v":0},{"$f":"IF(E17=\"\",\"\",IF(B17>BBMAVRV,BBMAVRV*$K$6*C17/D17,B17*$K$6*C17/D17))","v":""},{"$f":"IF(zweizeilig!O12=\"\",\"\",zweizeilig!O12)","v":0},{"$f":"IF(E17=\"\",\"\",IF(B17>BBMAVRV,BBMAVRV*$M$6*C17/D17,B17*$M$6*C17/D17))","v":""},{"$f":"IF(zweizeilig!Q12=\"\",\"\",zweizeilig!Q12)","v":0},{"$f":"IF(C17=\"\",\"\",IF(D17=\"\",\"\",SUM(E18:N18)))","v":0}]
[null,null,null,null,{"$f":"IF(E17=\"\",\"\",MIN(E17,F17))","v":""},null,{"$f":"IF(G17=\"\",\"\",MIN(G17,H17))","v":""},null,{"$f":"IF(I17=\"\",\"\",MIN(I17,J17))","v":""},null,{"$f":"IF(K17=\"\",\"\",MIN(K17,L17))","v":""},null,{"$f":"IF(OR(M17=\"\",zweizeilig!S12<>\"ja\"),\"\",MIN(M17,N17))","v":""}]
[{"$f":"IF(zweizeilig!A14=\"\",\"\",zweizeilig!A14)","v":" "},{"$f":"IF(zweizeilig!E14=\"\",\"\",zweizeilig!E14)","v":0},{"$f":"IF(zweizeilig!F14=\"\",\"\",zweizeilig!F14)","v":0},{"$f":"IF(zweizeilig!G14=\"\",\"\",zweizeilig!G14)","v":0},{"$f":"IF(OR(B19=\"\",C19=\"\",D19=\"\"),\"\",IF(ISERROR(IF(B19>BBMAVRV,BBMAVRV*$E$6*C19/D19,B19*$E$6*C19/D19)),\"\",IF(B19>BBMAVRV,BBMAVRV*$E$6*C19/D19,B19*$E$6*C19/D19)))","v":""},{"$f":"IF(zweizeilig!I14=\"\",\"\",zweizeilig!I14)","v":0},{"$f":"IF(E19=\"\",\"\",IF(B19>BBMKVPV,BBMKVPV*$G$6*C19/D19,B19*$G$6*C19/D19))","v":""},{"$f":"IF(zweizeilig!K14=\"\",\"\",zweizeilig!K14)","v":0},{"$f":"IF(E19=\"\",\"\",IF(B19>BBMKVPV,BBMKVPV*$I$6*C19/D19,B19*$I$6*C19/D19))","v":""},{"$f":"IF(zweizeilig!M14=\"\",\"\",zweizeilig!M14)","v":0},{"$f":"IF(E19=\"\",\"\",IF(B19>BBMAVRV,BBMAVRV*$K$6*C19/D19,B19*$K$6*C19/D19))","v":""},{"$f":"IF(zweizeilig!O14=\"\",\"\",zweizeilig!O14)","v":0},{"$f":"IF(E19=\"\",\"\",IF(B19>BBMAVRV,BBMAVRV*$M$6*C19/D19,B19*$M$6*C19/D19))","v":""},{"$f":"IF(zweizeilig!Q14=\"\",\"\",zweizeilig!Q14)","v":0},{"$f":"IF(C19=\"\",\"\",IF(D19=\"\",\"\",SUM(E20:N20)))","v":0}]
[null,null,null,null,{"$f":"IF(E19=\"\",\"\",MIN(E19,F19))","v":""},null,{"$f":"IF(G19=\"\",\"\",MIN(G19,H19))","v":""},null,{"$f":"IF(I19=\"\",\"\",MIN(I19,J19))","v":""},null,{"$f":"IF(K19=\"\",\"\",MIN(K19,L19))","v":""},null,{"$f":"IF(OR(M19=\"\",zweizeilig!S14<>\"ja\"),\"\",MIN(M19,N19))","v":""}]
[{"$f":"IF(zweizeilig!A16=\"\",\"\",zweizeilig!A16)","v":" "},{"$f":"IF(zweizeilig!E16=\"\",\"\",zweizeilig!E16)","v":0},{"$f":"IF(zweizeilig!F16=\"\",\"\",zweizeilig!F16)","v":0},{"$f":"IF(zweizeilig!G16=\"\",\"\",zweizeilig!G16)","v":0},{"$f":"IF(OR(B21=\"\",C21=\"\",D21=\"\"),\"\",IF(ISERROR(IF(B21>BBMAVRV,BBMAVRV*$E$6*C21/D21,B21*$E$6*C21/D21)),\"\",IF(B21>BBMAVRV,BBMAVRV*$E$6*C21/D21,B21*$E$6*C21/D21)))","v":""},{"$f":"IF(zweizeilig!I16=\"\",\"\",zweizeilig!I16)","v":0},{"$f":"IF(E21=\"\",\"\",IF(B21>BBMKVPV,BBMKVPV*$G$6*C21/D21,B21*$G$6*C21/D21))","v":""},{"$f":"IF(zweizeilig!K16=\"\",\"\",zweizeilig!K16)","v":0},{"$f":"IF(E21=\"\",\"\",IF(B21>BBMKVPV,BBMKVPV*$I$6*C21/D21,B21*$I$6*C21/D21))","v":""},{"$f":"IF(zweizeilig!M16=\"\",\"\",zweizeilig!M16)","v":0},{"$f":"IF(E21=\"\",\"\",IF(B21>BBMAVRV,BBMAVRV*$K$6*C21/D21,B21*$K$6*C21/D21))","v":""},{"$f":"IF(zweizeilig!O16=\"\",\"\",zweizeilig!O16)","v":0},{"$f":"IF(E21=\"\",\"\",IF(B21>BBMAVRV,BBMAVRV*$M$6*C21/D21,B21*$M$6*C21/D21))","v":""},{"$f":"IF(zweizeilig!Q16=\"\",\"\",zweizeilig!Q16)","v":0},{"$f":"IF(C21=\"\",\"\",IF(D21=\"\",\"\",SUM(E22:N22)))","v":0}]
[null,null,null,null,{"$f":"IF(E21=\"\",\"\",MIN(E21,F21))","v":""},null,{"$f":"IF(G21=\"\",\"\",MIN(G21,H21))","v":""},null,{"$f":"IF(I21=\"\",\"\",MIN(I21,J21))","v":""},null,{"$f":"IF(K21=\"\",\"\",MIN(K21,L21))","v":""},null,{"$f":"IF(OR(M21=\"\",zweizeilig!S16<>\"ja\"),\"\",MIN(M21,N21))","v":""}]
[{"$f":"IF(zweizeilig!A18=\"\",\"\",zweizeilig!A18)","v":" "},{"$f":"IF(zweizeilig!E18=\"\",\"\",zweizeilig!E18)","v":0},{"$f":"IF(zweizeilig!F18=\"\",\"\",zweizeilig!F18)","v":0},{"$f":"IF(zweizeilig!G18=\"\",\"\",zweizeilig!G18)","v":0},{"$f":"IF(OR(B23=\"\",C23=\"\",D23=\"\"),\"\",IF(ISERROR(IF(B23>BBMAVRV,BBMAVRV*$E$6*C23/D23,B23*$E$6*C23/D23)),\"\",IF(B23>BBMAVRV,BBMAVRV*$E$6*C23/D23,B23*$E$6*C23/D23)))","v":""},{"$f":"IF(zweizeilig!I18=\"\",\"\",zweizeilig!I18)","v":0},{"$f":"IF(E23=\"\",\"\",IF(B23>BBMKVPV,BBMKVPV*$G$6*C23/D23,B23*$G$6*C23/D23))","v":""},{"$f":"IF(zweizeilig!K18=\"\",\"\",zweizeilig!K18)","v":0},{"$f":"IF(E23=\"\",\"\",IF(B23>BBMKVPV,BBMKVPV*$I$6*C23/D23,B23*$I$6*C23/D23))","v":""},{"$f":"IF(zweizeilig!M18=\"\",\"\",zweizeilig!M18)","v":0},{"$f":"IF(E23=\"\",\"\",IF(B23>BBMAVRV,BBMAVRV*$K$6*C23/D23,B23*$K$6*C23/D23))","v":""},{"$f":"IF(zweizeilig!O18=\"\",\"\",zweizeilig!O18)","v":0},{"$f":"IF(E23=\"\",\"\",IF(B23>BBMAVRV,BBMAVRV*$M$6*C23/D23,B23*$M$6*C23/D23))","v":""},{"$f":"IF(zweizeilig!Q18=\"\",\"\",zweizeilig!Q18)","v":0},{"$f":"IF(C23=\"\",\"\",IF(D23=\"\",\"\",SUM(E24:N24)))","v":0}]
[null,null,null,null,{"$f":"IF(E23=\"\",\"\",MIN(E23,F23))","v":""},null,{"$f":"IF(G23=\"\",\"\",MIN(G23,H23))","v":""},null,{"$f":"IF(I23=\"\",\"\",MIN(I23,J23))","v":""},null,{"$f":"IF(K23=\"\",\"\",MIN(K23,L23))","v":""},null,{"$f":"IF(OR(M23=\"\",zweizeilig!S18<>\"ja\"),\"\",MIN(M23,N23))","v":""}]
[{"$f":"IF(zweizeilig!A20=\"\",\"\",zweizeilig!A20)","v":" "},{"$f":"IF(zweizeilig!E20=\"\",\"\",zweizeilig!E20)","v":0},{"$f":"IF(zweizeilig!F20=\"\",\"\",zweizeilig!F20)","v":0},{"$f":"IF(zweizeilig!G20=\"\",\"\",zweizeilig!G20)","v":0},{"$f":"IF(OR(B25=\"\",C25=\"\",D25=\"\"),\"\",IF(ISERROR(IF(B25>BBMAVRV,BBMAVRV*$E$6*C25/D25,B25*$E$6*C25/D25)),\"\",IF(B25>BBMAVRV,BBMAVRV*$E$6*C25/D25,B25*$E$6*C25/D25)))","v":""},{"$f":"IF(zweizeilig!I20=\"\",\"\",zweizeilig!I20)","v":0},{"$f":"IF(E25=\"\",\"\",IF(B25>BBMKVPV,BBMKVPV*$G$6*C25/D25,B25*$G$6*C25/D25))","v":""},{"$f":"IF(zweizeilig!K20=\"\",\"\",zweizeilig!K20)","v":0},{"$f":"IF(E25=\"\",\"\",IF(B25>BBMKVPV,BBMKVPV*$I$6*C25/D25,B25*$I$6*C25/D25))","v":""},{"$f":"IF(zweizeilig!M20=\"\",\"\",zweizeilig!M20)","v":0},{"$f":"IF(E25=\"\",\"\",IF(B25>BBMAVRV,BBMAVRV*$K$6*C25/D25,B25*$K$6*C25/D25))","v":""},{"$f":"IF(zweizeilig!O20=\"\",\"\",zweizeilig!O20)","v":0},{"$f":"IF(E25=\"\",\"\",IF(B25>BBMAVRV,BBMAVRV*$M$6*C25/D25,B25*$M$6*C25/D25))","v":""},{"$f":"IF(zweizeilig!Q20=\"\",\"\",zweizeilig!Q20)","v":0},{"$f":"IF(C25=\"\",\"\",IF(D25=\"\",\"\",SUM(E26:N26)))","v":0}]
[null,null,null,null,{"$f":"IF(E25=\"\",\"\",MIN(E25,F25))","v":""},null,{"$f":"IF(G25=\"\",\"\",MIN(G25,H25))","v":""},null,{"$f":"IF(I25=\"\",\"\",MIN(I25,J25))","v":""},null,{"$f":"IF(K25=\"\",\"\",MIN(K25,L25))","v":""},null,{"$f":"IF(OR(M25=\"\",zweizeilig!S20<>\"ja\"),\"\",MIN(M25,N25))","v":""}]
[{"$f":"IF(zweizeilig!A22=\"\",\"\",zweizeilig!A22)","v":" "},{"$f":"IF(zweizeilig!E22=\"\",\"\",zweizeilig!E22)","v":0},{"$f":"IF(zweizeilig!F22=\"\",\"\",zweizeilig!F22)","v":0},{"$f":"IF(zweizeilig!G22=\"\",\"\",zweizeilig!G22)","v":0},{"$f":"IF(OR(B27=\"\",C27=\"\",D27=\"\"),\"\",IF(ISERROR(IF(B27>BBMAVRV,BBMAVRV*$E$6*C27/D27,B27*$E$6*C27/D27)),\"\",IF(B27>BBMAVRV,BBMAVRV*$E$6*C27/D27,B27*$E$6*C27/D27)))","v":""},{"$f":"IF(zweizeilig!I22=\"\",\"\",zweizeilig!I22)","v":0},{"$f":"IF(E27=\"\",\"\",IF(B27>BBMKVPV,BBMKVPV*$G$6*C27/D27,B27*$G$6*C27/D27))","v":""},{"$f":"IF(zweizeilig!K22=\"\",\"\",zweizeilig!K22)","v":0},{"$f":"IF(E27=\"\",\"\",IF(B27>BBMKVPV,BBMKVPV*$I$6*C27/D27,B27*$I$6*C27/D27))","v":""},{"$f":"IF(zweizeilig!M22=\"\",\"\",zweizeilig!M22)","v":0},{"$f":"IF(E27=\"\",\"\",IF(B27>BBMAVRV,BBMAVRV*$K$6*C27/D27,B27*$K$6*C27/D27))","v":""},{"$f":"IF(zweizeilig!O22=\"\",\"\",zweizeilig!O22)","v":0},{"$f":"IF(E27=\"\",\"\",IF(B27>BBMAVRV,BBMAVRV*$M$6*C27/D27,B27*$M$6*C27/D27))","v":""},{"$f":"IF(zweizeilig!Q22=\"\",\"\",zweizeilig!Q22)","v":0},{"$f":"IF(C27=\"\",\"\",IF(D27=\"\",\"\",SUM(E28:N28)))","v":0}]
[null,null,null,null,{"$f":"IF(E27=\"\",\"\",MIN(E27,F27))","v":""},null,{"$f":"IF(G27=\"\",\"\",MIN(G27,H27))","v":""},null,{"$f":"IF(I27=\"\",\"\",MIN(I27,J27))","v":""},null,{"$f":"IF(K27=\"\",\"\",MIN(K27,L27))","v":""},null,{"$f":"IF(OR(M27=\"\",zweizeilig!S22<>\"ja\"),\"\",MIN(M27,N27))","v":""}]
[{"$f":"IF(zweizeilig!A24=\"\",\"\",zweizeilig!A24)","v":" "},{"$f":"IF(zweizeilig!E24=\"\",\"\",zweizeilig!E24)","v":0},{"$f":"IF(zweizeilig!F24=\"\",\"\",zweizeilig!F24)","v":0},{"$f":"IF(zweizeilig!G24=\"\",\"\",zweizeilig!G24)","v":0},{"$f":"IF(OR(B29=\"\",C29=\"\",D29=\"\"),\"\",IF(ISERROR(IF(B29>BBMAVRV,BBMAVRV*$E$6*C29/D29,B29*$E$6*C29/D29)),\"\",IF(B29>BBMAVRV,BBMAVRV*$E$6*C29/D29,B29*$E$6*C29/D29)))","v":""},{"$f":"IF(zweizeilig!I24=\"\",\"\",zweizeilig!I24)","v":0},{"$f":"IF(E29=\"\",\"\",IF(B29>BBMKVPV,BBMKVPV*$G$6*C29/D29,B29*$G$6*C29/D29))","v":""},{"$f":"IF(zweizeilig!K24=\"\",\"\",zweizeilig!K24)","v":0},{"$f":"IF(E29=\"\",\"\",IF(B29>BBMKVPV,BBMKVPV*$I$6*C29/D29,B29*$I$6*C29/D29))","v":""},{"$f":"IF(zweizeilig!M24=\"\",\"\",zweizeilig!M24)","v":0},{"$f":"IF(E29=\"\",\"\",IF(B29>BBMAVRV,BBMAVRV*$K$6*C29/D29,B29*$K$6*C29/D29))","v":""},{"$f":"IF(zweizeilig!O24=\"\",\"\",zweizeilig!O24)","v":0},{"$f":"IF(E29=\"\",\"\",IF(B29>BBMAVRV,BBMAVRV*$M$6*C29/D29,B29*$M$6*C29/D29))","v":""},{"$f":"IF(zweizeilig!Q24=\"\",\"\",zweizeilig!Q24)","v":0},{"$f":"IF(C29=\"\",\"\",IF(D29=\"\",\"\",SUM(E30:N30)))","v":0}]
[null,null,null,null,{"$f":"IF(E29=\"\",\"\",MIN(E29,F29))","v":""},null,{"$f":"IF(G29=\"\",\"\",MIN(G29,H29))","v":""},null,{"$f":"IF(I29=\"\",\"\",MIN(I29,J29))","v":""},null,{"$f":"IF(K29=\"\",\"\",MIN(K29,L29))","v":""},null,{"$f":"IF(OR(M29=\"\",zweizeilig!S24<>\"ja\"),\"\",MIN(M29,N29))","v":""}]
[{"$f":"IF(zweizeilig!A26=\"\",\"\",zweizeilig!A26)","v":" "},{"$f":"IF(zweizeilig!E26=\"\",\"\",zweizeilig!E26)","v":0},{"$f":"IF(zweizeilig!F26=\"\",\"\",zweizeilig!F26)","v":0},{"$f":"IF(zweizeilig!G26=\"\",\"\",zweizeilig!G26)","v":0},{"$f":"IF(OR(B31=\"\",C31=\"\",D31=\"\"),\"\",IF(ISERROR(IF(B31>BBMAVRV,BBMAVRV*$E$6*C31/D31,B31*$E$6*C31/D31)),\"\",IF(B31>BBMAVRV,BBMAVRV*$E$6*C31/D31,B31*$E$6*C31/D31)))","v":""},{"$f":"IF(zweizeilig!I26=\"\",\"\",zweizeilig!I26)","v":0},{"$f":"IF(E31=\"\",\"\",IF(B31>BBMKVPV,BBMKVPV*$G$6*C31/D31,B31*$G$6*C31/D31))","v":""},{"$f":"IF(zweizeilig!K26=\"\",\"\",zweizeilig!K26)","v":0},{"$f":"IF(E31=\"\",\"\",IF(B31>BBMKVPV,BBMKVPV*$I$6*C31/D31,B31*$I$6*C31/D31))","v":""},{"$f":"IF(zweizeilig!M26=\"\",\"\",zweizeilig!M26)","v":0},{"$f":"IF(E31=\"\",\"\",IF(B31>BBMAVRV,BBMAVRV*$K$6*C31/D31,B31*$K$6*C31/D31))","v":""},{"$f":"IF(zweizeilig!O26=\"\",\"\",zweizeilig!O26)","v":0},{"$f":"IF(E31=\"\",\"\",IF(B31>BBMAVRV,BBMAVRV*$M$6*C31/D31,B31*$M$6*C31/D31))","v":""},{"$f":"IF(zweizeilig!Q26=\"\",\"\",zweizeilig!Q26)","v":0},{"$f":"IF(C31=\"\",\"\",IF(D31=\"\",\"\",SUM(E32:N32)))","v":0}]
[null,null,null,null,{"$f":"IF(E31=\"\",\"\",MIN(E31,F31))","v":""},null,{"$f":"IF(G31=\"\",\"\",MIN(G31,H31))","v":""},null,{"$f":"IF(I31=\"\",\"\",MIN(I31,J31))","v":""},null,{"$f":"IF(K31=\"\",\"\",MIN(K31,L31))","v":""},null,{"$f":"IF(OR(M31=\"\",zweizeilig!S26<>\"ja\"),\"\",MIN(M31,N31))","v":""}]
[{"$f":"IF(zweizeilig!A28=\"\",\"\",zweizeilig!A28)","v":" "},{"$f":"IF(zweizeilig!E28=\"\",\"\",zweizeilig!E28)","v":0},{"$f":"IF(zweizeilig!F28=\"\",\"\",zweizeilig!F28)","v":0},{"$f":"IF(zweizeilig!G28=\"\",\"\",zweizeilig!G28)","v":0},{"$f":"IF(OR(B33=\"\",C33=\"\",D33=\"\"),\"\",IF(ISERROR(IF(B33>BBMAVRV,BBMAVRV*$E$6*C33/D33,B33*$E$6*C33/D33)),\"\",IF(B33>BBMAVRV,BBMAVRV*$E$6*C33/D33,B33*$E$6*C33/D33)))","v":""},{"$f":"IF(zweizeilig!I28=\"\",\"\",zweizeilig!I28)","v":0},{"$f":"IF(E33=\"\",\"\",IF(B33>BBMKVPV,BBMKVPV*$G$6*C33/D33,B33*$G$6*C33/D33))","v":""},{"$f":"IF(zweizeilig!K28=\"\",\"\",zweizeilig!K28)","v":0},{"$f":"IF(E33=\"\",\"\",IF(B33>BBMKVPV,BBMKVPV*$I$6*C33/D33,B33*$I$6*C33/D33))","v":""},{"$f":"IF(zweizeilig!M28=\"\",\"\",zweizeilig!M28)","v":0},{"$f":"IF(E33=\"\",\"\",IF(B33>BBMAVRV,BBMAVRV*$K$6*C33/D33,B33*$K$6*C33/D33))","v":""},{"$f":"IF(zweizeilig!O28=\"\",\"\",zweizeilig!O28)","v":0},{"$f":"IF(E33=\"\",\"\",IF(B33>BBMAVRV,BBMAVRV*$M$6*C33/D33,B33*$M$6*C33/D33))","v":""},{"$f":"IF(zweizeilig!Q28=\"\",\"\",zweizeilig!Q28)","v":0},{"$f":"IF(C33=\"\",\"\",IF(D33=\"\",\"\",SUM(E34:N34)))","v":0}]
[null,null,null,null,{"$f":"IF(E33=\"\",\"\",MIN(E33,F33))","v":""},null,{"$f":"IF(G33=\"\",\"\",MIN(G33,H33))","v":""},null,{"$f":"IF(I33=\"\",\"\",MIN(I33,J33))","v":""},null,{"$f":"IF(K33=\"\",\"\",MIN(K33,L33))","v":""},null,{"$f":"IF(OR(M33=\"\",zweizeilig!S28<>\"ja\"),\"\",MIN(M33,N33))","v":""}]
[{"$f":"IF(zweizeilig!A30=\"\",\"\",zweizeilig!A30)","v":" "},{"$f":"IF(zweizeilig!E30=\"\",\"\",zweizeilig!E30)","v":0},{"$f":"IF(zweizeilig!F30=\"\",\"\",zweizeilig!F30)","v":0},{"$f":"IF(zweizeilig!G30=\"\",\"\",zweizeilig!G30)","v":0},{"$f":"IF(OR(B35=\"\",C35=\"\",D35=\"\"),\"\",IF(ISERROR(IF(B35>BBMAVRV,BBMAVRV*$E$6*C35/D35,B35*$E$6*C35/D35)),\"\",IF(B35>BBMAVRV,BBMAVRV*$E$6*C35/D35,B35*$E$6*C35/D35)))","v":""},{"$f":"IF(zweizeilig!I30=\"\",\"\",zweizeilig!I30)","v":0},{"$f":"IF(E35=\"\",\"\",IF(B35>BBMKVPV,BBMKVPV*$G$6*C35/D35,B35*$G$6*C35/D35))","v":""},{"$f":"IF(zweizeilig!K30=\"\",\"\",zweizeilig!K30)","v":0},{"$f":"IF(E35=\"\",\"\",IF(B35>BBMKVPV,BBMKVPV*$I$6*C35/D35,B35*$I$6*C35/D35))","v":""},{"$f":"IF(zweizeilig!M30=\"\",\"\",zweizeilig!M30)","v":0},{"$f":"IF(E35=\"\",\"\",IF(B35>BBMAVRV,BBMAVRV*$K$6*C35/D35,B35*$K$6*C35/D35))","v":""},{"$f":"IF(zweizeilig!O30=\"\",\"\",zweizeilig!O30)","v":0},{"$f":"IF(E35=\"\",\"\",IF(B35>BBMAVRV,BBMAVRV*$M$6*C35/D35,B35*$M$6*C35/D35))","v":""},{"$f":"IF(zweizeilig!Q30=\"\",\"\",zweizeilig!Q30)","v":0},{"$f":"IF(C35=\"\",\"\",IF(D35=\"\",\"\",SUM(E36:N36)))","v":0}]
[null,null,null,null,{"$f":"IF(E35=\"\",\"\",MIN(E35,F35))","v":""},null,{"$f":"IF(G35=\"\",\"\",MIN(G35,H35))","v":""},null,{"$f":"IF(I35=\"\",\"\",MIN(I35,J35))","v":""},null,{"$f":"IF(K35=\"\",\"\",MIN(K35,L35))","v":""},null,{"$f":"IF(OR(M35=\"\",zweizeilig!S30<>\"ja\"),\"\",MIN(M35,N35))","v":""}]
[{"$f":"IF(zweizeilig!A32=\"\",\"\",zweizeilig!A32)","v":" "},{"$f":"IF(zweizeilig!E32=\"\",\"\",zweizeilig!E32)","v":0},{"$f":"IF(zweizeilig!F32=\"\",\"\",zweizeilig!F32)","v":0},{"$f":"IF(zweizeilig!G32=\"\",\"\",zweizeilig!G32)","v":0},{"$f":"IF(OR(B37=\"\",C37=\"\",D37=\"\"),\"\",IF(ISERROR(IF(B37>BBMAVRV,BBMAVRV*$E$6*C37/D37,B37*$E$6*C37/D37)),\"\",IF(B37>BBMAVRV,BBMAVRV*$E$6*C37/D37,B37*$E$6*C37/D37)))","v":""},{"$f":"IF(zweizeilig!I32=\"\",\"\",zweizeilig!I32)","v":0},{"$f":"IF(E37=\"\",\"\",IF(B37>BBMKVPV,BBMKVPV*$G$6*C37/D37,B37*$G$6*C37/D37))","v":""},{"$f":"IF(zweizeilig!K32=\"\",\"\",zweizeilig!K32)","v":0},{"$f":"IF(E37=\"\",\"\",IF(B37>BBMKVPV,BBMKVPV*$I$6*C37/D37,B37*$I$6*C37/D37))","v":""},{"$f":"IF(zweizeilig!M32=\"\",\"\",zweizeilig!M32)","v":0},{"$f":"IF(E37=\"\",\"\",IF(B37>BBMAVRV,BBMAVRV*$K$6*C37/D37,B37*$K$6*C37/D37))","v":""},{"$f":"IF(zweizeilig!O32=\"\",\"\",zweizeilig!O32)","v":0},{"$f":"IF(E37=\"\",\"\",IF(B37>BBMAVRV,BBMAVRV*$M$6*C37/D37,B37*$M$6*C37/D37))","v":""},{"$f":"IF(zweizeilig!Q32=\"\",\"\",zweizeilig!Q32)","v":0},{"$f":"IF(C37=\"\",\"\",IF(D37=\"\",\"\",SUM(E38:N38)))","v":0}]
[null,null,null,null,{"$f":"IF(E37=\"\",\"\",MIN(E37,F37))","v":""},null,{"$f":"IF(G37=\"\",\"\",MIN(G37,H37))","v":""},null,{"$f":"IF(I37=\"\",\"\",MIN(I37,J37))","v":""},null,{"$f":"IF(K37=\"\",\"\",MIN(K37,L37))","v":""},null,{"$f":"IF(OR(M37=\"\",zweizeilig!S32<>\"ja\"),\"\",MIN(M37,N37))","v":""}]
[{"$f":"IF(zweizeilig!A34=\"\",\"\",zweizeilig!A34)","v":" "},{"$f":"IF(zweizeilig!E34=\"\",\"\",zweizeilig!E34)","v":0},{"$f":"IF(zweizeilig!F34=\"\",\"\",zweizeilig!F34)","v":0},{"$f":"IF(zweizeilig!G34=\"\",\"\",zweizeilig!G34)","v":0},{"$f":"IF(OR(B39=\"\",C39=\"\",D39=\"\"),\"\",IF(ISERROR(IF(B39>BBMAVRV,BBMAVRV*$E$6*C39/D39,B39*$E$6*C39/D39)),\"\",IF(B39>BBMAVRV,BBMAVRV*$E$6*C39/D39,B39*$E$6*C39/D39)))","v":""},{"$f":"IF(zweizeilig!I34=\"\",\"\",zweizeilig!I34)","v":0},{"$f":"IF(E39=\"\",\"\",IF(B39>BBMKVPV,BBMKVPV*$G$6*C39/D39,B39*$G$6*C39/D39))","v":""},{"$f":"IF(zweizeilig!K34=\"\",\"\",zweizeilig!K34)","v":0},{"$f":"IF(E39=\"\",\"\",IF(B39>BBMKVPV,BBMKVPV*$I$6*C39/D39,B39*$I$6*C39/D39))","v":""},{"$f":"IF(zweizeilig!M34=\"\",\"\",zweizeilig!M34)","v":0},{"$f":"IF(E39=\"\",\"\",IF(B39>BBMAVRV,BBMAVRV*$K$6*C39/D39,B39*$K$6*C39/D39))","v":""},{"$f":"IF(zweizeilig!O34=\"\",\"\",zweizeilig!O34)","v":0},{"$f":"IF(E39=\"\",\"\",IF(B39>BBMAVRV,BBMAVRV*$M$6*C39/D39,B39*$M$6*C39/D39))","v":""},{"$f":"IF(zweizeilig!Q34=\"\",\"\",zweizeilig!Q34)","v":0},{"$f":"IF(C39=\"\",\"\",IF(D39=\"\",\"\",SUM(E40:N40)))","v":0}]
[null,null,null,null,{"$f":"IF(E39=\"\",\"\",MIN(E39,F39))","v":""},null,{"$f":"IF(G39=\"\",\"\",MIN(G39,H39))","v":""},null,{"$f":"IF(I39=\"\",\"\",MIN(I39,J39))","v":""},null,{"$f":"IF(K39=\"\",\"\",MIN(K39,L39))","v":""},null,{"$f":"IF(OR(M39=\"\",zweizeilig!S34<>\"ja\"),\"\",MIN(M39,N39))","v":""}]
[{"$f":"IF(zweizeilig!A36=\"\",\"\",zweizeilig!A36)","v":" "},{"$f":"IF(zweizeilig!E36=\"\",\"\",zweizeilig!E36)","v":0},{"$f":"IF(zweizeilig!F36=\"\",\"\",zweizeilig!F36)","v":0},{"$f":"IF(zweizeilig!G36=\"\",\"\",zweizeilig!G36)","v":0},{"$f":"IF(OR(B41=\"\",C41=\"\",D41=\"\"),\"\",IF(ISERROR(IF(B41>BBMAVRV,BBMAVRV*$E$6*C41/D41,B41*$E$6*C41/D41)),\"\",IF(B41>BBMAVRV,BBMAVRV*$E$6*C41/D41,B41*$E$6*C41/D41)))","v":""},{"$f":"IF(zweizeilig!I36=\"\",\"\",zweizeilig!I36)","v":0},{"$f":"IF(E41=\"\",\"\",IF(B41>BBMKVPV,BBMKVPV*$G$6*C41/D41,B41*$G$6*C41/D41))","v":""},{"$f":"IF(zweizeilig!K36=\"\",\"\",zweizeilig!K36)","v":0},{"$f":"IF(E41=\"\",\"\",IF(B41>BBMKVPV,BBMKVPV*$I$6*C41/D41,B41*$I$6*C41/D41))","v":""},{"$f":"IF(zweizeilig!M36=\"\",\"\",zweizeilig!M36)","v":0},{"$f":"IF(E41=\"\",\"\",IF(B41>BBMAVRV,BBMAVRV*$K$6*C41/D41,B41*$K$6*C41/D41))","v":""},{"$f":"IF(zweizeilig!O36=\"\",\"\",zweizeilig!O36)","v":0},{"$f":"IF(E41=\"\",\"\",IF(B41>BBMAVRV,BBMAVRV*$M$6*C41/D41,B41*$M$6*C41/D41))","v":""},{"$f":"IF(zweizeilig!Q36=\"\",\"\",zweizeilig!Q36)","v":0},{"$f":"IF(C41=\"\",\"\",IF(D41=\"\",\"\",SUM(E42:N42)))","v":0}]
[null,null,null,null,{"$f":"IF(E41=\"\",\"\",MIN(E41,F41))","v":""},null,{"$f":"IF(G41=\"\",\"\",MIN(G41,H41))","v":""},null,{"$f":"IF(I41=\"\",\"\",MIN(I41,J41))","v":""},null,{"$f":"IF(K41=\"\",\"\",MIN(K41,L41))","v":""},null,{"$f":"IF(OR(M41=\"\",zweizeilig!S36<>\"ja\"),\"\",MIN(M41,N41))","v":""}]
[null,null,null,null,"Summe AV:",{"$f":"SUM('Anlage 3:Seite 7'!E8:F8,'Anlage 3:Seite 7'!E10:F10,'Anlage 3:Seite 7'!E12:F12,'Anlage 3:Seite 7'!E14:F14,'Anlage 3:Seite 7'!E16:F16,'Anlage 3:Seite 7'!E18:F18,'Anlage 3:Seite 7'!E20:F20,'Anlage 3:Seite 7'!E22:F22,'Anlage 3:Seite 7'!E24:F24,'Anlage 3:Seite 7'!E26:F26,'Anlage 3:Seite 7'!E28:F28,'Anlage 3:Seite 7'!E30:F30,'Anlage 3:Seite 7'!E32:F32,'Anlage 3:Seite 7'!E34:F34,'Anlage 3:Seite 7'!E36:F36,'Anlage 3:Seite 7'!E38:F38,'Anlage 3:Seite 7'!E40:F40,'Anlage 3:Seite 7'!E42:F42)","v":0},null,"Summe RV:",{"$f":"SUM('Anlage 3:Seite 7'!K8:L8,'Anlage 3:Seite 7'!K10:L10,'Anlage 3:Seite 7'!K12:L12,'Anlage 3:Seite 7'!K14:L14,'Anlage 3:Seite 7'!K16:L16,'Anlage 3:Seite 7'!K18:L18,'Anlage 3:Seite 7'!K20:L20,'Anlage 3:Seite 7'!K22:L22,'Anlage 3:Seite 7'!K24:L24,'Anlage 3:Seite 7'!K26:L26,'Anlage 3:Seite 7'!K28:L28,'Anlage 3:Seite 7'!K30:L30,'Anlage 3:Seite 7'!K32:L32,'Anlage 3:Seite 7'!K34:L34,'Anlage 3:Seite 7'!K36:L36,'Anlage 3:Seite 7'!K38:L38,'Anlage 3:Seite 7'!K40:L40,'Anlage 3:Seite 7'!K42:L42)","v":0},null,"Übertrag von Seite 2",null,null,null,{"$f":"'Seite 2'!M41","v":0}]
[null,null,null,null,"Summe KV:",{"$f":"SUM('Anlage 3:Seite 7'!G8:H8,'Anlage 3:Seite 7'!G10:H10,'Anlage 3:Seite 7'!G12:H12,'Anlage 3:Seite 7'!G14:H14,'Anlage 3:Seite 7'!G16:H16,'Anlage 3:Seite 7'!G18:H18,'Anlage 3:Seite 7'!G20:H20,'Anlage 3:Seite 7'!G22:H22,'Anlage 3:Seite 7'!G24:H24,'Anlage 3:Seite 7'!G26:H26,'Anlage 3:Seite 7'!G28:H28,'Anlage 3:Seite 7'!G30:H30,'Anlage 3:Seite 7'!G32:H32,'Anlage 3:Seite 7'!G34:H34,'Anlage 3:Seite 7'!G36:H36,'Anlage 3:Seite 7'!G38:H38,'Anlage 3:Seite 7'!G40:H40,'Anlage 3:Seite 7'!G42:H42)","v":0},null,"Summe ZV:",{"$f":"SUM('Anlage 3:Seite 7'!M8:N8,'Anlage 3:Seite 7'!M10:N10,'Anlage 3:Seite 7'!M12:N12,'Anlage 3:Seite 7'!M14:N14,'Anlage 3:Seite 7'!M16:N16,'Anlage 3:Seite 7'!M18:N18,'Anlage 3:Seite 7'!M20:N20,'Anlage 3:Seite 7'!M22:N22,'Anlage 3:Seite 7'!M24:N24,'Anlage 3:Seite 7'!M26:N26,'Anlage 3:Seite 7'!M28:N28,'Anlage 3:Seite 7'!M30:N30,'Anlage 3:Seite 7'!M32:N32,'Anlage 3:Seite 7'!M34:N34,'Anlage 3:Seite 7'!M36:N36,'Anlage 3:Seite 7'!M38:N38,'Anlage 3:Seite 7'!M40:N40,'Anlage 3:Seite 7'!M42:N42)","v":0},null,"Übertrag von Seite 3",null,null,null,{"$f":"'Seite 3'!M41","v":0}]
[null,null,null,null,"Summe PV:",{"$f":"SUM('Anlage 3:Seite 7'!I8:J8,'Anlage 3:Seite 7'!I10:J10,'Anlage 3:Seite 7'!I12:J12,'Anlage 3:Seite 7'!I14:J14,'Anlage 3:Seite 7'!I16:J16,'Anlage 3:Seite 7'!I18:J18,'Anlage 3:Seite 7'!I20:J20,'Anlage 3:Seite 7'!I22:J22,'Anlage 3:Seite 7'!I24:J24,'Anlage 3:Seite 7'!I26:J26,'Anlage 3:Seite 7'!I28:J28,'Anlage 3:Seite 7'!I30:J30,'Anlage 3:Seite 7'!I32:J32,'Anlage 3:Seite 7'!I34:J34,'Anlage 3:Seite 7'!I36:J36,'Anlage 3:Seite 7'!I38:J38,'Anlage 3:Seite 7'!I40:J40,'Anlage 3:Seite 7'!I42:J42)","v":0},null,null,null,null,"Übertrag von Seite 4",null,null,null,{"$f":"'Seite 4'!M41","v":0}]
[null,null,null,null,"Kontrollsumme:",null,{"$f":"SUM(F43,F44,F45,I43,I44)","v":0},null,null,null,"Übertrag von Seite 5",null,null,null,{"$f":"'Seite 5'!M41","v":0}]
[null,null,null,null,null,null,null,null,null,null,"Übertrag von Seite 6",null,null,null,{"$f":"'Seite 6'!M41","v":0}]
[null,null,null,null,null,null,null,null,null,null,"Übertrag von Seite 7",null,null,null,{"$f":"'Seite 7'!M41","v":0}]
["*** Hier sind anzugeben die Unterrichtsstunden sowie die Anrechnungs- und Ermäßigungsstunden. ",null,null,null,null,null,null,null,null,null,null,null,{"$f":"SUM(O7:O48)","v":0}]
["Bitte beachten Sie dazu auch Nr. 3.6 Abs. 6 Satz 1 und 2 des Erlasses Mk vom 01.08.2007!"]

{"sheet":"Seite 2","index":2,"n_rows":41,"n_cols":15,"rows_kept":41,"cut":false,"hidden":false,"merged":[[2,12,2,14],[0,5,3,11],[1,12,1,14],[4,1,5,1],[4,2,4,3],[4,10,4,11],[4,12,4,13],[4,8,4,9],[4,6,4,7],[4,0,5,0],[8,14,9,14],[9,10,9,11],[9,12,9,13],[4,14,5,14],[6,1,7,1],[6,14,7,14],[7,12,7,13],[8,3,9,3],[4,4,4,5],[6,0,7,0],[8,0,9,0],[10,1,11,1],[6,2,7,2],[6,3,7,3],[10,14,11,14],[11,10,11,11],[11,12,11,13],[10,3,11,3],[8,1,9,1],[8,2,9,2],[7,10,7,11],[7,6,7,7],[9,6,9,7],[9,8,9,9],[7,4,7,5],[9,4,9,5],[7,8,7,9],[12,14,13,14],[13,10,13,11],[13,12,13,13],[12,1,13,1],[12,2,13,2],[12,3,13,3],[13,8,13,9],[14,14,15,14],[15,10,15,11],[15,12,15,13],[14,1,15,1],[14,2,15,2],[14,3,15,3],[15,8,15,9],[15,6,15,7],[16,14,17,14],[17,10,17,11],[17,12,17,13],[16,1,17,1],[16,2,17,2],[16,3,17,3],[17,8,17,9],[17,6,17,7],[18,14,19,14],[19,10,19,11],[19,12,19,13],[18,1,19,1],[18,2,19,2],[18,3,19,3],[19,8,19,9],[19,6,19,7],[19,4,19,5],[20,14,21,14],[21,10,21,11],[21,12,21,13],[20,1,21,1],[20,2,21,2],[20,3,21,3],[21,8,21,9],[21,6,21,7],[21,4,21,5],[22,14,23,14],[23,10,23,11],[23,12,23,13],[22,1,23,1],[22,2,23,2],[22,3,23,3],[23,8,23,9],[23,6,23,7],[23,4,23,5],[24,14,25,14],[25,10,25,11],[25,12,25,13],[24,1,25,1],[24,2,25,2],[24,3,25,3],[25,8,25,9],[25,6,25,7],[25,4,25,5],[26,14,27,14],[27,10,27,11],[27,12,27,13],[26,1,27,1],[26,2,27,2],[26,3,27,3],[27,8,27,9],[27,6,27,7],[27,4,27,5],[28,14,29,14],[29,10,29,11],[29,12,29,13],[28,1,29,1],[28,2,29,2],[28,3,29,3],[29,8,29,9],[29,6,29,7],[29,4,29,5],[30,1,31,1],[30,2,31,2],[30,3,31,3],[31,8,31,9],[31,6,31,7],[31,4,31,5],[32,1,33,1],[32,2,33,2],[32,3,33,3],[33,8,33,9],[33,6,33,7],[33,4,33,5],[36,14,37,14],[37,10,37,11],[37,12,37,13],[37,8,37,9],[34,1,35,1],[34,2,35,2],[34,3,35,3],[35,8,35,9],[35,6,35,7],[40,12,41,14],[38,14,39,14],[39,10,39,11],[39,12,39,13],[10,2,11,2],[39,8,39,9],[37,6,37,7],[34,14,35,14],[35,10,35,11],[35,12,35,13],[11,6,11,7],[13,6,13,7],[32,14,33,14],[33,10,33,11],[33,12,33,13],[30,14,31,14],[31,10,31,11],[31,12,31,13],[11,8,11,9],[39,6,39,7],[11,4,11,5],[13,4,13,5],[15,4,15,5],[17,4,17,5],[38,0,39,0],[39,4,39,5],[37,4,37,5],[35,4,35,5],[38,1,39,1],[38,2,39,2],[38,3,39,3],[36,1,37,1],[36,2,37,2],[36,3,37,3],[10,0,11,0],[12,0,13,0],[30,0,31,0],[32,0,33,0],[34,0,35,0],[36,0,37,0],[22,0,23,0],[24,0,25,0],[26,0,27,0],[28,0,29,0],[14,0,15,0],[16,0,17,0],[18,0,19,0],[20,0,21,0]]}
["Nachweis der Lehrkräfte, Bruttogehaltssummen und",null,null,null,null,null,null,null,null,null,null,null,null,null,"Anlage 3 zum Antrag auf Finanzhilfe"]
["Aufwendungen für die soziale Sicherung",null,null,null,null,null,null,null,null,null,null,null,{"$f":"'Anlage 3'!M2","v":"für das Schuljahr "}]
["Funktion: SL (Schulleitung), LK (Lehrkraft), PM (Pädagogische(r) Mitarbeiter(in))",null,null,null,null,null,null,null,null,null,null,null,{"$f":"'Anlage 3'!M3","v":"00:00:00"}]
["Hinweis: PM nur bei Förderschulen in vorgesehenen Schwerpunkten!"]
["Name und\nFunktion","rentenvers.-\npfl. Entgelt","Lehr-/Zusatzpersonal",null,"Arbeitslosenversicherung",null,"Krankenversicherung",null,"Pflegeversicherung",null,"Rentenversicherung",null,"Zusatzversicherung",null,"zu berück-\nsichtigen"]
[null,null,"tats. Std.","Vertragsstd.",{"$f":"'Anlage 3'!E6","v":""},"Ist",{"$f":"'Anlage 3'!G6","v":""},"Ist",{"$f":"'Anlage 3'!I6","v":""},"Ist",{"$f":"'Anlage 3'!K6","v":""},"Ist",{"$f":"'Anlage 3'!M6","v":""},"Ist"]
[{"$f":"IF(zweizeilig!A38=\"\",\"\",zweizeilig!A38)","v":" "},{"$f":"IF(zweizeilig!E38=\"\",\"\",zweizeilig!E38)","v":0},{"$f":"IF(zweizeilig!F38=\"\",\"\",zweizeilig!F38)","v":0},{"$f":"IF(zweizeilig!G38=\"\",\"\",zweizeilig!G38)","v":0},{"$f":"IF(OR(B7=\"\",C7=\"\",D7=\"\"),\"\",IF(ISERROR(IF(B7>BBMAVRV,BBMAVRV*$E$6*C7/D7,B7*$E$6*C7/D7)),\"\",IF(B7>BBMAVRV,BBMAVRV*$E$6*C7/D7,B7*$E$6*C7/D7)))","v":""},{"$f":"IF(zweizeilig!I38=\"\",\"\",zweizeilig!I38)","v":0},{"$f":"IF(E7=\"\",\"\",IF(B7>BBMKVPV,BBMKVPV*$G$6*C7/D7,B7*$G$6*C7/D7))","v":""},{"$f":"IF(zweizeilig!K38=\"\",\"\",zweizeilig!K38)","v":0},{"$f":"IF(E7=\"\",\"\",IF(B7>BBMKVPV,BBMKVPV*$I$6*C7/D7,B7*$I$6*C7/D7))","v":""},{"$f":"IF(zweizeilig!M38=\"\",\"\",zweizeilig!M38)","v":0},{"$f":"IF(E7=\"\",\"\",IF(B7>BBMAVRV,BBMAVRV*$K$6*C7/D7,B7*$K$6*C7/D7))","v":""},{"$f":"IF(zweizeilig!O38=\"\",\"\",zweizeilig!O38)","v":0},{"$f":"IF(E7=\"\",\"\",IF(B7>BBMAVRV,BBMAVRV*$M$6*C7/D7,B7*$M$6*C7/D7))","v":""},{"$f":"IF(zweizeilig!Q38=\"\",\"\",zweizeilig!Q38)","v":0},{"$f":"IF(C7=\"\",\"\",IF(D7=\"\",\"\",SUM(E8:N8)))","v":0}]
[null,null,null,null,{"$f":"IF(E7=\"\",\"\",MIN(E7,F7))","v":""},null,{"$f":"IF(G7=\"\",\"\",MIN(G7,H7))","v":""},null,{"$f":"IF(I7=\"\",\"\",MIN(I7,J7))","v":""},null,{"$f":"IF(K7=\"\",\"\",MIN(K7,L7))","v":""},null,{"$f":"IF(OR(M7=\"\",zweizeilig!S38<>\"ja\"),\"\",MIN(M7,N7))","v":""}]
[{"$f":"IF(zweizeilig!A40=\"\",\"\",zweizeilig!A40)","v":" "},{"$f":"IF(zweizeilig!E40=\"\",\"\",zweizeilig!E40)","v":0},{"$f":"IF(zweizeilig!F40=\"\",\"\",zweizeilig!F40)","v":0},{"$f":"IF(zweizeilig!G40=\"\",\"\",zweizeilig!G40)","v":0},{"$f":"IF(OR(B9=\"\",C9=\"\",D9=\"\"),\"\",IF(ISERROR(IF(B9>BBMAVRV,BBMAVRV*$E$6*C9/D9,B9*$E$6*C9/D9)),\"\",IF(B9>BBMAVRV,BBMAVRV*$E$6*C9/D9,B9*$E$6*C9/D9)))","v":""},{"$f":"IF(zweizeilig!I40=\"\",\"\",zweizeilig!I40)","v":0},{"$f":"IF(E9=\"\",\"\",IF(B9>BBMKVPV,BBMKVPV*$G$6*C9/D9,B9*$G$6*C9/D9))","v":""},{"$f":"IF(zweizeilig!K40=\"\",\"\",zweizeilig!K40)","v":0},{"$f":"IF(E9=\"\",\"\",IF(B9>BBMKVPV,BBMKVPV*$I$6*C9/D9,B9*$I$6*C9/D9))","v":""},{"$f":"IF(zweizeilig!M40=\"\",\"\",zweizeilig!M40)","v":0},{"$f":"IF(E9=\"\",\"\",IF(B9>BBMAVRV,BBMAVRV*$K$6*C9/D9,B9*$K$6*C9/D9))","v":""},{"$f":"IF(zweizeilig!O40=\"\",\"\",zweizeilig!O40)","v":0},{"$f":"IF(E9=\"\",\"\",IF(B9>BBMAVRV,BBMAVRV*$M$6*C9/D9,B9*$M$6*C9/D9))","v":""},{"$f":"IF(zweizeilig!Q40=\"\",\"\",zweizeilig!Q40)","v":0},{"$f":"IF(C9=\"\",\"\",IF(D9=\"\",\"\",SUM(E10:N10)))","v":0}]
[null,null,null,null,{"$f":"IF(E9=\"\",\"\",MIN(E9,F9))","v":""},null,{"$f":"IF(G9=\"\",\"\",MIN(G9,H9))","v":""},null,{"$f":"IF(I9=\"\",\"\",MIN(I9,J9))","v":""},null,{"$f":"IF(K9=\"\",\"\",MIN(K9,L9))","v":""},null,{"$f":"IF(OR(M9=\"\",zweizeilig!S40<>\"ja\"),\"\",MIN(M9,N9))","v":""}]
[{"$f":"IF(zweizeilig!A42=\"\",\"\",zweizeilig!A42)","v":" "},{"$f":"IF(zweizeilig!E42=\"\",\"\",zweizeilig!E42)","v":0},{"$f":"IF(zweizeilig!F42=\"\",\"\",zweizeilig!F42)","v":0},{"$f":"IF(zweizeilig!G42=\"\",\"\",zweizeilig!G42)","v":0},{"$f":"IF(OR(B11=\"\",C11=\"\",D11=\"\"),\"\",IF(ISERROR(IF(B11>BBMAVRV,BBMAVRV*$E$6*C11/D11,B11*$E$6*C11/D11)),\"\",IF(B11>BBMAVRV,BBMAVRV*$E$6*C11/D11,B11*$E$6*C11/D11)))","v":""},{"$f":"IF(zweizeilig!I42=\"\",\"\",zweizeilig!I42)","v":0},{"$f":"IF(E11=\"\",\"\",IF(B11>BBMKVPV,BBMKVPV*$G$6*C11/D11,B11*$G$6*C11/D11))","v":""},{"$f":"IF(zweizeilig!K42=\"\",\"\",zweizeilig!K42)","v":0},{"$f":"IF(E11=\"\",\"\",IF(B11>BBMKVPV,BBMKVPV*$I$6*C11/D11,B11*$I$6*C11/D11))","v":""},{"$f":"IF(zweizeilig!M42=\"\",\"\",zweizeilig!M42)","v":0},{"$f":"IF(E11=\"\",\"\",IF(B11>BBMAVRV,BBMAVRV*$K$6*C11/D11,B11*$K$6*C11/D11))","v":""},{"$f":"IF(zweizeilig!O42=\"\",\"\",zweizeilig!O42)","v":0},{"$f":"IF(E11=\"\",\"\",IF(B11>BBMAVRV,BBMAVRV*$M$6*C11/D11,B11*$M$6*C11/D11))","v":""},{"$f":"IF(zweizeilig!Q42=\"\",\"\",zweizeilig!Q42)","v":0},{"$f":"IF(C11=\"\",\"\",IF(D11=\"\",\"\",SUM(E12:N12)))","v":0}]
[null,null,null,null,{"$f":"IF(E11=\"\",\"\",MIN(E11,F11))","v":""},null,{"$f":"IF(G11=\"\",\"\",MIN(G11,H11))","v":""},null,{"$f":"IF(I11=\"\",\"\",MIN(I11,J11))","v":""},null,{"$f":"IF(K11=\"\",\"\",MIN(K11,L11))","v":""},null,{"$f":"IF(OR(M11=\"\",zweizeilig!S42<>\"ja\"),\"\",MIN(M11,N11))","v":""}]
[{"$f":"IF(zweizeilig!A44=\"\",\"\",zweizeilig!A44)","v":" "},{"$f":"IF(zweizeilig!E44=\"\",\"\",zweizeilig!E44)","v":0},{"$f":"IF(zweizeilig!F44=\"\",\"\",zweizeilig!F44)","v":0},{"$f":"IF(zweizeilig!G44=\"\",\"\",zweizeilig!G44)","v":0},{"$f":"IF(OR(B13=\"\",C13=\"\",D13=\"\"),\"\",IF(ISERROR(IF(B13>BBMAVRV,BBMAVRV*$E$6*C13/D13,B13*$E$6*C13/D13)),\"\",IF(B13>BBMAVRV,BBMAVRV*$E$6*C13/D13,B13*$E$6*C13/D13)))","v":""},{"$f":"IF(zweizeilig!I44=\"\",\"\",zweizeilig!I44)","v":0},{"$f":"IF(E13=\"\",\"\",IF(B13>BBMKVPV,BBMKVPV*$G$6*C13/D13,B13*$G$6*C13/D13))","v":""},{"$f":"IF(zweizeilig!K44=\"\",\"\",zweizeilig!K44)","v":0},{"$f":"IF(E13=\"\",\"\",IF(B13>BBMKVPV,BBMKVPV*$I$6*C13/D13,B13*$I$6*C13/D13))","v":""},{"$f":"IF(zweizeilig!M44=\"\",\"\",zweizeilig!M44)","v":0},{"$f":"IF(E13=\"\",\"\",IF(B13>BBMAVRV,BBMAVRV*$K$6*C13/D13,B13*$K$6*C13/D13))","v":""},{"$f":"IF(zweizeilig!O44=\"\",\"\",zweizeilig!O44)","v":0},{"$f":"IF(E13=\"\",\"\",IF(B13>BBMAVRV,BBMAVRV*$M$6*C13/D13,B13*$M$6*C13/D13))","v":""},{"$f":"IF(zweizeilig!Q44=\"\",\"\",zweizeilig!Q44)","v":0},{"$f":"IF(C13=\"\",\"\",IF(D13=\"\",\"\",SUM(E14:N14)))","v":0}]
[null,null,null,null,{"$f":"IF(E13=\"\",\"\",MIN(E13,F13))","v":""},null,{"$f":"IF(G13=\"\",\"\",MIN(G13,H13))","v":""},null,{"$f":"IF(I13=\"\",\"\",MIN(I13,J13))","v":""},null,{"$f":"IF(K13=\"\",\"\",MIN(K13,L13))","v":""},null,{"$f":"IF(OR(M13=\"\",zweizeilig!S44<>\"ja\"),\"\",MIN(M13,N13))","v":""}]
[{"$f":"IF(zweizeilig!A46=\"\",\"\",zweizeilig!A46)","v":" "},{"$f":"IF(zweizeilig!E46=\"\",\"\",zweizeilig!E46)","v":0},{"$f":"IF(zweizeilig!F46=\"\",\"\",zweizeilig!F46)","v":0},{"$f":"IF(zweizeilig!G46=\"\",\"\",zweizeilig!G46)","v":0},{"$f":"IF(OR(B15=\"\",C15=\"\",D15=\"\"),\"\",IF(ISERROR(IF(B15>BBMAVRV,BBMAVRV*$E$6*C15/D15,B15*$E$6*C15/D15)),\"\",IF(B15>BBMAVRV,BBMAVRV*$E$6*C15/D15,B15*$E$6*C15/D15)))","v":""},{"$f":"IF(zweizeilig!I46=\"\",\"\",zweizeilig!I46)","v":0},{"$f":"IF(E15=\"\",\"\",IF(B15>BBMKVPV,BBMKVPV*$G$6*C15/D15,B15*$G$6*C15/D15))","v":""},{"$f":"IF(zweizeilig!K46=\"\",\"\",zweizeilig!K46)","v":0},{"$f":"IF(E15=\"\",\"\",IF(B15>BBMKVPV,BBMKVPV*$I$6*C15/D15,B15*$I$6*C15/D15))","v":""},{"$f":"IF(zweizeilig!M46=\"\",\"\",zweizeilig!M46)","v":0},{"$f":"IF(E15=\"\",\"\",IF(B15>BBMAVRV,BBMAVRV*$K$6*C15/D15,B15*$K$6*C15/D15))","v":""},{"$f":"IF(zweizeilig!O46=\"\",\"\",zweizeilig!O46)","v":0},{"$f":"IF(E15=\"\",\"\",IF(B15>BBMAVRV,BBMAVRV*$M$6*C15/D15,B15*$M$6*C15/D15))","v":""},{"$f":"IF(zweizeilig!Q46=\"\",\"\",zweizeilig!Q46)","v":0},{"$f":"IF(C15=\"\",\"\",IF(D15=\"\",\"\",SUM(E16:N16)))","v":0}]
[null,null,null,null,{"$f":"IF(E15=\"\",\"\",MIN(E15,F15))","v":""},null,{"$f":"IF(G15=\"\",\"\",MIN(G15,H15))","v":""},null,{"$f":"IF(I15=\"\",\"\",MIN(I15,J15))","v":""},null,{"$f":"IF(K15=\"\",\"\",MIN(K15,L15))","v":""},null,{"$f":"IF(OR(M15=\"\",zweizeilig!S46<>\"ja\"),\"\",MIN(M15,N15))","v":""}]
[{"$f":"IF(zweizeilig!A48=\"\",\"\",zweizeilig!A48)","v":" "},{"$f":"IF(zweizeilig!E48=\"\",\"\",zweizeilig!E48)","v":0},{"$f":"IF(zweizeilig!F48=\"\",\"\",zweizeilig!F48)","v":0},{"$f":"IF(zweizeilig!G48=\"\",\"\",zweizeilig!G48)","v":0},{"$f":"IF(OR(B17=\"\",C17=\"\",D17=\"\"),\"\",IF(ISERROR(IF(B17>BBMAVRV,BBMAVRV*$E$6*C17/D17,B17*$E$6*C17/D17)),\"\",IF(B17>BBMAVRV,BBMAVRV*$E$6*C17/D17,B17*$E$6*C17/D17)))","v":""},{"$f":"IF(zweizeilig!I48=\"\",\"\",zweizeilig!I48)","v":0},{"$f":"IF(E17=\"\",\"\",IF(B17>BBMKVPV,BBMKVPV*$G$6*C17/D17,B17*$G$6*C17/D17))","v":""},{"$f":"IF(zweizeilig!K48=\"\",\"\",zweizeilig!K48)","v":0},{"$f":"IF(E17=\"\",\"\",IF(B17>BBMKVPV,BBMKVPV*$I$6*C17/D17,B17*$I$6*C17/D17))","v":""},{"$f":"IF(zweizeilig!M48=\"\",\"\",zweizeilig!M48)","v":0},{"$f":"IF(E17=\"\",\"\",IF(B17>BBMAVRV,BBMAVRV*$K$6*C17/D17,B17*$K$6*C17/D17))","v":""},{"$f":"IF(zweizeilig!O48=\"\",\"\",zweizeilig!O48)","v":0},{"$f":"IF(E17=\"\",\"\",IF(B17>BBMAVRV,BBMAVRV*$M$6*C17/D17,B17*$M$6*C17/D17))","v":""},{"$f":"IF(zweizeilig!Q48=\"\",\"\",zweizeilig!Q48)","v":0},{"$f":"IF(C17=\"\",\"\",IF(D17=\"\",\"\",SUM(E18:N18)))","v":0}]
[null,null,null,null,{"$f":"IF(E17=\"\",\"\",MIN(E17,F17))","v":""},null,{"$f":"IF(G17=\"\",\"\",MIN(G17,H17))","v":""},null,{"$f":"IF(I17=\"\",\"\",MIN(I17,J17))","v":""},null,{"$f":"IF(K17=\"\",\"\",MIN(K17,L17))","v":""},null,{"$f":"IF(OR(M17=\"\",zweizeilig!S48<>\"ja\"),\"\",MIN(M17,N17))","v":""}]
[{"$f":"IF(zweizeilig!A50=\"\",\"\",zweizeilig!A50)","v":" "},{"$f":"IF(zweizeilig!E50=\"\",\"\",zweizeilig!E50)","v":0},{"$f":"IF(zweizeilig!F50=\"\",\"\",zweizeilig!F50)","v":0},{"$f":"IF(zweizeilig!G50=\"\",\"\",zweizeilig!G50)","v":0},{"$f":"IF(OR(B19=\"\",C19=\"\",D19=\"\"),\"\",IF(ISERROR(IF(B19>BBMAVRV,BBMAVRV*$E$6*C19/D19,B19*$E$6*C19/D19)),\"\",IF(B19>BBMAVRV,BBMAVRV*$E$6*C19/D19,B19*$E$6*C19/D19)))","v":""},{"$f":"IF(zweizeilig!I50=\"\",\"\",zweizeilig!I50)","v":0},{"$f":"IF(E19=\"\",\"\",IF(B19>BBMKVPV,BBMKVPV*$G$6*C19/D19,B19*$G$6*C19/D19))","v":""},{"$f":"IF(zweizeilig!K50=\"\",\"\",zweizeilig!K50)","v":0},{"$f":"IF(E19=\"\",\"\",IF(B19>BBMKVPV,BBMKVPV*$I$6*C19/D19,B19*$I$6*C19/D19))","v":""},{"$f":"IF(zweizeilig!M50=\"\",\"\",zweizeilig!M50)","v":0},{"$f":"IF(E19=\"\",\"\",IF(B19>BBMAVRV,BBMAVRV*$K$6*C19/D19,B19*$K$6*C19/D19))","v":""},{"$f":"IF(zweizeilig!O50=\"\",\"\",zweizeilig!O50)","v":0},{"$f":"IF(E19=\"\",\"\",IF(B19>BBMAVRV,BBMAVRV*$M$6*C19/D19,B19*$M$6*C19/D19))","v":""},{"$f":"IF(zweizeilig!Q50=\"\",\"\",zweizeilig!Q50)","v":0},{"$f":"IF(C19=\"\",\"\",IF(D19=\"\",\"\",SUM(E20:N20)))","v":0}]
[null,null,null,null,{"$f":"IF(E19=\"\",\"\",MIN(E19,F19))","v":""},null,{"$f":"IF(G19=\"\",\"\",MIN(G19,H19))","v":""},null,{"$f":"IF(I19=\"\",\"\",MIN(I19,J19))","v":""},null,{"$f":"IF(K19=\"\",\"\",MIN(K19,L19))","v":""},null,{"$f":"IF(OR(M19=\"\",zweizeilig!S50<>\"ja\"),\"\",MIN(M19,N19))","v":""}]
[{"$f":"IF(zweizeilig!A52=\"\",\"\",zweizeilig!A52)","v":" "},{"$f":"IF(zweizeilig!E52=\"\",\"\",zweizeilig!E52)","v":0},{"$f":"IF(zweizeilig!F52=\"\",\"\",zweizeilig!F52)","v":0},{"$f":"IF(zweizeilig!G52=\"\",\"\",zweizeilig!G52)","v":0},{"$f":"IF(OR(B21=\"\",C21=\"\",D21=\"\"),\"\",IF(ISERROR(IF(B21>BBMAVRV,BBMAVRV*$E$6*C21/D21,B21*$E$6*C21/D21)),\"\",IF(B21>BBMAVRV,BBMAVRV*$E$6*C21/D21,B21*$E$6*C21/D21)))","v":""},{"$f":"IF(zweizeilig!I52=\"\",\"\",zweizeilig!I52)","v":0},{"$f":"IF(E21=\"\",\"\",IF(B21>BBMKVPV,BBMKVPV*$G$6*C21/D21,B21*$G$6*C21/D21))","v":""},{"$f":"IF(zweizeilig!K52=\"\",\"\",zweizeilig!K52)","v":0},{"$f":"IF(E21=\"\",\"\",IF(B21>BBMKVPV,BBMKVPV*$I$6*C21/D21,B21*$I$6*C21/D21))","v":""},{"$f":"IF(zweizeilig!M52=\"\",\"\",zweizeilig!M52)","v":0},{"$f":"IF(E21=\"\",\"\",IF(B21>BBMAVRV,BBMAVRV*$K$6*C21/D21,B21*$K$6*C21/D21))","v":""},{"$f":"IF(zweizeilig!O52=\"\",\"\",zweizeilig!O52)","v":0},{"$f":"IF(E21=\"\",\"\",IF(B21>BBMAVRV,BBMAVRV*$M$6*C21/D21,B21*$M$6*C21/D21))","v":""},{"$f":"IF(zweizeilig!Q52=\"\",\"\",zweizeilig!Q52)","v":0},{"$f":"IF(C21=\"\",\"\",IF(D21=\"\",\"\",SUM(E22:N22)))","v":0}]
[null,null,null,null,{"$f":"IF(E21=\"\",\"\",MIN(E21,F21))","v":""},null,{"$f":"IF(G21=\"\",\"\",MIN(G21,H21))","v":""},null,{"$f":"IF(I21=\"\",\"\",MIN(I21,J21))","v":""},null,{"$f":"IF(K21=\"\",\"\",MIN(K21,L21))","v":""},null,{"$f":"IF(OR(M21=\"\",zweizeilig!S52<>\"ja\"),\"\",MIN(M21,N21))","v":""}]
[{"$f":"IF(zweizeilig!A54=\"\",\"\",zweizeilig!A54)","v":" "},{"$f":"IF(zweizeilig!E54=\"\",\"\",zweizeilig!E54)","v":0},{"$f":"IF(zweizeilig!F54=\"\",\"\",zweizeilig!F54)","v":0},{"$f":"IF(zweizeilig!G54=\"\",\"\",zweizeilig!G54)","v":0},{"$f":"IF(OR(B23=\"\",C23=\"\",D23=\"\"),\"\",IF(ISERROR(IF(B23>BBMAVRV,BBMAVRV*$E$6*C23/D23,B23*$E$6*C23/D23)),\"\",IF(B23>BBMAVRV,BBMAVRV*$E$6*C23/D23,B23*$E$6*C23/D23)))","v":""},{"$f":"IF(zweizeilig!I54=\"\",\"\",zweizeilig!I54)","v":0},{"$f":"IF(E23=\"\",\"\",IF(B23>BBMKVPV,BBMKVPV*$G$6*C23/D23,B23*$G$6*C23/D23))","v":""},{"$f":"IF(zweizeilig!K54=\"\",\"\",zweizeilig!K54)","v":0},{"$f":"IF(E23=\"\",\"\",IF(B23>BBMKVPV,BBMKVPV*$I$6*C23/D23,B23*$I$6*C23/D23))","v":""},{"$f":"IF(zweizeilig!M54=\"\",\"\",zweizeilig!M54)","v":0},{"$f":"IF(E23=\"\",\"\",IF(B23>BBMAVRV,BBMAVRV*$K$6*C23/D23,B23*$K$6*C23/D23))","v":""},{"$f":"IF(zweizeilig!O54=\"\",\"\",zweizeilig!O54)","v":0},{"$f":"IF(E23=\"\",\"\",IF(B23>BBMAVRV,BBMAVRV*$M$6*C23/D23,B23*$M$6*C23/D23))","v":""},{"$f":"IF(zweizeilig!Q54=\"\",\"\",zweizeilig!Q54)","v":0},{"$f":"IF(C23=\"\",\"\",IF(D23=\"\",\"\",SUM(E24:N24)))","v":0}]
[null,null,null,null,{"$f":"IF(E23=\"\",\"\",MIN(E23,F23))","v":""},null,{"$f":"IF(G23=\"\",\"\",MIN(G23,H23))","v":""},null,{"$f":"IF(I23=\"\",\"\",MIN(I23,J23))","v":""},null,{"$f":"IF(K23=\"\",\"\",MIN(K23,L23))","v":""},null,{"$f":"IF(OR(M23=\"\",zweizeilig!S54<>\"ja\"),\"\",MIN(M23,N23))","v":""}]
[{"$f":"IF(zweizeilig!A56=\"\",\"\",zweizeilig!A56)","v":" "},{"$f":"IF(zweizeilig!E56=\"\",\"\",zweizeilig!E56)","v":0},{"$f":"IF(zweizeilig!F56=\"\",\"\",zweizeilig!F56)","v":0},{"$f":"IF(zweizeilig!G56=\"\",\"\",zweizeilig!G56)","v":0},{"$f":"IF(OR(B25=\"\",C25=\"\",D25=\"\"),\"\",IF(ISERROR(IF(B25>BBMAVRV,BBMAVRV*$E$6*C25/D25,B25*$E$6*C25/D25)),\"\",IF(B25>BBMAVRV,BBMAVRV*$E$6*C25/D25,B25*$E$6*C25/D25)))","v":""},{"$f":"IF(zweizeilig!I56=\"\",\"\",zweizeilig!I56)","v":0},{"$f":"IF(E25=\"\",\"\",IF(B25>BBMKVPV,BBMKVPV*$G$6*C25/D25,B25*$G$6*C25/D25))","v":""},{"$f":"IF(zweizeilig!K56=\"\",\"\",zweizeilig!K56)","v":0},{"$f":"IF(E25=\"\",\"\",IF(B25>BBMKVPV,BBMKVPV*$I$6*C25/D25,B25*$I$6*C25/D25))","v":""},{"$f":"IF(zweizeilig!M56=\"\",\"\",zweizeilig!M56)","v":0},{"$f":"IF(E25=\"\",\"\",IF(B25>BBMAVRV,BBMAVRV*$K$6*C25/D25,B25*$K$6*C25/D25))","v":""},{"$f":"IF(zweizeilig!O56=\"\",\"\",zweizeilig!O56)","v":0},{"$f":"IF(E25=\"\",\"\",IF(B25>BBMAVRV,BBMAVRV*$M$6*C25/D25,B25*$M$6*C25/D25))","v":""},{"$f":"IF(zweizeilig!Q56=\"\",\"\",zweizeilig!Q56)","v":0},{"$f":"IF(C25=\"\",\"\",IF(D25=\"\",\"\",SUM(E26:N26)))","v":0}]
[null,null,null,null,{"$f":"IF(E25=\"\",\"\",MIN(E25,F25))","v":""},null,{"$f":"IF(G25=\"\",\"\",MIN(G25,H25))","v":""},null,{"$f":"IF(I25=\"\",\"\",MIN(I25,J25))","v":""},null,{"$f":"IF(K25=\"\",\"\",MIN(K25,L25))","v":""},null,{"$f":"IF(OR(M25=\"\",zweizeilig!S56<>\"ja\"),\"\",MIN(M25,N25))","v":""}]
[{"$f":"IF(zweizeilig!A58=\"\",\"\",zweizeilig!A58)","v":" "},{"$f":"IF(zweizeilig!E58=\"\",\"\",zweizeilig!E58)","v":0},{"$f":"IF(zweizeilig!F58=\"\",\"\",zweizeilig!F58)","v":0},{"$f":"IF(zweizeilig!G58=\"\",\"\",zweizeilig!G58)","v":0},{"$f":"IF(OR(B27=\"\",C27=\"\",D27=\"\"),\"\",IF(ISERROR(IF(B27>BBMAVRV,BBMAVRV*$E$6*C27/D27,B27*$E$6*C27/D27)),\"\",IF(B27>BBMAVRV,BBMAVRV*$E$6*C27/D27,B27*$E$6*C27/D27)))","v":""},{"$f":"IF(zweizeilig!I58=\"\",\"\",zweizeilig!I58)","v":0},{"$f":"IF(E27=\"\",\"\",IF(B27>BBMKVPV,BBMKVPV*$G$6*C27/D27,B27*$G$6*C27/D27))","v":""},{"$f":"IF(zweizeilig!K58=\"\",\"\",zweizeilig!K58)","v":0},{"$f":"IF(E27=\"\",\"\",IF(B27>BBMKVPV,BBMKVPV*$I$6*C27/D27,B27*$I$6*C27/D27))","v":""},{"$f":"IF(zweizeilig!M58=\"\",\"\",zweizeilig!M58)","v":0},{"$f":"IF(E27=\"\",\"\",IF(B27>BBMAVRV,BBMAVRV*$K$6*C27/D27,B27*$K$6*C27/D27))","v":""},{"$f":"IF(zweizeilig!O58=\"\",\"\",zweizeilig!O58)","v":0},{"$f":"IF(E27=\"\",\"\",IF(B27>BBMAVRV,BBMAVRV*$M$6*C27/D27,B27*$M$6*C27/D27))","v":""},{"$f":"IF(zweizeilig!Q58=\"\",\"\",zweizeilig!Q58)","v":0},{"$f":"IF(C27=\"\",\"\",IF(D27=\"\",\"\",SUM(E28:N28)))","v":0}]
[null,null,null,null,{"$f":"IF(E27=\"\",\"\",MIN(E27,F27))","v":""},null,{"$f":"IF(G27=\"\",\"\",MIN(G27,H27))","v":""},null,{"$f":"IF(I27=\"\",\"\",MIN(I27,J27))","v":""},null,{"$f":"IF(K27=\"\",\"\",MIN(K27,L27))","v":""},null,{"$f":"IF(OR(M27=\"\",zweizeilig!S58<>\"ja\"),\"\",MIN(M27,N27))","v":""}]
[{"$f":"IF(zweizeilig!A60=\"\",\"\",zweizeilig!A60)","v":" "},{"$f":"IF(zweizeilig!E60=\"\",\"\",zweizeilig!E60)","v":0},{"$f":"IF(zweizeilig!F60=\"\",\"\",zweizeilig!F60)","v":0},{"$f":"IF(zweizeilig!G60=\"\",\"\",zweizeilig!G60)","v":0},{"$f":"IF(OR(B29=\"\",C29=\"\",D29=\"\"),\"\",IF(ISERROR(IF(B29>BBMAVRV,BBMAVRV*$E$6*C29/D29,B29*$E$6*C29/D29)),\"\",IF(B29>BBMAVRV,BBMAVRV*$E$6*C29/D29,B29*$E$6*C29/D29)))","v":""},{"$f":"IF(zweizeilig!I60=\"\",\"\",zweizeilig!I60)","v":0},{"$f":"IF(E29=\"\",\"\",IF(B29>BBMKVPV,BBMKVPV*$G$6*C29/D29,B29*$G$6*C29/D29))","v":""},{"$f":"IF(zweizeilig!K60=\"\",\"\",zweizeilig!K60)","v":0},{"$f":"IF(E29=\"\",\"\",IF(B29>BBMKVPV,BBMKVPV*$I$6*C29/D29,B29*$I$6*C29/D29))","v":""},{"$f":"IF(zweizeilig!M60=\"\",\"\",zweizeilig!M60)","v":0},{"$f":"IF(E29=\"\",\"\",IF(B29>BBMAVRV,BBMAVRV*$K$6*C29/D29,B29*$K$6*C29/D29))","v":""},{"$f":"IF(zweizeilig!O60=\"\",\"\",zweizeilig!O60)","v":0},{"$f":"IF(E29=\"\",\"\",IF(B29>BBMAVRV,BBMAVRV*$M$6*C29/D29,B29*$M$6*C29/D29))","v":""},{"$f":"IF(zweizeilig!Q60=\"\",\"\",zweizeilig!Q60)","v":0},{"$f":"IF(C29=\"\",\"\",IF(D29=\"\",\"\",SUM(E30:N30)))","v":0}]
[null,null,null,null,{"$f":"IF(E29=\"\",\"\",MIN(E29,F29))","v":""},null,{"$f":"IF(G29=\"\",\"\",MIN(G29,H29))","v":""},null,{"$f":"IF(I29=\"\",\"\",MIN(I29,J29))","v":""},null,{"$f":"IF(K29=\"\",\"\",MIN(K29,L29))","v":""},null,{"$f":"IF(OR(M29=\"\",zweizeilig!S60<>\"ja\"),\"\",MIN(M29,N29))","v":""}]
[{"$f":"IF(zweizeilig!A62=\"\",\"\",zweizeilig!A62)","v":" "},{"$f":"IF(zweizeilig!E62=\"\",\"\",zweizeilig!E62)","v":0},{"$f":"IF(zweizeilig!F62=\"\",\"\",zweizeilig!F62)","v":0},{"$f":"IF(zweizeilig!G62=\"\",\"\",zweizeilig!G62)","v":0},{"$f":"IF(OR(B31=\"\",C31=\"\",D31=\"\"),\"\",IF(ISERROR(IF(B31>BBMAVRV,BBMAVRV*$E$6*C31/D31,B31*$E$6*C31/D31)),\"\",IF(B31>BBMAVRV,BBMAVRV*$E$6*C31/D31,B31*$E$6*C31/D31)))","v":""},{"$f":"IF(zweizeilig!I62=\"\",\"\",zweizeilig!I62)","v":0},{"$f":"IF(E31=\"\",\"\",IF(B31>BBMKVPV,BBMKVPV*$G$6*C31/D31,B31*$G$6*C31/D31))","v":""},{"$f":"IF(zweizeilig!K62=\"\",\"\",zweizeilig!K62)","v":0},{"$f":"IF(E31=\"\",\"\",IF(B31>BBMKVPV,BBMKVPV*$I$6*C31/D31,B31*$I$6*C31/D31))","v":""},{"$f":"IF(zweizeilig!M62=\"\",\"\",zweizeilig!M62)","v":0},{"$f":"IF(E31=\"\",\"\",IF(B31>BBMAVRV,BBMAVRV*$K$6*C31/D31,B31*$K$6*C31/D31))","v":""},{"$f":"IF(zweizeilig!O62=\"\",\"\",zweizeilig!O62)","v":0},{"$f":"IF(E31=\"\",\"\",IF(B31>BBMAVRV,BBMAVRV*$M$6*C31/D31,B31*$M$6*C31/D31))","v":""},{"$f":"IF(zweizeilig!Q62=\"\",\"\",zweizeilig!Q62)","v":0},{"$f":"IF(C31=\"\",\"\",IF(D31=\"\",\"\",SUM(E32:N32)))","v":0}]
[null,null,null,null,{"$f":"IF(E31=\"\",\"\",MIN(E31,F31))","v":""},null,{"$f":"IF(G31=\"\",\"\",MIN(G31,H31))","v":""},null,{"$f":"IF(I31=\"\",\"\",MIN(I31,J31))","v":""},null,{"$f":"IF(K31=\"\",\"\",MIN(K31,L31))","v":""},null,{"$f":"IF(OR(M31=\"\",zweizeilig!S62<>\"ja\"),\"\",MIN(M31,N31))","v":""}]
[{"$f":"IF(zweizeilig!A64=\"\",\"\",zweizeilig!A64)","v":" "},{"$f":"IF(zweizeilig!E64=\"\",\"\",zweizeilig!E64)","v":0},{"$f":"IF(zweizeilig!F64=\"\",\"\",zweizeilig!F64)","v":0},{"$f":"IF(zweizeilig!G64=\"\",\"\",zweizeilig!G64)","v":0},{"$f":"IF(OR(B33=\"\",C33=\"\",D33=\"\"),\"\",IF(ISERROR(IF(B33>BBMAVRV,BBMAVRV*$E$6*C33/D33,B33*$E$6*C33/D33)),\"\",IF(B33>BBMAVRV,BBMAVRV*$E$6*C33/D33,B33*$E$6*C33/D33)))","v":""},{"$f":"IF(zweizeilig!I64=\"\",\"\",zweizeilig!I64)","v":0},{"$f":"IF(E33=\"\",\"\",IF(B33>BBMKVPV,BBMKVPV*$G$6*C33/D33,B33*$G$6*C33/D33))","v":""},{"$f":"IF(zweizeilig!K64=\"\",\"\",zweizeilig!K64)","v":0},{"$f":"IF(E33=\"\",\"\",IF(B33>BBMKVPV,BBMKVPV*$I$6*C33/D33,B33*$I$6*C33/D33))","v":""},{"$f":"IF(zweizeilig!M64=\"\",\"\",zweizeilig!M64)","v":0},{"$f":"IF(E33=\"\",\"\",IF(B33>BBMAVRV,BBMAVRV*$K$6*C33/D33,B33*$K$6*C33/D33))","v":""},{"$f":"IF(zweizeilig!O64=\"\",\"\",zweizeilig!O64)","v":0},{"$f":"IF(E33=\"\",\"\",IF(B33>BBMAVRV,BBMAVRV*$M$6*C33/D33,B33*$M$6*C33/D33))","v":""},{"$f":"IF(zweizeilig!Q64=\"\",\"\",zweizeilig!Q64)","v":0},{"$f":"IF(C33=\"\",\"\",IF(D33=\"\",\"\",SUM(E34:N34)))","v":0}]
[null,null,null,null,{"$f":"IF(E33=\"\",\"\",MIN(E33,F33))","v":""},null,{"$f":"IF(G33=\"\",\"\",MIN(G33,H33))","v":""},null,{"$f":"IF(I33=\"\",\"\",MIN(I33,J33))","v":""},null,{"$f":"IF(K33=\"\",\"\",MIN(K33,L33))","v":""},null,{"$f":"IF(OR(M33=\"\",zweizeilig!S64<>\"ja\"),\"\",MIN(M33,N33))","v":""}]
[{"$f":"IF(zweizeilig!A66=\"\",\"\",zweizeilig!A66)","v":" "},{"$f":"IF(zweizeilig!E66=\"\",\"\",zweizeilig!E66)","v":0},{"$f":"IF(zweizeilig!F66=\"\",\"\",zweizeilig!F66)","v":0},{"$f":"IF(zweizeilig!G66=\"\",\"\",zweizeilig!G66)","v":0},{"$f":"IF(OR(B35=\"\",C35=\"\",D35=\"\"),\"\",IF(ISERROR(IF(B35>BBMAVRV,BBMAVRV*$E$6*C35/D35,B35*$E$6*C35/D35)),\"\",IF(B35>BBMAVRV,BBMAVRV*$E$6*C35/D35,B35*$E$6*C35/D35)))","v":""},{"$f":"IF(zweizeilig!I66=\"\",\"\",zweizeilig!I66)","v":0},{"$f":"IF(E35=\"\",\"\",IF(B35>BBMKVPV,BBMKVPV*$G$6*C35/D35,B35*$G$6*C35/D35))","v":""},{"$f":"IF(zweizeilig!K66=\"\",\"\",zweizeilig!K66)","v":0},{"$f":"IF(E35=\"\",\"\",IF(B35>BBMKVPV,BBMKVPV*$I$6*C35/D35,B35*$I$6*C35/D35))","v":""},{"$f":"IF(zweizeilig!M66=\"\",\"\",zweizeilig!M66)","v":0},{"$f":"IF(E35=\"\",\"\",IF(B35>BBMAVRV,BBMAVRV*$K$6*C35/D35,B35*$K$6*C35/D35))","v":""},{"$f":"IF(zweizeilig!O66=\"\",\"\",zweizeilig!O66)","v":0},{"$f":"IF(E35=\"\",\"\",IF(B35>BBMAVRV,BBMAVRV*$M$6*C35/D35,B35*$M$6*C35/D35))","v":""},{"$f":"IF(zweizeilig!Q66=\"\",\"\",zweizeilig!Q66)","v":0},{"$f":"IF(C35=\"\",\"\",IF(D35=\"\",\"\",SUM(E36:N36)))","v":0}]
[null,null,null,null,{"$f":"IF(E35=\"\",\"\",MIN(E35,F35))","v":""},null,{"$f":"IF(G35=\"\",\"\",MIN(G35,H35))","v":""},null,{"$f":"IF(I35=\"\",\"\",MIN(I35,J35))","v":""},null,{"$f":"IF(K35=\"\",\"\",MIN(K35,L35))","v":""},null,{"$f":"IF(OR(M35=\"\",zweizeilig!S66<>\"ja\"),\"\",MIN(M35,N35))","v":""}]
[{"$f":"IF(zweizeilig!A68=\"\",\"\",zweizeilig!A68)","v":" "},{"$f":"IF(zweizeilig!E68=\"\",\"\",zweizeilig!E68)","v":0},{"$f":"IF(zweizeilig!F68=\"\",\"\",zweizeilig!F68)","v":0},{"$f":"IF(zweizeilig!G68=\"\",\"\",zweizeilig!G68)","v":0},{"$f":"IF(OR(B37=\"\",C37=\"\",D37=\"\"),\"\",IF(ISERROR(IF(B37>BBMAVRV,BBMAVRV*$E$6*C37/D37,B37*$E$6*C37/D37)),\"\",IF(B37>BBMAVRV,BBMAVRV*$E$6*C37/D37,B37*$E$6*C37/D37)))","v":""},{"$f":"IF(zweizeilig!I68=\"\",\"\",zweizeilig!I68)","v":0},{"$f":"IF(E37=\"\",\"\",IF(B37>BBMKVPV,BBMKVPV*$G$6*C37/D37,B37*$G$6*C37/D37))","v":""},{"$f":"IF(zweizeilig!K68=\"\",\"\",zweizeilig!K68)","v":0},{"$f":"IF(E37=\"\",\"\",IF(B37>BBMKVPV,BBMKVPV*$I$6*C37/D37,B37*$I$6*C37/D37))","v":""},{"$f":"IF(zweizeilig!M68=\"\",\"\",zweizeilig!M68)","v":0},{"$f":"IF(E37=\"\",\"\",IF(B37>BBMAVRV,BBMAVRV*$K$6*C37/D37,B37*$K$6*C37/D37))","v":""},{"$f":"IF(zweizeilig!O68=\"\",\"\",zweizeilig!O68)","v":0},{"$f":"IF(E37=\"\",\"\",IF(B37>BBMAVRV,BBMAVRV*$M$6*C37/D37,B37*$M$6*C37/D37))","v":""},{"$f":"IF(zweizeilig!Q68=\"\",\"\",zweizeilig!Q68)","v":0},{"$f":"IF(C37=\"\",\"\",IF(D37=\"\",\"\",SUM(E38:N38)))","v":0}]
[null,null,null,null,{"$f":"IF(E37=\"\",\"\",MIN(E37,F37))","v":""},null,{"$f":"IF(G37=\"\",\"\",MIN(G37,H37))","v":""},null,{"$f":"IF(I37=\"\",\"\",MIN(I37,J37))","v":""},null,{"$f":"IF(K37=\"\",\"\",MIN(K37,L37))","v":""},null,{"$f":"IF(OR(M37=\"\",zweizeilig!S68<>\"ja\"),\"\",MIN(M37,N37))","v":""}]
[{"$f":"IF(zweizeilig!A70=\"\",\"\",zweizeilig!A70)","v":" "},{"$f":"IF(zweizeilig!E70=\"\",\"\",zweizeilig!E70)","v":0},{"$f":"IF(zweizeilig!F70=\"\",\"\",zweizeilig!F70)","v":0},{"$f":"IF(zweizeilig!G70=\"\",\"\",zweizeilig!G70)","v":0},{"$f":"IF(OR(B39=\"\",C39=\"\",D39=\"\"),\"\",IF(ISERROR(IF(B39>BBMAVRV,BBMAVRV*$E$6*C39/D39,B39*$E$6*C39/D39)),\"\",IF(B39>BBMAVRV,BBMAVRV*$E$6*C39/D39,B39*$E$6*C39/D39)))","v":""},{"$f":"IF(zweizeilig!I70=\"\",\"\",zweizeilig!I70)","v":0},{"$f":"IF(E39=\"\",\"\",IF(B39>BBMKVPV,BBMKVPV*$G$6*C39/D39,B39*$G$6*C39/D39))","v":""},{"$f":"IF(zweizeilig!K70=\"\",\"\",zweizeilig!K70)","v":0},{"$f":"IF(E39=\"\",\"\",IF(B39>BBMKVPV,BBMKVPV*$I$6*C39/D39,B39*$I$6*C39/D39))","v":""},{"$f":"IF(zweizeilig!M70=\"\",\"\",zweizeilig!M70)","v":0},{"$f":"IF(E39=\"\",\"\",IF(B39>BBMAVRV,BBMAVRV*$K$6*C39/D39,B39*$K$6*C39/D39))","v":""},{"$f":"IF(zweizeilig!O70=\"\",\"\",zweizeilig!O70)","v":0},{"$f":"IF(E39=\"\",\"\",IF(B39>BBMAVRV,BBMAVRV*$M$6*C39/D39,B39*$M$6*C39/D39))","v":""},{"$f":"IF(zweizeilig!Q70=\"\",\"\",zweizeilig!Q70)","v":0},{"$f":"IF(C39=\"\",\"\",IF(D39=\"\",\"\",SUM(E40:N40)))","v":0}]
[null,null,null,null,{"$f":"IF(E39=\"\",\"\",MIN(E39,F39))","v":""},null,{"$f":"IF(G39=\"\",\"\",MIN(G39,H39))","v":""},null,{"$f":"IF(I39=\"\",\"\",MIN(I39,J39))","v":""},null,{"$f":"IF(K39=\"\",\"\",MIN(K39,L39))","v":""},null,{"$f":"IF(OR(M39=\"\",zweizeilig!S70<>\"ja\"),\"\",MIN(M39,N39))","v":""}]
[null,null,null,null,null,null,null,null,null,null,null,null,{"$f":"SUM(O7:O40)","v":0}]

{"sheet":"Seite 3","index":3,"n_rows":41,"n_cols":15,"rows_kept":41,"cut":false,"hidden":false,"merged":[[34,14,35,14],[31,12,31,13],[30,14,31,14],[31,10,31,11],[39,8,39,9],[35,10,35,11],[35,12,35,13],[37,8,37,9],[31,8,31,9],[2,12,2,14],[0,5,3,11],[1,12,1,14],[32,14,33,14],[33,10,33,11],[33,12,33,13],[28,14,29,14],[29,10,29,11],[29,12,29,13],[26,14,27,14],[27,10,27,11],[27,12,27,13],[22,14,23,14],[23,10,23,11],[23,12,23,13],[18,14,19,14],[19,10,19,11],[19,12,19,13],[14,14,15,14],[15,10,15,11],[15,12,15,13],[31,4,31,5],[33,8,33,9],[27,8,27,9],[40,12,41,14],[36,14,37,14],[37,10,37,11],[37,12,37,13],[38,14,39,14],[39,10,39,11],[39,12,39,13],[28,1,29,1],[28,2,29,2],[28,3,29,3],[29,8,29,9],[29,6,29,7],[29,4,29,5],[33,6,33,7],[39,4,39,5],[37,4,37,5],[31,6,31,7],[37,6,37,7],[39,6,39,7],[35,6,35,7],[36,3,37,3],[35,8,35,9],[30,2,31,2],[34,3,35,3],[27,6,27,7],[27,4,27,5],[24,14,25,14],[25,10,25,11],[25,12,25,13],[24,1,25,1],[24,2,25,2],[24,3,25,3],[25,8,25,9],[25,6,25,7],[25,4,25,5],[23,8,23,9],[23,6,23,7],[23,4,23,5],[20,14,21,14],[21,10,21,11],[21,12,21,13],[20,1,21,1],[20,2,21,2],[20,3,21,3],[21,8,21,9],[21,6,21,7],[21,4,21,5],[19,8,19,9],[19,6,19,7],[19,4,19,5],[16,14,17,14],[17,10,17,11],[17,12,17,13],[16,1,17,1],[16,2,17,2],[16,3,17,3],[17,8,17,9],[17,4,17,5],[17,6,17,7],[15,8,15,9],[15,4,15,5],[15,6,15,7],[4,14,5,14],[6,1,7,1],[4,8,4,9],[7,8,7,9],[4,10,4,11],[4,12,4,13],[4,1,5,1],[4,2,4,3],[7,12,7,13],[6,14,7,14],[8,14,9,14],[9,12,9,13],[10,14,11,14],[12,14,13,14],[13,12,13,13],[11,12,11,13],[6,3,7,3],[4,0,5,0],[12,1,13,1],[12,2,13,2],[13,6,13,7],[13,4,13,5],[7,10,7,11],[6,0,7,0],[11,4,11,5],[7,4,7,5],[10,3,11,3],[9,10,9,11],[13,10,13,11],[11,10,11,11],[11,8,11,9],[9,8,9,9],[9,4,9,5],[13,8,13,9],[10,2,11,2],[4,6,4,7],[7,6,7,7],[9,6,9,7],[11,6,11,7],[6,2,7,2],[4,4,4,5],[30,3,31,3],[8,2,9,2],[8,3,9,3],[36,1,37,1],[8,1,9,1],[12,3,13,3],[34,1,35,1],[30,1,31,1],[34,2,35,2],[36,2,37,2],[10,1,11,1],[14,1,15,1],[14,2,15,2],[14,3,15,3],[18,1,19,1],[18,2,19,2],[18,3,19,3],[22,1,23,1],[22,2,23,2],[22,3,23,3],[26,1,27,1],[26,2,27,2],[26,3,27,3],[36,0,37,0],[38,0,39,0],[35,4,35,5],[32,1,33,1],[32,2,33,2],[32,3,33,3],[33,4,33,5],[38,1,39,1],[38,2,39,2],[38,3,39,3],[30,0,31,0],[32,0,33,0],[34,0,35,0],[24,0,25,0],[26,0,27,0],[28,0,29,0],[20,0,21,0],[22,0,23,0],[8,0,9,0],[10,0,11,0],[12,0,13,0],[14,0,15,0],[16,0,17,0],[18,0,19,0]]}
["Nachweis der Lehrkräfte, Bruttogehaltssummen und",null,null,null,null,null,null,null,null,null,null,null,null,null,"Anlage 3 zum Antrag auf Finanzhilfe"]
["Aufwendungen für die soziale Sicherung",null,null,null,null,null,null,null,null,null,null,null,{"$f":"'Anlage 3'!M2","v":"für das Schuljahr "}]
["Funktion: SL (Schulleitung), LK (Lehrkraft), PM (Pädagogische(r) Mitarbeiter(in))",null,null,null,null,null,null,null,null,null,null,null,{"$f":"'Anlage 3'!M3","v":"00:00:00"}]
["Hinweis: PM nur bei Förderschulen in vorgesehenen Schwerpunkten!"]
["Name und\nFunktion","rentenvers.-\npfl. Entgelt","Lehr-/Zusatzpersonal",null,"Arbeitslosenversicherung",null,"Krankenversicherung",null,"Pflegeversicherung",null,"Rentenversicherung",null,"Zusatzversicherung",null,"zu berück-\nsichtigen"]
[null,null,"tats. Std.","Vertragsstd.",{"$f":"'Anlage 3'!E6","v":""},"Ist",{"$f":"'Anlage 3'!G6","v":""},"Ist",{"$f":"'Anlage 3'!I6","v":""},"Ist",{"$f":"'Anlage 3'!K6","v":""},"Ist",{"$f":"'Anlage 3'!M6","v":""},"Ist"]
[{"$f":"IF(zweizeilig!A72=\"\",\"\",zweizeilig!A72)","v":" "},{"$f":"IF(zweizeilig!E72=\"\",\"\",zweizeilig!E72)","v":0},{"$f":"IF(zweizeilig!F72=\"\",\"\",zweizeilig!F72)","v":0},{"$f":"IF(zweizeilig!G72=\"\",\"\",zweizeilig!G72)","v":0},{"$f":"IF(OR(B7=\"\",C7=\"\",D7=\"\"),\"\",IF(ISERROR(IF(B7>BBMAVRV,BBMAVRV*$E$6*C7/D7,B7*$E$6*C7/D7)),\"\",IF(B7>BBMAVRV,BBMAVRV*$E$6*C7/D7,B7*$E$6*C7/D7)))","v":""},{"$f":"IF(zweizeilig!I72=\"\",\"\",zweizeilig!I72)","v":0},{"$f":"IF(E7=\"\",\"\",IF(B7>BBMKVPV,BBMKVPV*$G$6*C7/D7,B7*$G$6*C7/D7))","v":""},{"$f":"IF(zweizeilig!K72=\"\",\"\",zweizeilig!K72)","v":0},{"$f":"IF(E7=\"\",\"\",IF(B7>BBMKVPV,BBMKVPV*$I$6*C7/D7,B7*$I$6*C7/D7))","v":""},{"$f":"IF(zweizeilig!M72=\"\",\"\",zweizeilig!M72)","v":0},{"$f":"IF(E7=\"\",\"\",IF(B7>BBMAVRV,BBMAVRV*$K$6*C7/D7,B7*$K$6*C7/D7))","v":""},{"$f":"IF(zweizeilig!O72=\"\",\"\",zweizeilig!O72)","v":0},{"$f":"IF(E7=\"\",\"\",IF(B7>BBMAVRV,BBMAVRV*$M$6*C7/D7,B7*$M$6*C7/D7))","v":""},{"$f":"IF(zweizeilig!Q72=\"\",\"\",zweizeilig!Q72)","v":0},{"$f":"IF(C7=\"\",\"\",IF(D7=\"\",\"\",SUM(E8:N8)))","v":0}]
[null,null,null,null,{"$f":"IF(E7=\"\",\"\",MIN(E7,F7))","v":""},null,{"$f":"IF(G7=\"\",\"\",MIN(G7,H7))","v":""},null,{"$f":"IF(I7=\"\",\"\",MIN(I7,J7))","v":""},null,{"$f":"IF(K7=\"\",\"\",MIN(K7,L7))","v":""},null,{"$f":"IF(OR(M7=\"\",zweizeilig!S72<>\"ja\"),\"\",MIN(M7,N7))","v":""}]
[{"$f":"IF(zweizeilig!A74=\"\",\"\",zweizeilig!A74)","v":" "},{"$f":"IF(zweizeilig!E74=\"\",\"\",zweizeilig!E74)","v":0},{"$f":"IF(zweizeilig!F74=\"\",\"\",zweizeilig!F74)","v":0},{"$f":"IF(zweizeilig!G74=\"\",\"\",zweizeilig!G74)","v":0},{"$f":"IF(OR(B9=\"\",C9=\"\",D9=\"\"),\"\",IF(ISERROR(IF(B9>BBMAVRV,BBMAVRV*$E$6*C9/D9,B9*$E$6*C9/D9)),\"\",IF(B9>BBMAVRV,BBMAVRV*$E$6*C9/D9,B9*$E$6*C9/D9)))","v":""},{"$f":"IF(zweizeilig!I74=\"\",\"\",zweizeilig!I74)","v":0},{"$f":"IF(E9=\"\",\"\",IF(B9>BBMKVPV,BBMKVPV*$G$6*C9/D9,B9*$G$6*C9/D9))","v":""},{"$f":"IF(zweizeilig!K74=\"\",\"\",zweizeilig!K74)","v":0},{"$f":"IF(E9=\"\",\"\",IF(B9>BBMKVPV,BBMKVPV*$I$6*C9/D9,B9*$I$6*C9/D9))","v":""},{"$f":"IF(zweizeilig!M74=\"\",\"\",zweizeilig!M74)","v":0},{"$f":"IF(E9=\"\",\"\",IF(B9>BBMAVRV,BBMAVRV*$K$6*C9/D9,B9*$K$6*C9/D9))","v":""},{"$f":"IF(zweizeilig!O74=\"\",\"\",zweizeilig!O74)","v":0},{"$f":"IF(E9=\"\",\"\",IF(B9>BBMAVRV,BBMAVRV*$M$6*C9/D9,B9*$M$6*C9/D9))","v":""},{"$f":"IF(zweizeilig!Q74=\"\",\"\",zweizeilig!Q74)","v":0},{"$f":"IF(C9=\"\",\"\",IF(D9=\"\",\"\",SUM(E10:N10)))","v":0}]
[null,null,null,null,{"$f":"IF(E9=\"\",\"\",MIN(E9,F9))","v":""},null,{"$f":"IF(G9=\"\",\"\",MIN(G9,H9))","v":""},null,{"$f":"IF(I9=\"\",\"\",MIN(I9,J9))","v":""},null,{"$f":"IF(K9=\"\",\"\",MIN(K9,L9))","v":""},null,{"$f":"IF(OR(M9=\"\",zweizeilig!S74<>\"ja\"),\"\",MIN(M9,N9))","v":""}]
[{"$f":"IF(zweizeilig!A76=\"\",\"\",zweizeilig!A76)","v":" "},{"$f":"IF(zweizeilig!E76=\"\",\"\",zweizeilig!E76)","v":0},{"$f":"IF(zweizeilig!F76=\"\",\"\",zweizeilig!F76)","v":0},{"$f":"IF(zweizeilig!G76=\"\",\"\",zweizeilig!G76)","v":0},{"$f":"IF(OR(B11=\"\",C11=\"\",D11=\"\"),\"\",IF(ISERROR(IF(B11>BBMAVRV,BBMAVRV*$E$6*C11/D11,B11*$E$6*C11/D11)),\"\",IF(B11>BBMAVRV,BBMAVRV*$E$6*C11/D11,B11*$E$6*C11/D11)))","v":""},{"$f":"IF(zweizeilig!I76=\"\",\"\",zweizeilig!I76)","v":0},{"$f":"IF(E11=\"\",\"\",IF(B11>BBMKVPV,BBMKVPV*$G$6*C11/D11,B11*$G$6*C11/D11))","v":""},{"$f":"IF(zweizeilig!K76=\"\",\"\",zweizeilig!K76)","v":0},{"$f":"IF(E11=\"\",\"\",IF(B11>BBMKVPV,BBMKVPV*$I$6*C11/D11,B11*$I$6*C11/D11))","v":""},{"$f":"IF(zweizeilig!M76=\"\",\"\",zweizeilig!M76)","v":0},{"$f":"IF(E11=\"\",\"\",IF(B11>BBMAVRV,BBMAVRV*$K$6*C11/D11,B11*$K$6*C11/D11))","v":""},{"$f":"IF(zweizeilig!O76=\"\",\"\",zweizeilig!O76)","v":0},{"$f":"IF(E11=\"\",\"\",IF(B11>BBMAVRV,BBMAVRV*$M$6*C11/D11,B11*$M$6*C11/D11))","v":""},{"$f":"IF(zweizeilig!Q76=\"\",\"\",zweizeilig!Q76)","v":0},{"$f":"IF(C11=\"\",\"\",IF(D11=\"\",\"\",SUM(E12:N12)))","v":0}]
[null,null,null,null,{"$f":"IF(E11=\"\",\"\",MIN(E11,F11))","v":""},null,{"$f":"IF(G11=\"\",\"\",MIN(G11,H11))","v":""},null,{"$f":"IF(I11=\"\",\"\",MIN(I11,J11))","v":""},null,{"$f":"IF(K11=\"\",\"\",MIN(K11,L11))","v":""},null,{"$f":"IF(OR(M11=\"\",zweizeilig!S76<>\"ja\"),\"\",MIN(M11,N11))","v":""}]
[{"$f":"IF(zweizeilig!A78=\"\",\"\",zweizeilig!A78)","v":" "},{"$f":"IF(zweizeilig!E78=\"\",\"\",zweizeilig!E78)","v":0},{"$f":"IF(zweizeilig!F78=\"\",\"\",zweizeilig!F78)","v":0},{"$f":"IF(zweizeilig!G78=\"\",\"\",zweizeilig!G78)","v":0},{"$f":"IF(OR(B13=\"\",C13=\"\",D13=\"\"),\"\",IF(ISERROR(IF(B13>BBMAVRV,BBMAVRV*$E$6*C13/D13,B13*$E$6*C13/D13)),\"\",IF(B13>BBMAVRV,BBMAVRV*$E$6*C13/D13,B13*$E$6*C13/D13)))","v":""},{"$f":"IF(zweizeilig!I78=\"\",\"\",zweizeilig!I78)","v":0},{"$f":"IF(E13=\"\",\"\",IF(B13>BBMKVPV,BBMKVPV*$G$6*C13/D13,B13*$G$6*C13/D13))","v":""},{"$f":"IF(zweizeilig!K78=\"\",\"\",zweizeilig!K78)","v":0},{"$f":"IF(E13=\"\",\"\",IF(B13>BBMKVPV,BBMKVPV*$I$6*C13/D13,B13*$I$6*C13/D13))","v":""},{"$f":"IF(zweizeilig!M78=\"\",\"\",zweizeilig!M78)","v":0},{"$f":"IF(E13=\"\",\"\",IF(B13>BBMAVRV,BBMAVRV*$K$6*C13/D13,B13*$K$6*C13/D13))","v":""},{"$f":"IF(zweizeilig!O78=\"\",\"\",zweizeilig!O78)","v":0},{"$f":"IF(E13=\"\",\"\",IF(B13>BBMAVRV,BBMAVRV*$M$6*C13/D13,B13*$M$6*C13/D13))","v":""},{"$f":"IF(zweizeilig!Q78=\"\",\"\",zweizeilig!Q78)","v":0},{"$f":"IF(C13=\"\",\"\",IF(D13=\"\",\"\",SUM(E14:N14)))","v":0}]
[null,null,null,null,{"$f":"IF(E13=\"\",\"\",MIN(E13,F13))","v":""},null,{"$f":"IF(G13=\"\",\"\",MIN(G13,H13))","v":""},null,{"$f":"IF(I13=\"\",\"\",MIN(I13,J13))","v":""},null,{"$f":"IF(K13=\"\",\"\",MIN(K13,L13))","v":""},null,{"$f":"IF(OR(M13=\"\",zweizeilig!S78<>\"ja\"),\"\",MIN(M13,N13))","v":""}]
[{"$f":"IF(zweizeilig!A80=\"\",\"\",zweizeilig!A80)","v":" "},{"$f":"IF(zweizeilig!E80=\"\",\"\",zweizeilig!E80)","v":0},{"$f":"IF(zweizeilig!F80=\"\",\"\",zweizeilig!F80)","v":0},{"$f":"IF(zweizeilig!G80=\"\",\"\",zweizeilig!G80)","v":0},{"$f":"IF(OR(B15=\"\",C15=\"\",D15=\"\"),\"\",IF(ISERROR(IF(B15>BBMAVRV,BBMAVRV*$E$6*C15/D15,B15*$E$6*C15/D15)),\"\",IF(B15>BBMAVRV,BBMAVRV*$E$6*C15/D15,B15*$E$6*C15/D15)))","v":""},{"$f":"IF(zweizeilig!I80=\"\",\"\",zweizeilig!I80)","v":0},{"$f":"IF(E15=\"\",\"\",IF(B15>BBMKVPV,BBMKVPV*$G$6*C15/D15,B15*$G$6*C15/D15))","v":""},{"$f":"IF(zweizeilig!K80=\"\",\"\",zweizeilig!K80)","v":0},{"$f":"IF(E15=\"\",\"\",IF(B15>BBMKVPV,BBMKVPV*$I$6*C15/D15,B15*$I$6*C15/D15))","v":""},{"$f":"IF(zweizeilig!M80=\"\",\"\",zweizeilig!M80)","v":0},{"$f":"IF(E15=\"\",\"\",IF(B15>BBMAVRV,BBMAVRV*$K$6*C15/D15,B15*$K$6*C15/D15))","v":""},{"$f":"IF(zweizeilig!O80=\"\",\"\",zweizeilig!O80)","v":0},{"$f":"IF(E15=\"\",\"\",IF(B15>BBMAVRV,BBMAVRV*$M$6*C15/D15,B15*$M$6*C15/D15))","v":""},{"$f":"IF(zweizeilig!Q80=\"\",\"\",zweizeilig!Q80)","v":0},{"$f":"IF(C15=\"\",\"\",IF(D15=\"\",\"\",SUM(E16:N16)))","v":0}]
[null,null,null,null,{"$f":"IF(E15=\"\",\"\",MIN(E15,F15))","v":""},null,{"$f":"IF(G15=\"\",\"\",MIN(G15,H15))","v":""},null,{"$f":"IF(I15=\"\",\"\",MIN(I15,J15))","v":""},null,{"$f":"IF(K15=\"\",\"\",MIN(K15,L15))","v":""},null,{"$f":"IF(OR(M15=\"\",zweizeilig!S80<>\"ja\"),\"\",MIN(M15,N15))","v":""}]
[{"$f":"IF(zweizeilig!A82=\"\",\"\",zweizeilig!A82)","v":" "},{"$f":"IF(zweizeilig!E82=\"\",\"\",zweizeilig!E82)","v":0},{"$f":"IF(zweizeilig!F82=\"\",\"\",zweizeilig!F82)","v":0},{"$f":"IF(zweizeilig!G82=\"\",\"\",zweizeilig!G82)","v":0},{"$f":"IF(OR(B17=\"\",C17=\"\",D17=\"\"),\"\",IF(ISERROR(IF(B17>BBMAVRV,BBMAVRV*$E$6*C17/D17,B17*$E$6*C17/D17)),\"\",IF(B17>BBMAVRV,BBMAVRV*$E$6*C17/D17,B17*$E$6*C17/D17)))","v":""},{"$f":"IF(zweizeilig!I82=\"\",\"\",zweizeilig!I82)","v":0},{"$f":"IF(E17=\"\",\"\",IF(B17>BBMKVPV,BBMKVPV*$G$6*C17/D17,B17*$G$6*C17/D17))","v":""},{"$f":"IF(zweizeilig!K82=\"\",\"\",zweizeilig!K82)","v":0},{"$f":"IF(E17=\"\",\"\",IF(B17>BBMKVPV,BBMKVPV*$I$6*C17/D17,B17*$I$6*C17/D17))","v":""},{"$f":"IF(zweizeilig!M82=\"\",\"\",zweizeilig!M82)","v":0},{"$f":"IF(E17=\"\",\"\",IF(B17>BBMAVRV,BBMAVRV*$K$6*C17/D17,B17*$K$6*C17/D17))","v":""},{"$f":"IF(zweizeilig!O82=\"\",\"\",zweizeilig!O82)","v":0},{"$f":"IF(E17=\"\",\"\",IF(B17>BBMAVRV,BBMAVRV*$M$6*C17/D17,B17*$M$6*C17/D17))","v":""},{"$f":"IF(zweizeilig!Q82=\"\",\"\",zweizeilig!Q82)","v":0},{"$f":"IF(C17=\"\",\"\",IF(D17=\"\",\"\",SUM(E18:N18)))","v":0}]
[null,null,null,null,{"$f":"IF(E17=\"\",\"\",MIN(E17,F17))","v":""},null,{"$f":"IF(G17=\"\",\"\",MIN(G17,H17))","v":""},null,{"$f":"IF(I17=\"\",\"\",MIN(I17,J17))","v":""},null,{"$f":"IF(K17=\"\",\"\",MIN(K17,L17))","v":""},null,{"$f":"IF(OR(M17=\"\",zweizeilig!S82<>\"ja\"),\"\",MIN(M17,N17))","v":""}]
[{"$f":"IF(zweizeilig!A84=\"\",\"\",zweizeilig!A84)","v":" "},{"$f":"IF(zweizeilig!E84=\"\",\"\",zweizeilig!E84)","v":0},{"$f":"IF(zweizeilig!F84=\"\",\"\",zweizeilig!F84)","v":0},{"$f":"IF(zweizeilig!G84=\"\",\"\",zweizeilig!G84)","v":0},{"$f":"IF(OR(B19=\"\",C19=\"\",D19=\"\"),\"\",IF(ISERROR(IF(B19>BBMAVRV,BBMAVRV*$E$6*C19/D19,B19*$E$6*C19/D19)),\"\",IF(B19>BBMAVRV,BBMAVRV*$E$6*C19/D19,B19*$E$6*C19/D19)))","v":""},{"$f":"IF(zweizeilig!I84=\"\",\"\",zweizeilig!I84)","v":0},{"$f":"IF(E19=\"\",\"\",IF(B19>BBMKVPV,BBMKVPV*$G$6*C19/D19,B19*$G$6*C19/D19))","v":""},{"$f":"IF(zweizeilig!K84=\"\",\"\",zweizeilig!K84)","v":0},{"$f":"IF(E19=\"\",\"\",IF(B19>BBMKVPV,BBMKVPV*$I$6*C19/D19,B19*$I$6*C19/D19))","v":""},{"$f":"IF(zweizeilig!M84=\"\",\"\",zweizeilig!M84)","v":0},{"$f":"IF(E19=\"\",\"\",IF(B19>BBMAVRV,BBMAVRV*$K$6*C19/D19,B19*$K$6*C19/D19))","v":""},{"$f":"IF(zweizeilig!O84=\"\",\"\",zweizeilig!O84)","v":0},{"$f":"IF(E19=\"\",\"\",IF(B19>BBMAVRV,BBMAVRV*$M$6*C19/D19,B19*$M$6*C19/D19))","v":""},{"$f":"IF(zweizeilig!Q84=\"\",\"\",zweizeilig!Q84)","v":0},{"$f":"IF(C19=\"\",\"\",IF(D19=\"\",\"\",SUM(E20:N20)))","v":0}]
[null,null,null,null,{"$f":"IF(E19=\"\",\"\",MIN(E19,F19))","v":""},null,{"$f":"IF(G19=\"\",\"\",MIN(G19,H19))","v":""},null,{"$f":"IF(I19=\"\",\"\",MIN(I19,J19))","v":""},null,{"$f":"IF(K19=\"\",\"\",MIN(K19,L19))","v":""},null,{"$f":"IF(OR(M19=\"\",zweizeilig!S84<>\"ja\"),\"\",MIN(M19,N19))","v":""}]
[{"$f":"IF(zweizeilig!A86=\"\",\"\",zweizeilig!A86)","v":" "},{"$f":"IF(zweizeilig!E86=\"\",\"\",zweizeilig!E86)","v":0},{"$f":"IF(zweizeilig!F86=\"\",\"\",zweizeilig!F86)","v":0},{"$f":"IF(zweizeilig!G86=\"\",\"\",zweizeilig!G86)","v":0},{"$f":"IF(OR(B21=\"\",C21=\"\",D21=\"\"),\"\",IF(ISERROR(IF(B21>BBMAVRV,BBMAVRV*$E$6*C21/D21,B21*$E$6*C21/D21)),\"\",IF(B21>BBMAVRV,BBMAVRV*$E$6*C21/D21,B21*$E$6*C21/D21)))","v":""},{"$f":"IF(zweizeilig!I86=\"\",\"\",zweizeilig!I86)","v":0},{"$f":"IF(E21=\"\",\"\",IF(B21>BBMKVPV,BBMKVPV*$G$6*C21/D21,B21*$G$6*C21/D21))","v":""},{"$f":"IF(zweizeilig!K86=\"\",\"\",zweizeilig!K86)","v":0},{"$f":"IF(E21=\"\",\"\",IF(B21>BBMKVPV,BBMKVPV*$I$6*C21/D21,B21*$I$6*C21/D21))","v":""},{"$f":"IF(zweizeilig!M86=\"\",\"\",zweizeilig!M86)","v":0},{"$f":"IF(E21=\"\",\"\",IF(B21>BBMAVRV,BBMAVRV*$K$6*C21/D21,B21*$K$6*C21/D21))","v":""},{"$f":"IF(zweizeilig!O86=\"\",\"\",zweizeilig!O86)","v":0},{"$f":"IF(E21=\"\",\"\",IF(B21>BBMAVRV,BBMAVRV*$M$6*C21/D21,B21*$M$6*C21/D21))","v":""},{"$f":"IF(zweizeilig!Q86=\"\",\"\",zweizeilig!Q86)","v":0},{"$f":"IF(C21=\"\",\"\",IF(D21=\"\",\"\",SUM(E22:N22)))","v":0}]
[null,null,null,null,{"$f":"IF(E21=\"\",\"\",MIN(E21,F21))","v":""},null,{"$f":"IF(G21=\"\",\"\",MIN(G21,H21))","v":""},null,{"$f":"IF(I21=\"\",\"\",MIN(I21,J21))","v":""},null,{"$f":"IF(K21=\"\",\"\",MIN(K21,L21))","v":""},null,{"$f":"IF(OR(M21=\"\",zweizeilig!S86<>\"ja\"),\"\",MIN(M21,N21))","v":""}]
[{"$f":"IF(zweizeilig!A88=\"\",\"\",zweizeilig!A88)","v":" "},{"$f":"IF(zweizeilig!E88=\"\",\"\",zweizeilig!E88)","v":0},{"$f":"IF(zweizeilig!F88=\"\",\"\",zweizeilig!F88)","v":0},{"$f":"IF(zweizeilig!G88=\"\",\"\",zweizeilig!G88)","v":0},{"$f":"IF(OR(B23=\"\",C23=\"\",D23=\"\"),\"\",IF(ISERROR(IF(B23>BBMAVRV,BBMAVRV*$E$6*C23/D23,B23*$E$6*C23/D23)),\"\",IF(B23>BBMAVRV,BBMAVRV*$E$6*C23/D23,B23*$E$6*C23/D23)))","v":""},{"$f":"IF(zweizeilig!I88=\"\",\"\",zweizeilig!I88)","v":0},{"$f":"IF(E23=\"\",\"\",IF(B23>BBMKVPV,BBMKVPV*$G$6*C23/D23,B23*$G$6*C23/D23))","v":""},{"$f":"IF(zweizeilig!K88=\"\",\"\",zweizeilig!K88)","v":0},{"$f":"IF(E23=\"\",\"\",IF(B23>BBMKVPV,BBMKVPV*$I$6*C23/D23,B23*$I$6*C23/D23))","v":""},{"$f":"IF(zweizeilig!M88=\"\",\"\",zweizeilig!M88)","v":0},{"$f":"IF(E23=\"\",\"\",IF(B23>BBMAVRV,BBMAVRV*$K$6*C23/D23,B23*$K$6*C23/D23))","v":""},{"$f":"IF(zweizeilig!O88=\"\",\"\",zweizeilig!O88)","v":0},{"$f":"IF(E23=\"\",\"\",IF(B23>BBMAVRV,BBMAVRV*$M$6*C23/D23,B23*$M$6*C23/D23))","v":""},{"$f":"IF(zweizeilig!Q88=\"\",\"\",zweizeilig!Q88)","v":0},{"$f":"IF(C23=\"\",\"\",IF(D23=\"\",\"\",SUM(E24:N24)))","v":0}]
[null,null,null,null,{"$f":"IF(E23=\"\",\"\",MIN(E23,F23))","v":""},null,{"$f":"IF(G23=\"\",\"\",MIN(G23,H23))","v":""},null,{"$f":"IF(I23=\"\",\"\",MIN(I23,J23))","v":""},null,{"$f":"IF(K23=\"\",\"\",MIN(K23,L23))","v":""},null,{"$f":"IF(OR(M23=\"\",zweizeilig!S88<>\"ja\"),\"\",MIN(M23,N23))","v":""}]
[{"$f":"IF(zweizeilig!A90=\"\",\"\",zweizeilig!A90)","v":" "},{"$f":"IF(zweizeilig!E90=\"\",\"\",zweizeilig!E90)","v":0},{"$f":"IF(zweizeilig!F90=\"\",\"\",zweizeilig!F90)","v":0},{"$f":"IF(zweizeilig!G90=\"\",\"\",zweizeilig!G90)","v":0},{"$f":"IF(OR(B25=\"\",C25=\"\",D25=\"\"),\"\",IF(ISERROR(IF(B25>BBMAVRV,BBMAVRV*$E$6*C25/D25,B25*$E$6*C25/D25)),\"\",IF(B25>BBMAVRV,BBMAVRV*$E$6*C25/D25,B25*$E$6*C25/D25)))","v":""},{"$f":"IF(zweizeilig!I90=\"\",\"\",zweizeilig!I90)","v":0},{"$f":"IF(E25=\"\",\"\",IF(B25>BBMKVPV,BBMKVPV*$G$6*C25/D25,B25*$G$6*C25/D25))","v":""},{"$f":"IF(zweizeilig!K90=\"\",\"\",zweizeilig!K90)","v":0},{"$f":"IF(E25=\"\",\"\",IF(B25>BBMKVPV,BBMKVPV*$I$6*C25/D25,B25*$I$6*C25/D25))","v":""},{"$f":"IF(zweizeilig!M90=\"\",\"\",zweizeilig!M90)","v":0},{"$f":"IF(E25=\"\",\"\",IF(B25>BBMAVRV,BBMAVRV*$K$6*C25/D25,B25*$K$6*C25/D25))","v":""},{"$f":"IF(zweizeilig!O90=\"\",\"\",zweizeilig!O90)","v":0},{"$f":"IF(E25=\"\",\"\",IF(B25>BBMAVRV,BBMAVRV*$M$6*C25/D25,B25*$M$6*C25/D25))","v":""},{"$f":"IF(zweizeilig!Q90=\"\",\"\",zweizeilig!Q90)","v":0},{"$f":"IF(C25=\"\",\"\",IF(D25=\"\",\"\",SUM(E26:N26)))","v":0}]
[null,null,null,null,{"$f":"IF(E25=\"\",\"\",MIN(E25,F25))","v":""},null,{"$f":"IF(G25=\"\",\"\",MIN(G25,H25))","v":""},null,{"$f":"IF(I25=\"\",\"\",MIN(I25,J25))","v":""},null,{"$f":"IF(K25=\"\",\"\",MIN(K25,L25))","v":""},null,{"$f":"IF(OR(M25=\"\",zweizeilig!S90<>\"ja\"),\"\",MIN(M25,N25))","v":""}]
[{"$f":"IF(zweizeilig!A92=\"\",\"\",zweizeilig!A92)","v":" "},{"$f":"IF(zweizeilig!E92=\"\",\"\",zweizeilig!E92)","v":0},{"$f":"IF(zweizeilig!F92=\"\",\"\",zweizeilig!F92)","v":0},{"$f":"IF(zweizeilig!G92=\"\",\"\",zweizeilig!G92)","v":0},{"$f":"IF(OR(B27=\"\",C27=\"\",D27=\"\"),\"\",IF(ISERROR(IF(B27>BBMAVRV,BBMAVRV*$E$6*C27/D27,B27*$E$6*C27/D27)),\"\",IF(B27>BBMAVRV,BBMAVRV*$E$6*C27/D27,B27*$E$6*C27/D27)))","v":""},{"$f":"IF(zweizeilig!I92=\"\",\"\",zweizeilig!I92)","v":0},{"$f":"IF(E27=\"\",\"\",IF(B27>BBMKVPV,BBMKVPV*$G$6*C27/D27,B27*$G$6*C27/D27))","v":""},{"$f":"IF(zweizeilig!K92=\"\",\"\",zweizeilig!K92)","v":0},{"$f":"IF(E27=\"\",\"\",IF(B27>BBMKVPV,BBMKVPV*$I$6*C27/D27,B27*$I$6*C27/D27))","v":""},{"$f":"IF(zweizeilig!M92=\"\",\"\",zweizeilig!M92)","v":0},{"$f":"IF(E27=\"\",\"\",IF(B27>BBMAVRV,BBMAVRV*$K$6*C27/D27,B27*$K$6*C27/D27))","v":""},{"$f":"IF(zweizeilig!O92=\"\",\"\",zweizeilig!O92)","v":0},{"$f":"IF(E27=\"\",\"\",IF(B27>BBMAVRV,BBMAVRV*$M$6*C27/D27,B27*$M$6*C27/D27))","v":""},{"$f":"IF(zweizeilig!Q92=\"\",\"\",zweizeilig!Q92)","v":0},{"$f":"IF(C27=\"\",\"\",IF(D27=\"\",\"\",SUM(E28:N28)))","v":0}]
[null,null,null,null,{"$f":"IF(E27=\"\",\"\",MIN(E27,F27))","v":""},null,{"$f":"IF(G27=\"\",\"\",MIN(G27,H27))","v":""},null,{"$f":"IF(I27=\"\",\"\",MIN(I27,J27))","v":""},null,{"$f":"IF(K27=\"\",\"\",MIN(K27,L27))","v":""},null,{"$f":"IF(OR(M27=\"\",zweizeilig!S92<>\"ja\"),\"\",MIN(M27,N27))","v":""}]
[{"$f":"IF(zweizeilig!A94=\"\",\"\",zweizeilig!A94)","v":" "},{"$f":"IF(zweizeilig!E94=\"\",\"\",zweizeilig!E94)","v":0},{"$f":"IF(zweizeilig!F94=\"\",\"\",zweizeilig!F94)","v":0},{"$f":"IF(zweizeilig!G94=\"\",\"\",zweizeilig!G94)","v":0},{"$f":"IF(OR(B29=\"\",C29=\"\",D29=\"\"),\"\",IF(ISERROR(IF(B29>BBMAVRV,BBMAVRV*$E$6*C29/D29,B29*$E$6*C29/D29)),\"\",IF(B29>BBMAVRV,BBMAVRV*$E$6*C29/D29,B29*$E$6*C29/D29)))","v":""},{"$f":"IF(zweizeilig!I94=\"\",\"\",zweizeilig!I94)","v":0},{"$f":"IF(E29=\"\",\"\",IF(B29>BBMKVPV,BBMKVPV*$G$6*C29/D29,B29*$G$6*C29/D29))","v":""},{"$f":"IF(zweizeilig!K94=\"\",\"\",zweizeilig!K94)","v":0},{"$f":"IF(E29=\"\",\"\",IF(B29>BBMKVPV,BBMKVPV*$I$6*C29/D29,B29*$I$6*C29/D29))","v":""},{"$f":"IF(zweizeilig!M94=\"\",\"\",zweizeilig!M94)","v":0},{"$f":"IF(E29=\"\",\"\",IF(B29>BBMAVRV,BBMAVRV*$K$6*C29/D29,B29*$K$6*C29/D29))","v":""},{"$f":"IF(zweizeilig!O94=\"\",\"\",zweizeilig!O94)","v":0},{"$f":"IF(E29=\"\",\"\",IF(B29>BBMAVRV,BBMAVRV*$M$6*C29/D29,B29*$M$6*C29/D29))","v":""},{"$f":"IF(zweizeilig!Q94=\"\",\"\",zweizeilig!Q94)","v":0},{"$f":"IF(C29=\"\",\"\",IF(D29=\"\",\"\",SUM(E30:N30)))","v":0}]
[null,null,null,null,{"$f":"IF(E29=\"\",\"\",MIN(E29,F29))","v":""},null,{"$f":"IF(G29=\"\",\"\",MIN(G29,H29))","v":""},null,{"$f":"IF(I29=\"\",\"\",MIN(I29,J29))","v":""},null,{"$f":"IF(K29=\"\",\"\",MIN(K29,L29))","v":""},null,{"$f":"IF(OR(M29=\"\",zweizeilig!S94<>\"ja\"),\"\",MIN(M29,N29))","v":""}]
[{"$f":"IF(zweizeilig!A96=\"\",\"\",zweizeilig!A96)","v":" "},{"$f":"IF(zweizeilig!E96=\"\",\"\",zweizeilig!E96)","v":0},{"$f":"IF(zweizeilig!F96=\"\",\"\",zweizeilig!F96)","v":0},{"$f":"IF(zweizeilig!G96=\"\",\"\",zweizeilig!G96)","v":0},{"$f":"IF(OR(B31=\"\",C31=\"\",D31=\"\"),\"\",IF(ISERROR(IF(B31>BBMAVRV,BBMAVRV*$E$6*C31/D31,B31*$E$6*C31/D31)),\"\",IF(B31>BBMAVRV,BBMAVRV*$E$6*C31/D31,B31*$E$6*C31/D31)))","v":""},{"$f":"IF(zweizeilig!I96=\"\",\"\",zweizeilig!I96)","v":0},{"$f":"IF(E31=\"\",\"\",IF(B31>BBMKVPV,BBMKVPV*$G$6*C31/D31,B31*$G$6*C31/D31))","v":""},{"$f":"IF(zweizeilig!K96=\"\",\"\",zweizeilig!K96)","v":0},{"$f":"IF(E31=\"\",\"\",IF(B31>BBMKVPV,BBMKVPV*$I$6*C31/D31,B31*$I$6*C31/D31))","v":""},{"$f":"IF(zweizeilig!M96=\"\",\"\",zweizeilig!M96)","v":0},{"$f":"IF(E31=\"\",\"\",IF(B31>BBMAVRV,BBMAVRV*$K$6*C31/D31,B31*$K$6*C31/D31))","v":""},{"$f":"IF(zweizeilig!O96=\"\",\"\",zweizeilig!O96)","v":0},{"$f":"IF(E31=\"\",\"\",IF(B31>BBMAVRV,BBMAVRV*$M$6*C31/D31,B31*$M$6*C31/D31))","v":""},{"$f":"IF(zweizeilig!Q96=\"\",\"\",zweizeilig!Q96)","v":0},{"$f":"IF(C31=\"\",\"\",IF(D31=\"\",\"\",SUM(E32:N32)))","v":0}]
[null,null,null,null,{"$f":"IF(E31=\"\",\"\",MIN(E31,F31))","v":""},null,{"$f":"IF(G31=\"\",\"\",MIN(G31,H31))","v":""},null,{"$f":"IF(I31=\"\",\"\",MIN(I31,J31))","v":""},null,{"$f":"IF(K31=\"\",\"\",MIN(K31,L31))","v":""},null,{"$f":"IF(OR(M31=\"\",zweizeilig!S96<>\"ja\"),\"\",MIN(M31,N31))","v":""}]
[{"$f":"IF(zweizeilig!A98=\"\",\"\",zweizeilig!A98)","v":" "},{"$f":"IF(zweizeilig!E98=\"\",\"\",zweizeilig!E98)","v":0},{"$f":"IF(zweizeilig!F98=\"\",\"\",zweizeilig!F98)","v":0},{"$f":"IF(zweizeilig!G98=\"\",\"\",zweizeilig!G98)","v":0},{"$f":"IF(OR(B33=\"\",C33=\"\",D33=\"\"),\"\",IF(ISERROR(IF(B33>BBMAVRV,BBMAVRV*$E$6*C33/D33,B33*$E$6*C33/D33)),\"\",IF(B33>BBMAVRV,BBMAVRV*$E$6*C33/D33,B33*$E$6*C33/D33)))","v":""},{"$f":"IF(zweizeilig!I98=\"\",\"\",zweizeilig!I98)","v":0},{"$f":"IF(E33=\"\",\"\",IF(B33>BBMKVPV,BBMKVPV*$G$6*C33/D33,B33*$G$6*C33/D33))","v":""},{"$f":"IF(zweizeilig!K98=\"\",\"\",zweizeilig!K98)","v":0},{"$f":"IF(E33=\"\",\"\",IF(B33>BBMKVPV,BBMKVPV*$I$6*C33/D33,B33*$I$6*C33/D33))","v":""},{"$f":"IF(zweizeilig!M98=\"\",\"\",zweizeilig!M98)","v":0},{"$f":"IF(E33=\"\",\"\",IF(B33>BBMAVRV,BBMAVRV*$K$6*C33/D33,B33*$K$6*C33/D33))","v":""},{"$f":"IF(zweizeilig!O98=\"\",\"\",zweizeilig!O98)","v":0},{"$f":"IF(E33=\"\",\"\",IF(B33>BBMAVRV,BBMAVRV*$M$6*C33/D33,B33*$M$6*C33/D33))","v":""},{"$f":"IF(zweizeilig!Q98=\"\",\"\",zweizeilig!Q98)","v":0},{"$f":"IF(C33=\"\",\"\",IF(D33=\"\",\"\",SUM(E34:N34)))","v":0}]
[null,null,null,null,{"$f":"IF(E33=\"\",\"\",MIN(E33,F33))","v":""},null,{"$f":"IF(G33=\"\",\"\",MIN(G33,H33))","v":""},null,{"$f":"IF(I33=\"\",\"\",MIN(I33,J33))","v":""},null,{"$f":"IF(K33=\"\",\"\",MIN(K33,L33))","v":""},null,{"$f":"IF(OR(M33=\"\",zweizeilig!S98<>\"ja\"),\"\",MIN(M33,N33))","v":""}]
[{"$f":"IF(zweizeilig!A100=\"\",\"\",zweizeilig!A100)","v":" "},{"$f":"IF(zweizeilig!E100=\"\",\"\",zweizeilig!E100)","v":0},{"$f":"IF(zweizeilig!F100=\"\",\"\",zweizeilig!F100)","v":0},{"$f":"IF(zweizeilig!G100=\"\",\"\",zweizeilig!G100)","v":0},{"$f":"IF(OR(B35=\"\",C35=\"\",D35=\"\"),\"\",IF(ISERROR(IF(B35>BBMAVRV,BBMAVRV*$E$6*C35/D35,B35*$E$6*C35/D35)),\"\",IF(B35>BBMAVRV,BBMAVRV*$E$6*C35/D35,B35*$E$6*C35/D35)))","v":""},{"$f":"IF(zweizeilig!I100=\"\",\"\",zweizeilig!I100)","v":0},{"$f":"IF(E35=\"\",\"\",IF(B35>BBMKVPV,BBMKVPV*$G$6*C35/D35,B35*$G$6*C35/D35))","v":""},{"$f":"IF(zweizeilig!K100=\"\",\"\",zweizeilig!K100)","v":0},{"$f":"IF(E35=\"\",\"\",IF(B35>BBMKVPV,BBMKVPV*$I$6*C35/D35,B35*$I$6*C35/D35))","v":""},{"$f":"IF(zweizeilig!M100=\"\",\"\",zweizeilig!M100)","v":0},{"$f":"IF(E35=\"\",\"\",IF(B35>BBMAVRV,BBMAVRV*$K$6*C35/D35,B35*$K$6*C35/D35))","v":""},{"$f":"IF(zweizeilig!O100=\"\",\"\",zweizeilig!O100)","v":0},{"$f":"IF(E35=\"\",\"\",IF(B35>BBMAVRV,BBMAVRV*$M$6*C35/D35,B35*$M$6*C35/D35))","v":""},{"$f":"IF(zweizeilig!Q100=\"\",\"\",zweizeilig!Q100)","v":0},{"$f":"IF(C35=\"\",\"\",IF(D35=\"\",\"\",SUM(E36:N36)))","v":0}]
[null,null,null,null,{"$f":"IF(E35=\"\",\"\",MIN(E35,F35))","v":""},null,{"$f":"IF(G35=\"\",\"\",MIN(G35,H35))","v":""},null,{"$f":"IF(I35=\"\",\"\",MIN(I35,J35))","v":""},null,{"$f":"IF(K35=\"\",\"\",MIN(K35,L35))","v":""},null,{"$f":"IF(OR(M35=\"\",zweizeilig!S100<>\"ja\"),\"\",MIN(M35,N35))","v":""}]
[{"$f":"IF(zweizeilig!A102=\"\",\"\",zweizeilig!A102)","v":" "},{"$f":"IF(zweizeilig!E102=\"\",\"\",zweizeilig!E102)","v":0},{"$f":"IF(zweizeilig!F102=\"\",\"\",zweizeilig!F102)","v":0},{"$f":"IF(zweizeilig!G102=\"\",\"\",zweizeilig!G102)","v":0},{"$f":"IF(OR(B37=\"\",C37=\"\",D37=\"\"),\"\",IF(ISERROR(IF(B37>BBMAVRV,BBMAVRV*$E$6*C37/D37,B37*$E$6*C37/D37)),\"\",IF(B37>BBMAVRV,BBMAVRV*$E$6*C37/D37,B37*$E$6*C37/D37)))","v":""},{"$f":"IF(zweizeilig!I102=\"\",\"\",zweizeilig!I102)","v":0},{"$f":"IF(E37=\"\",\"\",IF(B37>BBMKVPV,BBMKVPV*$G$6*C37/D37,B37*$G$6*C37/D37))","v":""},{"$f":"IF(zweizeilig!K102=\"\",\"\",zweizeilig!K102)","v":0},{"$f":"IF(E37=\"\",\"\",IF(B37>BBMKVPV,BBMKVPV*$I$6*C37/D37,B37*$I$6*C37/D37))","v":""},{"$f":"IF(zweizeilig!M102=\"\",\"\",zweizeilig!M102)","v":0},{"$f":"IF(E37=\"\",\"\",IF(B37>BBMAVRV,BBMAVRV*$K$6*C37/D37,B37*$K$6*C37/D37))","v":""},{"$f":"IF(zweizeilig!O102=\"\",\"\",zweizeilig!O102)","v":0},{"$f":"IF(E37=\"\",\"\",IF(B37>BBMAVRV,BBMAVRV*$M$6*C37/D37,B37*$M$6*C37/D37))","v":""},{"$f":"IF(zweizeilig!Q102=\"\",\"\",zweizeilig!Q102)","v":0},{"$f":"IF(C37=\"\",\"\",IF(D37=\"\",\"\",SUM(E38:N38)))","v":0}]
[null,null,null,null,{"$f":"IF(E37=\"\",\"\",MIN(E37,F37))","v":""},null,{"$f":"IF(G37=\"\",\"\",MIN(G37,H37))","v":""},null,{"$f":"IF(I37=\"\",\"\",MIN(I37,J37))","v":""},null,{"$f":"IF(K37=\"\",\"\",MIN(K37,L37))","v":""},null,{"$f":"IF(OR(M37=\"\",zweizeilig!S102<>\"ja\"),\"\",MIN(M37,N37))","v":""}]
[{"$f":"IF(zweizeilig!A104=\"\",\"\",zweizeilig!A104)","v":" "},{"$f":"IF(zweizeilig!E104=\"\",\"\",zweizeilig!E104)","v":0},{"$f":"IF(zweizeilig!F104=\"\",\"\",zweizeilig!F104)","v":0},{"$f":"IF(zweizeilig!G104=\"\",\"\",zweizeilig!G104)","v":0},{"$f":"IF(OR(B39=\"\",C39=\"\",D39=\"\"),\"\",IF(ISERROR(IF(B39>BBMAVRV,BBMAVRV*$E$6*C39/D39,B39*$E$6*C39/D39)),\"\",IF(B39>BBMAVRV,BBMAVRV*$E$6*C39/D39,B39*$E$6*C39/D39)))","v":""},{"$f":"IF(zweizeilig!I104=\"\",\"\",zweizeilig!I104)","v":0},{"$f":"IF(E39=\"\",\"\",IF(B39>BBMKVPV,BBMKVPV*$G$6*C39/D39,B39*$G$6*C39/D39))","v":""},{"$f":"IF(zweizeilig!K104=\"\",\"\",zweizeilig!K104)","v":0},{"$f":"IF(E39=\"\",\"\",IF(B39>BBMKVPV,BBMKVPV*$I$6*C39/D39,B39*$I$6*C39/D39))","v":""},{"$f":"IF(zweizeilig!M104=\"\",\"\",zweizeilig!M104)","v":0},{"$f":"IF(E39=\"\",\"\",IF(B39>BBMAVRV,BBMAVRV*$K$6*C39/D39,B39*$K$6*C39/D39))","v":""},{"$f":"IF(zweizeilig!O104=\"\",\"\",zweizeilig!O104)","v":0},{"$f":"IF(E39=\"\",\"\",IF(B39>BBMAVRV,BBMAVRV*$M$6*C39/D39,B39*$M$6*C39/D39))","v":""},{"$f":"IF(zweizeilig!Q104=\"\",\"\",zweizeilig!Q104)","v":0},{"$f":"IF(C39=\"\",\"\",IF(D39=\"\",\"\",SUM(E40:N40)))","v":0}]
[null,null,null,null,{"$f":"IF(E39=\"\",\"\",MIN(E39,F39))","v":""},null,{"$f":"IF(G39=\"\",\"\",MIN(G39,H39))","v":""},null,{"$f":"IF(I39=\"\",\"\",MIN(I39,J39))","v":""},null,{"$f":"IF(K39=\"\",\"\",MIN(K39,L39))","v":""},null,{"$f":"IF(OR(M39=\"\",zweizeilig!S104<>\"ja\"),\"\",MIN(M39,N39))","v":""}]
[null,null,null,null,null,null,null,null,null,null,null,null,{"$f":"SUM(O7:O40)","v":0}]

{"sheet":"Seite 4","index":4,"n_rows":41,"n_cols":15,"rows_kept":41,"cut":false,"hidden":false,"merged":[[2,12,2,14],[0,5,3,11],[1,12,1,14],[4,8,4,9],[7,8,7,9],[4,6,4,7],[4,1,5,1],[4,4,4,5],[7,10,7,11],[7,12,7,13],[4,2,4,3],[4,10,4,11],[4,12,4,13],[6,2,7,2],[6,3,7,3],[4,0,5,0],[8,14,9,14],[9,10,9,11],[9,12,9,13],[4,14,5,14],[6,1,7,1],[8,1,9,1],[8,2,9,2],[8,3,9,3],[9,4,9,5],[9,6,9,7],[6,14,7,14],[7,4,7,5],[7,6,7,7],[6,0,7,0],[8,0,9,0],[12,14,13,14],[13,10,13,11],[13,12,13,13],[9,8,9,9],[10,14,11,14],[11,10,11,11],[11,12,11,13],[12,1,13,1],[12,2,13,2],[12,3,13,3],[13,8,13,9],[13,4,13,5],[13,6,13,7],[10,1,11,1],[11,8,11,9],[11,4,11,5],[11,6,11,7],[10,3,11,3],[10,2,11,2],[14,14,15,14],[15,10,15,11],[15,12,15,13],[14,1,15,1],[14,2,15,2],[14,3,15,3],[15,8,15,9],[15,6,15,7],[15,4,15,5],[16,14,17,14],[17,10,17,11],[17,12,17,13],[16,1,17,1],[16,2,17,2],[16,3,17,3],[17,8,17,9],[17,6,17,7],[17,4,17,5],[18,14,19,14],[19,10,19,11],[19,12,19,13],[18,1,19,1],[18,2,19,2],[18,3,19,3],[19,8,19,9],[19,6,19,7],[19,4,19,5],[20,14,21,14],[21,10,21,11],[21,12,21,13],[20,1,21,1],[20,2,21,2],[20,3,21,3],[21,8,21,9],[21,6,21,7],[21,4,21,5],[28,14,29,14],[29,10,29,11],[29,12,29,13],[22,14,23,14],[23,10,23,11],[23,12,23,13],[22,1,23,1],[22,2,23,2],[22,3,23,3],[23,8,23,9],[23,6,23,7],[23,4,23,5],[24,14,25,14],[25,10,25,11],[25,12,25,13],[26,14,27,14],[27,10,27,11],[27,12,27,13],[26,2,27,2],[24,2,25,2],[24,3,25,3],[25,8,25,9],[25,6,25,7],[25,4,25,5],[29,4,29,5],[31,4,31,5],[33,4,33,5],[30,3,31,3],[29,8,29,9],[29,6,29,7],[27,6,27,7],[27,4,27,5],[26,3,27,3],[27,8,27,9],[28,2,29,2],[28,3,29,3],[40,12,41,14],[38,14,39,14],[39,10,39,11],[39,12,39,13],[39,8,39,9],[37,6,37,7],[37,8,37,9],[39,6,39,7],[31,8,31,9],[32,14,33,14],[33,10,33,11],[33,12,33,13],[36,14,37,14],[37,10,37,11],[37,12,37,13],[34,2,35,2],[35,6,35,7],[35,8,35,9],[34,14,35,14],[31,10,31,11],[31,12,31,13],[30,14,31,14],[38,0,39,0],[39,4,39,5],[37,4,37,5],[38,1,39,1],[38,2,39,2],[38,3,39,3],[33,8,33,9],[36,1,37,1],[36,3,37,3],[34,3,35,3],[32,3,33,3],[33,6,33,7],[35,10,35,11],[35,12,35,13],[35,4,35,5],[30,0,31,0],[32,0,33,0],[34,0,35,0],[30,2,31,2],[30,1,31,1],[36,0,37,0],[36,2,37,2],[32,1,33,1],[32,2,33,2],[31,6,31,7],[10,0,11,0],[12,0,13,0],[22,0,23,0],[26,0,27,0],[28,0,29,0],[34,1,35,1],[28,1,29,1],[24,0,25,0],[14,0,15,0],[16,0,17,0],[18,0,19,0],[20,0,21,0],[26,1,27,1],[24,1,25,1]]}
["Nachweis der Lehrkräfte, Bruttogehaltssummen und",null,null,null,null,null,null,null,null,null,null,null,null,null,"Anlage 3 zum Antrag auf Finanzhilfe"]
["Aufwendungen für die soziale Sicherung",null,null,null,null,null,null,null,null,null,null,null,{"$f":"'Anlage 3'!M2","v":"für das Schuljahr "}]
["Funktion: SL (Schulleitung), LK (Lehrkraft), PM (Pädagogische(r) Mitarbeiter(in))",null,null,null,null,null,null,null,null,null,null,null,{"$f":"'Anlage 3'!M3","v":"00:00:00"}]
["Hinweis: PM nur bei Förderschulen in vorgesehenen Schwerpunkten!"]
["Name und\nFunktion","rentenvers.-\npfl. Entgelt","Lehr-/Zusatzpersonal",null,"Arbeitslosenversicherung",null,"Krankenversicherung",null,"Pflegeversicherung",null,"Rentenversicherung",null,"Zusatzversicherung",null,"zu berück-\nsichtigen"]
[null,null,"tats. Std.","Vertragsstd.",{"$f":"'Anlage 3'!E6","v":""},"Ist",{"$f":"'Anlage 3'!G6","v":""},"Ist",{"$f":"'Anlage 3'!I6","v":""},"Ist",{"$f":"'Anlage 3'!K6","v":""},"Ist",{"$f":"'Anlage 3'!M6","v":""},"Ist"]
[{"$f":"IF(zweizeilig!A106=\"\",\"\",zweizeilig!A106)","v":" "},{"$f":"IF(zweizeilig!E106=\"\",\"\",zweizeilig!E106)","v":0},{"$f":"IF(zweizeilig!F106=\"\",\"\",zweizeilig!F106)","v":0},{"$f":"IF(zweizeilig!G106=\"\",\"\",zweizeilig!G106)","v":0},{"$f":"IF(OR(B7=\"\",C7=\"\",D7=\"\"),\"\",IF(ISERROR(IF(B7>BBMAVRV,BBMAVRV*$E$6*C7/D7,B7*$E$6*C7/D7)),\"\",IF(B7>BBMAVRV,BBMAVRV*$E$6*C7/D7,B7*$E$6*C7/D7)))","v":""},{"$f":"IF(zweizeilig!I106=\"\",\"\",zweizeilig!I106)","v":0},{"$f":"IF(E7=\"\",\"\",IF(B7>BBMKVPV,BBMKVPV*$G$6*C7/D7,B7*$G$6*C7/D7))","v":""},{"$f":"IF(zweizeilig!K106=\"\",\"\",zweizeilig!K106)","v":0},{"$f":"IF(E7=\"\",\"\",IF(B7>BBMKVPV,BBMKVPV*$I$6*C7/D7,B7*$I$6*C7/D7))","v":""},{"$f":"IF(zweizeilig!M106=\"\",\"\",zweizeilig!M106)","v":0},{"$f":"IF(E7=\"\",\"\",IF(B7>BBMAVRV,BBMAVRV*$K$6*C7/D7,B7*$K$6*C7/D7))","v":""},{"$f":"IF(zweizeilig!O106=\"\",\"\",zweizeilig!O106)","v":0},{"$f":"IF(E7=\"\",\"\",IF(B7>BBMAVRV,BBMAVRV*$M$6*C7/D7,B7*$M$6*C7/D7))","v":""},{"$f":"IF(zweizeilig!Q106=\"\",\"\",zweizeilig!Q106)","v":0},{"$f":"IF(C7=\"\",\"\",IF(D7=\"\",\"\",SUM(E8:N8)))","v":0}]
[null,null,null,null,{"$f":"IF(E7=\"\",\"\",MIN(E7,F7))","v":""},null,{"$f":"IF(G7=\"\",\"\",MIN(G7,H7))","v":""},null,{"$f":"IF(I7=\"\",\"\",MIN(I7,J7))","v":""},null,{"$f":"IF(K7=\"\",\"\",MIN(K7,L7))","v":""},null,{"$f":"IF(OR(M7=\"\",zweizeilig!S106<>\"ja\"),\"\",MIN(M7,N7))","v":""}]
[{"$f":"IF(zweizeilig!A108=\"\",\"\",zweizeilig!A108)","v":" "},{"$f":"IF(zweizeilig!E108=\"\",\"\",zweizeilig!E108)","v":0},{"$f":"IF(zweizeilig!F108=\"\",\"\",zweizeilig!F108)","v":0},{"$f":"IF(zweizeilig!G108=\"\",\"\",zweizeilig!G108)","v":0},{"$f":"IF(OR(B9=\"\",C9=\"\",D9=\"\"),\"\",IF(ISERROR(IF(B9>BBMAVRV,BBMAVRV*$E$6*C9/D9,B9*$E$6*C9/D9)),\"\",IF(B9>BBMAVRV,BBMAVRV*$E$6*C9/D9,B9*$E$6*C9/D9)))","v":""},{"$f":"IF(zweizeilig!I108=\"\",\"\",zweizeilig!I108)","v":0},{"$f":"IF(E9=\"\",\"\",IF(B9>BBMKVPV,BBMKVPV*$G$6*C9/D9,B9*$G$6*C9/D9))","v":""},{"$f":"IF(zweizeilig!K108=\"\",\"\",zweizeilig!K108)","v":0},{"$f":"IF(E9=\"\",\"\",IF(B9>BBMKVPV,BBMKVPV*$I$6*C9/D9,B9*$I$6*C9/D9))","v":""},{"$f":"IF(zweizeilig!M108=\"\",\"\",zweizeilig!M108)","v":0},{"$f":"IF(E9=\"\",\"\",IF(B9>BBMAVRV,BBMAVRV*$K$6*C9/D9,B9*$K$6*C9/D9))","v":""},{"$f":"IF(zweizeilig!O108=\"\",\"\",zweizeilig!O108)","v":0},{"$f":"IF(E9=\"\",\"\",IF(B9>BBMAVRV,BBMAVRV*$M$6*C9/D9,B9*$M$6*C9/D9))","v":""},{"$f":"IF(zweizeilig!Q108=\"\",\"\",zweizeilig!Q108)","v":0},{"$f":"IF(C9=\"\",\"\",IF(D9=\"\",\"\",SUM(E10:N10)))","v":0}]
[null,null,null,null,{"$f":"IF(E9=\"\",\"\",MIN(E9,F9))","v":""},null,{"$f":"IF(G9=\"\",\"\",MIN(G9,H9))","v":""},null,{"$f":"IF(I9=\"\",\"\",MIN(I9,J9))","v":""},null,{"$f":"IF(K9=\"\",\"\",MIN(K9,L9))","v":""},null,{"$f":"IF(OR(M9=\"\",zweizeilig!S108<>\"ja\"),\"\",MIN(M9,N9))","v":""}]
[{"$f":"IF(zweizeilig!A110=\"\",\"\",zweizeilig!A110)","v":" "},{"$f":"IF(zweizeilig!E110=\"\",\"\",zweizeilig!E110)","v":0},{"$f":"IF(zweizeilig!F110=\"\",\"\",zweizeilig!F110)","v":0},{"$f":"IF(zweizeilig!G110=\"\",\"\",zweizeilig!G110)","v":0},{"$f":"IF(OR(B11=\"\",C11=\"\",D11=\"\"),\"\",IF(ISERROR(IF(B11>BBMAVRV,BBMAVRV*$E$6*C11/D11,B11*$E$6*C11/D11)),\"\",IF(B11>BBMAVRV,BBMAVRV*$E$6*C11/D11,B11*$E$6*C11/D11)))","v":""},{"$f":"IF(zweizeilig!I110=\"\",\"\",zweizeilig!I110)","v":0},{"$f":"IF(E11=\"\",\"\",IF(B11>BBMKVPV,BBMKVPV*$G$6*C11/D11,B11*$G$6*C11/D11))","v":""},{"$f":"IF(zweizeilig!K110=\"\",\"\",zweizeilig!K110)","v":0},{"$f":"IF(E11=\"\",\"\",IF(B11>BBMKVPV,BBMKVPV*$I$6*C11/D11,B11*$I$6*C11/D11))","v":""},{"$f":"IF(zweizeilig!M110=\"\",\"\",zweizeilig!M110)","v":0},{"$f":"IF(E11=\"\",\"\",IF(B11>BBMAVRV,BBMAVRV*$K$6*C11/D11,B11*$K$6*C11/D11))","v":""},{"$f":"IF(zweizeilig!O110=\"\",\"\",zweizeilig!O110)","v":0},{"$f":"IF(E11=\"\",\"\",IF(B11>BBMAVRV,BBMAVRV*$M$6*C11/D11,B11*$M$6*C11/D11))","v":""},{"$f":"IF(zweizeilig!Q110=\"\",\"\",zweizeilig!Q110)","v":0},{"$f":"IF(C11=\"\",\"\",IF(D11=\"\",\"\",SUM(E12:N12)))","v":0}]
[null,null,null,null,{"$f":"IF(E11=\"\",\"\",MIN(E11,F11))","v":""},null,{"$f":"IF(G11=\"\",\"\",MIN(G11,H11))","v":""},null,{"$f":"IF(I11=\"\",\"\",MIN(I11,J11))","v":""},null,{"$f":"IF(K11=\"\",\"\",MIN(K11,L11))","v":""},null,{"$f":"IF(OR(M11=\"\",zweizeilig!S110<>\"ja\"),\"\",MIN(M11,N11))","v":""}]
[{"$f":"IF(zweizeilig!A112=\"\",\"\",zweizeilig!A112)","v":" "},{"$f":"IF(zweizeilig!E112=\"\",\"\",zweizeilig!E112)","v":0},{"$f":"IF(zweizeilig!F112=\"\",\"\",zweizeilig!F112)","v":0},{"$f":"IF(zweizeilig!G112=\"\",\"\",zweizeilig!G112)","v":0},{"$f":"IF(OR(B13=\"\",C13=\"\",D13=\"\"),\"\",IF(ISERROR(IF(B13>BBMAVRV,BBMAVRV*$E$6*C13/D13,B13*$E$6*C13/D13)),\"\",IF(B13>BBMAVRV,BBMAVRV*$E$6*C13/D13,B13*$E$6*C13/D13)))","v":""},{"$f":"IF(zweizeilig!I112=\"\",\"\",zweizeilig!I112)","v":0},{"$f":"IF(E13=\"\",\"\",IF(B13>BBMKVPV,BBMKVPV*$G$6*C13/D13,B13*$G$6*C13/D13))","v":""},{"$f":"IF(zweizeilig!K112=\"\",\"\",zweizeilig!K112)","v":0},{"$f":"IF(E13=\"\",\"\",IF(B13>BBMKVPV,BBMKVPV*$I$6*C13/D13,B13*$I$6*C13/D13))","v":""},{"$f":"IF(zweizeilig!M112=\"\",\"\",zweizeilig!M112)","v":0},{"$f":"IF(E13=\"\",\"\",IF(B13>BBMAVRV,BBMAVRV*$K$6*C13/D13,B13*$K$6*C13/D13))","v":""},{"$f":"IF(zweizeilig!O112=\"\",\"\",zweizeilig!O112)","v":0},{"$f":"IF(E13=\"\",\"\",IF(B13>BBMAVRV,BBMAVRV*$M$6*C13/D13,B13*$M$6*C13/D13))","v":""},{"$f":"IF(zweizeilig!Q112=\"\",\"\",zweizeilig!Q112)","v":0},{"$f":"IF(C13=\"\",\"\",IF(D13=\"\",\"\",SUM(E14:N14)))","v":0}]
[null,null,null,null,{"$f":"IF(E13=\"\",\"\",MIN(E13,F13))","v":""},null,{"$f":"IF(G13=\"\",\"\",MIN(G13,H13))","v":""},null,{"$f":"IF(I13=\"\",\"\",MIN(I13,J13))","v":""},null,{"$f":"IF(K13=\"\",\"\",MIN(K13,L13))","v":""},null,{"$f":"IF(OR(M13=\"\",zweizeilig!S112<>\"ja\"),\"\",MIN(M13,N13))","v":""}]
[{"$f":"IF(zweizeilig!A114=\"\",\"\",zweizeilig!A114)","v":" "},{"$f":"IF(zweizeilig!E114=\"\",\"\",zweizeilig!E114)","v":0},{"$f":"IF(zweizeilig!F114=\"\",\"\",zweizeilig!F114)","v":0},{"$f":"IF(zweizeilig!G114=\"\",\"\",zweizeilig!G114)","v":0},{"$f":"IF(OR(B15=\"\",C15=\"\",D15=\"\"),\"\",IF(ISERROR(IF(B15>BBMAVRV,BBMAVRV*$E$6*C15/D15,B15*$E$6*C15/D15)),\"\",IF(B15>BBMAVRV,BBMAVRV*$E$6*C15/D15,B15*$E$6*C15/D15)))","v":""},{"$f":"IF(zweizeilig!I114=\"\",\"\",zweizeilig!I114)","v":0},{"$f":"IF(E15=\"\",\"\",IF(B15>BBMKVPV,BBMKVPV*$G$6*C15/D15,B15*$G$6*C15/D15))","v":""},{"$f":"IF(zweizeilig!K114=\"\",\"\",zweizeilig!K114)","v":0},{"$f":"IF(E15=\"\",\"\",IF(B15>BBMKVPV,BBMKVPV*$I$6*C15/D15,B15*$I$6*C15/D15))","v":""},{"$f":"IF(zweizeilig!M114=\"\",\"\",zweizeilig!M114)","v":0},{"$f":"IF(E15=\"\",\"\",IF(B15>BBMAVRV,BBMAVRV*$K$6*C15/D15,B15*$K$6*C15/D15))","v":""},{"$f":"IF(zweizeilig!O114=\"\",\"\",zweizeilig!O114)","v":0},{"$f":"IF(E15=\"\",\"\",IF(B15>BBMAVRV,BBMAVRV*$M$6*C15/D15,B15*$M$6*C15/D15))","v":""},{"$f":"IF(zweizeilig!Q114=\"\",\"\",zweizeilig!Q114)","v":0},{"$f":"IF(C15=\"\",\"\",IF(D15=\"\",\"\",SUM(E16:N16)))","v":0}]
[null,null,null,null,{"$f":"IF(E15=\"\",\"\",MIN(E15,F15))","v":""},null,{"$f":"IF(G15=\"\",\"\",MIN(G15,H15))","v":""},null,{"$f":"IF(I15=\"\",\"\",MIN(I15,J15))","v":""},null,{"$f":"IF(K15=\"\",\"\",MIN(K15,L15))","v":""},null,{"$f":"IF(OR(M15=\"\",zweizeilig!S114<>\"ja\"),\"\",MIN(M15,N15))","v":""}]
[{"$f":"IF(zweizeilig!A116=\"\",\"\",zweizeilig!A116)","v":" "},{"$f":"IF(zweizeilig!E116=\"\",\"\",zweizeilig!E116)","v":0},{"$f":"IF(zweizeilig!F116=\"\",\"\",zweizeilig!F116)","v":0},{"$f":"IF(zweizeilig!G116=\"\",\"\",zweizeilig!G116)","v":0},{"$f":"IF(OR(B17=\"\",C17=\"\",D17=\"\"),\"\",IF(ISERROR(IF(B17>BBMAVRV,BBMAVRV*$E$6*C17/D17,B17*$E$6*C17/D17)),\"\",IF(B17>BBMAVRV,BBMAVRV*$E$6*C17/D17,B17*$E$6*C17/D17)))","v":""},{"$f":"IF(zweizeilig!I116=\"\",\"\",zweizeilig!I116)","v":0},{"$f":"IF(E17=\"\",\"\",IF(B17>BBMKVPV,BBMKVPV*$G$6*C17/D17,B17*$G$6*C17/D17))","v":""},{"$f":"IF(zweizeilig!K116=\"\",\"\",zweizeilig!K116)","v":0},{"$f":"IF(E17=\"\",\"\",IF(B17>BBMKVPV,BBMKVPV*$I$6*C17/D17,B17*$I$6*C17/D17))","v":""},{"$f":"IF(zweizeilig!M116=\"\",\"\",zweizeilig!M116)","v":0},{"$f":"IF(E17=\"\",\"\",IF(B17>BBMAVRV,BBMAVRV*$K$6*C17/D17,B17*$K$6*C17/D17))","v":""},{"$f":"IF(zweizeilig!O116=\"\",\"\",zweizeilig!O116)","v":0},{"$f":"IF(E17=\"\",\"\",IF(B17>BBMAVRV,BBMAVRV*$M$6*C17/D17,B17*$M$6*C17/D17))","v":""},{"$f":"IF(zweizeilig!Q116=\"\",\"\",zweizeilig!Q116)","v":0},{"$f":"IF(C17=\"\",\"\",IF(D17=\"\",\"\",SUM(E18:N18)))","v":0}]
[null,null,null,null,{"$f":"IF(E17=\"\",\"\",MIN(E17,F17))","v":""},null,{"$f":"IF(G17=\"\",\"\",MIN(G17,H17))","v":""},null,{"$f":"IF(I17=\"\",\"\",MIN(I17,J17))","v":""},null,{"$f":"IF(K17=\"\",\"\",MIN(K17,L17))","v":""},null,{"$f":"IF(OR(M17=\"\",zweizeilig!S116<>\"ja\"),\"\",MIN(M17,N17))","v":""}]
[{"$f":"IF(zweizeilig!A118=\"\",\"\",zweizeilig!A118)","v":" "},{"$f":"IF(zweizeilig!E118=\"\",\"\",zweizeilig!E118)","v":0},{"$f":"IF(zweizeilig!F118=\"\",\"\",zweizeilig!F118)","v":0},{"$f":"IF(zweizeilig!G118=\"\",\"\",zweizeilig!G118)","v":0},{"$f":"IF(OR(B19=\"\",C19=\"\",D19=\"\"),\"\",IF(ISERROR(IF(B19>BBMAVRV,BBMAVRV*$E$6*C19/D19,B19*$E$6*C19/D19)),\"\",IF(B19>BBMAVRV,BBMAVRV*$E$6*C19/D19,B19*$E$6*C19/D19)))","v":""},{"$f":"IF(zweizeilig!I118=\"\",\"\",zweizeilig!I118)","v":0},{"$f":"IF(E19=\"\",\"\",IF(B19>BBMKVPV,BBMKVPV*$G$6*C19/D19,B19*$G$6*C19/D19))","v":""},{"$f":"IF(zweizeilig!K118=\"\",\"\",zweizeilig!K118)","v":0},{"$f":"IF(E19=\"\",\"\",IF(B19>BBMKVPV,BBMKVPV*$I$6*C19/D19,B19*$I$6*C19/D19))","v":""},{"$f":"IF(zweizeilig!M118=\"\",\"\",zweizeilig!M118)","v":0},{"$f":"IF(E19=\"\",\"\",IF(B19>BBMAVRV,BBMAVRV*$K$6*C19/D19,B19*$K$6*C19/D19))","v":""},{"$f":"IF(zweizeilig!O118=\"\",\"\",zweizeilig!O118)","v":0},{"$f":"IF(E19=\"\",\"\",IF(B19>BBMAVRV,BBMAVRV*$M$6*C19/D19,B19*$M$6*C19/D19))","v":""},{"$f":"IF(zweizeilig!Q118=\"\",\"\",zweizeilig!Q118)","v":0},{"$f":"IF(C19=\"\",\"\",IF(D19=\"\",\"\",SUM(E20:N20)))","v":0}]
[null,null,null,null,{"$f":"IF(E19=\"\",\"\",MIN(E19,F19))","v":""},null,{"$f":"IF(G19=\"\",\"\",MIN(G19,H19))","v":""},null,{"$f":"IF(I19=\"\",\"\",MIN(I19,J19))","v":""},null,{"$f":"IF(K19=\"\",\"\",MIN(K19,L19))","v":""},null,{"$f":"IF(OR(M19=\"\",zweizeilig!S118<>\"ja\"),\"\",MIN(M19,N19))","v":""}]
[{"$f":"IF(zweizeilig!A120=\"\",\"\",zweizeilig!A120)","v":" "},{"$f":"IF(zweizeilig!E120=\"\",\"\",zweizeilig!E120)","v":0},{"$f":"IF(zweizeilig!F120=\"\",\"\",zweizeilig!F120)","v":0},{"$f":"IF(zweizeilig!G120=\"\",\"\",zweizeilig!G120)","v":0},{"$f":"IF(OR(B21=\"\",C21=\"\",D21=\"\"),\"\",IF(ISERROR(IF(B21>BBMAVRV,BBMAVRV*$E$6*C21/D21,B21*$E$6*C21/D21)),\"\",IF(B21>BBMAVRV,BBMAVRV*$E$6*C21/D21,B21*$E$6*C21/D21)))","v":""},{"$f":"IF(zweizeilig!I120=\"\",\"\",zweizeilig!I120)","v":0},{"$f":"IF(E21=\"\",\"\",IF(B21>BBMKVPV,BBMKVPV*$G$6*C21/D21,B21*$G$6*C21/D21))","v":""},{"$f":"IF(zweizeilig!K120=\"\",\"\",zweizeilig!K120)","v":0},{"$f":"IF(E21=\"\",\"\",IF(B21>BBMKVPV,BBMKVPV*$I$6*C21/D21,B21*$I$6*C21/D21))","v":""},{"$f":"IF(zweizeilig!M120=\"\",\"\",zweizeilig!M120)","v":0},{"$f":"IF(E21=\"\",\"\",IF(B21>BBMAVRV,BBMAVRV*$K$6*C21/D21,B21*$K$6*C21/D21))","v":""},{"$f":"IF(zweizeilig!O120=\"\",\"\",zweizeilig!O120)","v":0},{"$f":"IF(E21=\"\",\"\",IF(B21>BBMAVRV,BBMAVRV*$M$6*C21/D21,B21*$M$6*C21/D21))","v":""},{"$f":"IF(zweizeilig!Q120=\"\",\"\",zweizeilig!Q120)","v":0},{"$f":"IF(C21=\"\",\"\",IF(D21=\"\",\"\",SUM(E22:N22)))","v":0}]
[null,null,null,null,{"$f":"IF(E21=\"\",\"\",MIN(E21,F21))","v":""},null,{"$f":"IF(G21=\"\",\"\",MIN(G21,H21))","v":""},null,{"$f":"IF(I21=\"\",\"\",MIN(I21,J21))","v":""},null,{"$f":"IF(K21=\"\",\"\",MIN(K21,L21))","v":""},null,{"$f":"IF(OR(M21=\"\",zweizeilig!S120<>\"ja\"),\"\",MIN(M21,N21))","v":""}]
[{"$f":"IF(zweizeilig!A122=\"\",\"\",zweizeilig!A122)","v":" "},{"$f":"IF(zweizeilig!E122=\"\",\"\",zweizeilig!E122)","v":0},{"$f":"IF(zweizeilig!F122=\"\",\"\",zweizeilig!F122)","v":0},{"$f":"IF(zweizeilig!G122=\"\",\"\",zweizeilig!G122)","v":0},{"$f":"IF(OR(B23=\"\",C23=\"\",D23=\"\"),\"\",IF(ISERROR(IF(B23>BBMAVRV,BBMAVRV*$E$6*C23/D23,B23*$E$6*C23/D23)),\"\",IF(B23>BBMAVRV,BBMAVRV*$E$6*C23/D23,B23*$E$6*C23/D23)))","v":""},{"$f":"IF(zweizeilig!I122=\"\",\"\",zweizeilig!I122)","v":0},{"$f":"IF(E23=\"\",\"\",IF(B23>BBMKVPV,BBMKVPV*$G$6*C23/D23,B23*$G$6*C23/D23))","v":""},{"$f":"IF(zweizeilig!K122=\"\",\"\",zweizeilig!K122)","v":0},{"$f":"IF(E23=\"\",\"\",IF(B23>BBMKVPV,BBMKVPV*$I$6*C23/D23,B23*$I$6*C23/D23))","v":""},{"$f":"IF(zweizeilig!M122=\"\",\"\",zweizeilig!M122)","v":0},{"$f":"IF(E23=\"\",\"\",IF(B23>BBMAVRV,BBMAVRV*$K$6*C23/D23,B23*$K$6*C23/D23))","v":""},{"$f":"IF(zweizeilig!O122=\"\",\"\",zweizeilig!O122)","v":0},{"$f":"IF(E23=\"\",\"\",IF(B23>BBMAVRV,BBMAVRV*$M$6*C23/D23,B23*$M$6*C23/D23))","v":""},{"$f":"IF(zweizeilig!Q122=\"\",\"\",zweizeilig!Q122)","v":0},{"$f":"IF(C23=\"\",\"\",IF(D23=\"\",\"\",SUM(E24:N24)))","v":0}]
[null,null,null,null,{"$f":"IF(E23=\"\",\"\",MIN(E23,F23))","v":""},null,{"$f":"IF(G23=\"\",\"\",MIN(G23,H23))","v":""},null,{"$f":"IF(I23=\"\",\"\",MIN(I23,J23))","v":""},null,{"$f":"IF(K23=\"\",\"\",MIN(K23,L23))","v":""},null,{"$f":"IF(OR(M23=\"\",zweizeilig!S122<>\"ja\"),\"\",MIN(M23,N23))","v":""}]
[{"$f":"IF(zweizeilig!A124=\"\",\"\",zweizeilig!A124)","v":" "},{"$f":"IF(zweizeilig!E124=\"\",\"\",zweizeilig!E124)","v":0},{"$f":"IF(zweizeilig!F124=\"\",\"\",zweizeilig!F124)","v":0},{"$f":"IF(zweizeilig!G124=\"\",\"\",zweizeilig!G124)","v":0},{"$f":"IF(OR(B25=\"\",C25=\"\",D25=\"\"),\"\",IF(ISERROR(IF(B25>BBMAVRV,BBMAVRV*$E$6*C25/D25,B25*$E$6*C25/D25)),\"\",IF(B25>BBMAVRV,BBMAVRV*$E$6*C25/D25,B25*$E$6*C25/D25)))","v":""},{"$f":"IF(zweizeilig!I124=\"\",\"\",zweizeilig!I124)","v":0},{"$f":"IF(E25=\"\",\"\",IF(B25>BBMKVPV,BBMKVPV*$G$6*C25/D25,B25*$G$6*C25/D25))","v":""},{"$f":"IF(zweizeilig!K124=\"\",\"\",zweizeilig!K124)","v":0},{"$f":"IF(E25=\"\",\"\",IF(B25>BBMKVPV,BBMKVPV*$I$6*C25/D25,B25*$I$6*C25/D25))","v":""},{"$f":"IF(zweizeilig!M124=\"\",\"\",zweizeilig!M124)","v":0},{"$f":"IF(E25=\"\",\"\",IF(B25>BBMAVRV,BBMAVRV*$K$6*C25/D25,B25*$K$6*C25/D25))","v":""},{"$f":"IF(zweizeilig!O124=\"\",\"\",zweizeilig!O124)","v":0},{"$f":"IF(E25=\"\",\"\",IF(B25>BBMAVRV,BBMAVRV*$M$6*C25/D25,B25*$M$6*C25/D25))","v":""},{"$f":"IF(zweizeilig!Q124=\"\",\"\",zweizeilig!Q124)","v":0},{"$f":"IF(C25=\"\",\"\",IF(D25=\"\",\"\",SUM(E26:N26)))","v":0}]
[null,null,null,null,{"$f":"IF(E25=\"\",\"\",MIN(E25,F25))","v":""},null,{"$f":"IF(G25=\"\",\"\",MIN(G25,H25))","v":""},null,{"$f":"IF(I25=\"\",\"\",MIN(I25,J25))","v":""},null,{"$f":"IF(K25=\"\",\"\",MIN(K25,L25))","v":""},null,{"$f":"IF(OR(M25=\"\",zweizeilig!S124<>\"ja\"),\"\",MIN(M25,N25))","v":""}]
[{"$f":"IF(zweizeilig!A126=\"\",\"\",zweizeilig!A126)","v":" "},{"$f":"IF(zweizeilig!E126=\"\",\"\",zweizeilig!E126)","v":0},{"$f":"IF(zweizeilig!F126=\"\",\"\",zweizeilig!F126)","v":0},{"$f":"IF(zweizeilig!G126=\"\",\"\",zweizeilig!G126)","v":0},{"$f":"IF(OR(B27=\"\",C27=\"\",D27=\"\"),\"\",IF(ISERROR(IF(B27>BBMAVRV,BBMAVRV*$E$6*C27/D27,B27*$E$6*C27/D27)),\"\",IF(B27>BBMAVRV,BBMAVRV*$E$6*C27/D27,B27*$E$6*C27/D27)))","v":""},{"$f":"IF(zweizeilig!I126=\"\",\"\",zweizeilig!I126)","v":0},{"$f":"IF(E27=\"\",\"\",IF(B27>BBMKVPV,BBMKVPV*$G$6*C27/D27,B27*$G$6*C27/D27))","v":""},{"$f":"IF(zweizeilig!K126=\"\",\"\",zweizeilig!K126)","v":0},{"$f":"IF(E27=\"\",\"\",IF(B27>BBMKVPV,BBMKVPV*$I$6*C27/D27,B27*$I$6*C27/D27))","v":""},{"$f":"IF(zweizeilig!M126=\"\",\"\",zweizeilig!M126)","v":0},{"$f":"IF(E27=\"\",\"\",IF(B27>BBMAVRV,BBMAVRV*$K$6*C27/D27,B27*$K$6*C27/D27))","v":""},{"$f":"IF(zweizeilig!O126=\"\",\"\",zweizeilig!O126)","v":0},{"$f":"IF(E27=\"\",\"\",IF(B27>BBMAVRV,BBMAVRV*$M$6*C27/D27,B27*$M$6*C27/D27))","v":""},{"$f":"IF(zweizeilig!Q126=\"\",\"\",zweizeilig!Q126)","v":0},{"$f":"IF(C27=\"\",\"\",IF(D27=\"\",\"\",SUM(E28:N28)))","v":0}]
[null,null,null,null,{"$f":"IF(E27=\"\",\"\",MIN(E27,F27))","v":""},null,{"$f":"IF(G27=\"\",\"\",MIN(G27,H27))","v":""},null,{"$f":"IF(I27=\"\",\"\",MIN(I27,J27))","v":""},null,{"$f":"IF(K27=\"\",\"\",MIN(K27,L27))","v":""},null,{"$f":"IF(OR(M27=\"\",zweizeilig!S126<>\"ja\"),\"\",MIN(M27,N27))","v":""}]
[{"$f":"IF(zweizeilig!A128=\"\",\"\",zweizeilig!A128)","v":" "},{"$f":"IF(zweizeilig!E128=\"\",\"\",zweizeilig!E128)","v":0},{"$f":"IF(zweizeilig!F128=\"\",\"\",zweizeilig!F128)","v":0},{"$f":"IF(zweizeilig!G128=\"\",\"\",zweizeilig!G128)","v":0},{"$f":"IF(OR(B29=\"\",C29=\"\",D29=\"\"),\"\",IF(ISERROR(IF(B29>BBMAVRV,BBMAVRV*$E$6*C29/D29,B29*$E$6*C29/D29)),\"\",IF(B29>BBMAVRV,BBMAVRV*$E$6*C29/D29,B29*$E$6*C29/D29)))","v":""},{"$f":"IF(zweizeilig!I128=\"\",\"\",zweizeilig!I128)","v":0},{"$f":"IF(E29=\"\",\"\",IF(B29>BBMKVPV,BBMKVPV*$G$6*C29/D29,B29*$G$6*C29/D29))","v":""},{"$f":"IF(zweizeilig!K128=\"\",\"\",zweizeilig!K128)","v":0},{"$f":"IF(E29=\"\",\"\",IF(B29>BBMKVPV,BBMKVPV*$I$6*C29/D29,B29*$I$6*C29/D29))","v":""},{"$f":"IF(zweizeilig!M128=\"\",\"\",zweizeilig!M128)","v":0},{"$f":"IF(E29=\"\",\"\",IF(B29>BBMAVRV,BBMAVRV*$K$6*C29/D29,B29*$K$6*C29/D29))","v":""},{"$f":"IF(zweizeilig!O128=\"\",\"\",zweizeilig!O128)","v":0},{"$f":"IF(E29=\"\",\"\",IF(B29>BBMAVRV,BBMAVRV*$M$6*C29/D29,B29*$M$6*C29/D29))","v":""},{"$f":"IF(zweizeilig!Q128=\"\",\"\",zweizeilig!Q128)","v":0},{"$f":"IF(C29=\"\",\"\",IF(D29=\"\",\"\",SUM(E30:N30)))","v":0}]
[null,null,null,null,{"$f":"IF(E29=\"\",\"\",MIN(E29,F29))","v":""},null,{"$f":"IF(G29=\"\",\"\",MIN(G29,H29))","v":""},null,{"$f":"IF(I29=\"\",\"\",MIN(I29,J29))","v":""},null,{"$f":"IF(K29=\"\",\"\",MIN(K29,L29))","v":""},null,{"$f":"IF(OR(M29=\"\",zweizeilig!S128<>\"ja\"),\"\",MIN(M29,N29))","v":""}]
[{"$f":"IF(zweizeilig!A130=\"\",\"\",zweizeilig!A130)","v":" "},{"$f":"IF(zweizeilig!E130=\"\",\"\",zweizeilig!E130)","v":0},{"$f":"IF(zweizeilig!F130=\"\",\"\",zweizeilig!F130)","v":0},{"$f":"IF(zweizeilig!G130=\"\",\"\",zweizeilig!G130)","v":0},{"$f":"IF(OR(B31=\"\",C31=\"\",D31=\"\"),\"\",IF(ISERROR(IF(B31>BBMAVRV,BBMAVRV*$E$6*C31/D31,B31*$E$6*C31/D31)),\"\",IF(B31>BBMAVRV,BBMAVRV*$E$6*C31/D31,B31*$E$6*C31/D31)))","v":""},{"$f":"IF(zweizeilig!I130=\"\",\"\",zweizeilig!I130)","v":0},{"$f":"IF(E31=\"\",\"\",IF(B31>BBMKVPV,BBMKVPV*$G$6*C31/D31,B31*$G$6*C31/D31))","v":""},{"$f":"IF(zweizeilig!K130=\"\",\"\",zweizeilig!K130)","v":0},{"$f":"IF(E31=\"\",\"\",IF(B31>BBMKVPV,BBMKVPV*$I$6*C31/D31,B31*$I$6*C31/D31))","v":""},{"$f":"IF(zweizeilig!M130=\"\",\"\",zweizeilig!M130)","v":0},{"$f":"IF(E31=\"\",\"\",IF(B31>BBMAVRV,BBMAVRV*$K$6*C31/D31,B31*$K$6*C31/D31))","v":""},{"$f":"IF(zweizeilig!O130=\"\",\"\",zweizeilig!O130)","v":0},{"$f":"IF(E31=\"\",\"\",IF(B31>BBMAVRV,BBMAVRV*$M$6*C31/D31,B31*$M$6*C31/D31))","v":""},{"$f":"IF(zweizeilig!Q130=\"\",\"\",zweizeilig!Q130)","v":0},{"$f":"IF(C31=\"\",\"\",IF(D31=\"\",\"\",SUM(E32:N32)))","v":0}]
[null,null,null,null,{"$f":"IF(E31=\"\",\"\",MIN(E31,F31))","v":""},null,{"$f":"IF(G31=\"\",\"\",MIN(G31,H31))","v":""},null,{"$f":"IF(I31=\"\",\"\",MIN(I31,J31))","v":""},null,{"$f":"IF(K31=\"\",\"\",MIN(K31,L31))","v":""},null,{"$f":"IF(OR(M31=\"\",zweizeilig!S130<>\"ja\"),\"\",MIN(M31,N31))","v":""}]
[{"$f":"IF(zweizeilig!A132=\"\",\"\",zweizeilig!A132)","v":" "},{"$f":"IF(zweizeilig!E132=\"\",\"\",zweizeilig!E132)","v":0},{"$f":"IF(zweizeilig!F132=\"\",\"\",zweizeilig!F132)","v":0},{"$f":"IF(zweizeilig!G132=\"\",\"\",zweizeilig!G132)","v":0},{"$f":"IF(OR(B33=\"\",C33=\"\",D33=\"\"),\"\",IF(ISERROR(IF(B33>BBMAVRV,BBMAVRV*$E$6*C33/D33,B33*$E$6*C33/D33)),\"\",IF(B33>BBMAVRV,BBMAVRV*$E$6*C33/D33,B33*$E$6*C33/D33)))","v":""},{"$f":"IF(zweizeilig!I132=\"\",\"\",zweizeilig!I132)","v":0},{"$f":"IF(E33=\"\",\"\",IF(B33>BBMKVPV,BBMKVPV*$G$6*C33/D33,B33*$G$6*C33/D33))","v":""},{"$f":"IF(zweizeilig!K132=\"\",\"\",zweizeilig!K132)","v":0},{"$f":"IF(E33=\"\",\"\",IF(B33>BBMKVPV,BBMKVPV*$I$6*C33/D33,B33*$I$6*C33/D33))","v":""},{"$f":"IF(zweizeilig!M132=\"\",\"\",zweizeilig!M132)","v":0},{"$f":"IF(E33=\"\",\"\",IF(B33>BBMAVRV,BBMAVRV*$K$6*C33/D33,B33*$K$6*C33/D33))","v":""},{"$f":"IF(zweizeilig!O132=\"\",\"\",zweizeilig!O132)","v":0},{"$f":"IF(E33=\"\",\"\",IF(B33>BBMAVRV,BBMAVRV*$M$6*C33/D33,B33*$M$6*C33/D33))","v":""},{"$f":"IF(zweizeilig!Q132=\"\",\"\",zweizeilig!Q132)","v":0},{"$f":"IF(C33=\"\",\"\",IF(D33=\"\",\"\",SUM(E34:N34)))","v":0}]
[null,null,null,null,{"$f":"IF(E33=\"\",\"\",MIN(E33,F33))","v":""},null,{"$f":"IF(G33=\"\",\"\",MIN(G33,H33))","v":""},null,{"$f":"IF(I33=\"\",\"\",MIN(I33,J33))","v":""},null,{"$f":"IF(K33=\"\",\"\",MIN(K33,L33))","v":""},null,{"$f":"IF(OR(M33=\"\",zweizeilig!S132<>\"ja\"),\"\",MIN(M33,N33))","v":""}]
[{"$f":"IF(zweizeilig!A134=\"\",\"\",zweizeilig!A134)","v":" "},{"$f":"IF(zweizeilig!E134=\"\",\"\",zweizeilig!E134)","v":0},{"$f":"IF(zweizeilig!F134=\"\",\"\",zweizeilig!F134)","v":0},{"$f":"IF(zweizeilig!G134=\"\",\"\",zweizeilig!G134)","v":0},{"$f":"IF(OR(B35=\"\",C35=\"\",D35=\"\"),\"\",IF(ISERROR(IF(B35>BBMAVRV,BBMAVRV*$E$6*C35/D35,B35*$E$6*C35/D35)),\"\",IF(B35>BBMAVRV,BBMAVRV*$E$6*C35/D35,B35*$E$6*C35/D35)))","v":""},{"$f":"IF(zweizeilig!I134=\"\",\"\",zweizeilig!I134)","v":0},{"$f":"IF(E35=\"\",\"\",IF(B35>BBMKVPV,BBMKVPV*$G$6*C35/D35,B35*$G$6*C35/D35))","v":""},{"$f":"IF(zweizeilig!K134=\"\",\"\",zweizeilig!K134)","v":0},{"$f":"IF(E35=\"\",\"\",IF(B35>BBMKVPV,BBMKVPV*$I$6*C35/D35,B35*$I$6*C35/D35))","v":""},{"$f":"IF(zweizeilig!M134=\"\",\"\",zweizeilig!M134)","v":0},{"$f":"IF(E35=\"\",\"\",IF(B35>BBMAVRV,BBMAVRV*$K$6*C35/D35,B35*$K$6*C35/D35))","v":""},{"$f":"IF(zweizeilig!O134=\"\",\"\",zweizeilig!O134)","v":0},{"$f":"IF(E35=\"\",\"\",IF(B35>BBMAVRV,BBMAVRV*$M$6*C35/D35,B35*$M$6*C35/D35))","v":""},{"$f":"IF(zweizeilig!Q134=\"\",\"\",zweizeilig!Q134)","v":0},{"$f":"IF(C35=\"\",\"\",IF(D35=\"\",\"\",SUM(E36:N36)))","v":0}]
[null,null,null,null,{"$f":"IF(E35=\"\",\"\",MIN(E35,F35))","v":""},null,{"$f":"IF(G35=\"\",\"\",MIN(G35,H35))","v":""},null,{"$f":"IF(I35=\"\",\"\",MIN(I35,J35))","v":""},null,{"$f":"IF(K35=\"\",\"\",MIN(K35,L35))","v":""},null,{"$f":"IF(OR(M35=\"\",zweizeilig!S134<>\"ja\"),\"\",MIN(M35,N35))","v":""}]
[{"$f":"IF(zweizeilig!A136=\"\",\"\",zweizeilig!A136)","v":" "},{"$f":"IF(zweizeilig!E136=\"\",\"\",zweizeilig!E136)","v":0},{"$f":"IF(zweizeilig!F136=\"\",\"\",zweizeilig!F136)","v":0},{"$f":"IF(zweizeilig!G136=\"\",\"\",zweizeilig!G136)","v":0},{"$f":"IF(OR(B37=\"\",C37=\"\",D37=\"\"),\"\",IF(ISERROR(IF(B37>BBMAVRV,BBMAVRV*$E$6*C37/D37,B37*$E$6*C37/D37)),\"\",IF(B37>BBMAVRV,BBMAVRV*$E$6*C37/D37,B37*$E$6*C37/D37)))","v":""},{"$f":"IF(zweizeilig!I136=\"\",\"\",zweizeilig!I136)","v":0},{"$f":"IF(E37=\"\",\"\",IF(B37>BBMKVPV,BBMKVPV*$G$6*C37/D37,B37*$G$6*C37/D37))","v":""},{"$f":"IF(zweizeilig!K136=\"\",\"\",zweizeilig!K136)","v":0},{"$f":"IF(E37=\"\",\"\",IF(B37>BBMKVPV,BBMKVPV*$I$6*C37/D37,B37*$I$6*C37/D37))","v":""},{"$f":"IF(zweizeilig!M136=\"\",\"\",zweizeilig!M136)","v":0},{"$f":"IF(E37=\"\",\"\",IF(B37>BBMAVRV,BBMAVRV*$K$6*C37/D37,B37*$K$6*C37/D37))","v":""},{"$f":"IF(zweizeilig!O136=\"\",\"\",zweizeilig!O136)","v":0},{"$f":"IF(E37=\"\",\"\",IF(B37>BBMAVRV,BBMAVRV*$M$6*C37/D37,B37*$M$6*C37/D37))","v":""},{"$f":"IF(zweizeilig!Q136=\"\",\"\",zweizeilig!Q136)","v":0},{"$f":"IF(C37=\"\",\"\",IF(D37=\"\",\"\",SUM(E38:N38)))","v":0}]
[null,null,null,null,{"$f":"IF(E37=\"\",\"\",MIN(E37,F37))","v":""},null,{"$f":"IF(G37=\"\",\"\",MIN(G37,H37))","v":""},null,{"$f":"IF(I37=\"\",\"\",MIN(I37,J37))","v":""},null,{"$f":"IF(K37=\"\",\"\",MIN(K37,L37))","v":""},null,{"$f":"IF(OR(M37=\"\",zweizeilig!S136<>\"ja\"),\"\",MIN(M37,N37))","v":""}]
[{"$f":"IF(zweizeilig!A138=\"\",\"\",zweizeilig!A138)","v":" "},{"$f":"IF(zweizeilig!E138=\"\",\"\",zweizeilig!E138)","v":0},{"$f":"IF(zweizeilig!F138=\"\",\"\",zweizeilig!F138)","v":0},{"$f":"IF(zweizeilig!G138=\"\",\"\",zweizeilig!G138)","v":0},{"$f":"IF(OR(B39=\"\",C39=\"\",D39=\"\"),\"\",IF(ISERROR(IF(B39>BBMAVRV,BBMAVRV*$E$6*C39/D39,B39*$E$6*C39/D39)),\"\",IF(B39>BBMAVRV,BBMAVRV*$E$6*C39/D39,B39*$E$6*C39/D39)))","v":""},{"$f":"IF(zweizeilig!I138=\"\",\"\",zweizeilig!I138)","v":0},{"$f":"IF(E39=\"\",\"\",IF(B39>BBMKVPV,BBMKVPV*$G$6*C39/D39,B39*$G$6*C39/D39))","v":""},{"$f":"IF(zweizeilig!K138=\"\",\"\",zweizeilig!K138)","v":0},{"$f":"IF(E39=\"\",\"\",IF(B39>BBMKVPV,BBMKVPV*$I$6*C39/D39,B39*$I$6*C39/D39))","v":""},{"$f":"IF(zweizeilig!M138=\"\",\"\",zweizeilig!M138)","v":0},{"$f":"IF(E39=\"\",\"\",IF(B39>BBMAVRV,BBMAVRV*$K$6*C39/D39,B39*$K$6*C39/D39))","v":""},{"$f":"IF(zweizeilig!O138=\"\",\"\",zweizeilig!O138)","v":0},{"$f":"IF(E39=\"\",\"\",IF(B39>BBMAVRV,BBMAVRV*$M$6*C39/D39,B39*$M$6*C39/D39))","v":""},{"$f":"IF(zweizeilig!Q138=\"\",\"\",zweizeilig!Q138)","v":0},{"$f":"IF(C39=\"\",\"\",IF(D39=\"\",\"\",SUM(E40:N40)))","v":0}]
[null,null,null,null,{"$f":"IF(E39=\"\",\"\",MIN(E39,F39))","v":""},null,{"$f":"IF(G39=\"\",\"\",MIN(G39,H39))","v":""},null,{"$f":"IF(I39=\"\",\"\",MIN(I39,J39))","v":""},null,{"$f":"IF(K39=\"\",\"\",MIN(K39,L39))","v":""},null,{"$f":"IF(OR(M39=\"\",zweizeilig!S138<>\"ja\"),\"\",MIN(M39,N39))","v":""}]
[null,null,null,null,null,null,null,null,null,null,null,null,{"$f":"SUM(O7:O40)","v":0}]

{"sheet":"Seite 5","index":5,"n_rows":41,"n_cols":15,"rows_kept":41,"cut":false,"hidden":false,"merged":[[31,4,31,5],[33,4,33,5],[13,4,13,5],[37,8,37,9],[35,8,35,9],[9,4,9,5],[35,4,35,5],[33,6,33,7],[33,8,33,9],[17,8,17,9],[17,6,17,7],[17,4,17,5],[15,8,15,9],[15,6,15,7],[15,4,15,5],[11,6,11,7],[11,8,11,9],[11,4,11,5],[10,1,11,1],[32,3,33,3],[30,1,31,1],[30,2,31,2],[10,2,11,2],[34,2,35,2],[32,1,33,1],[32,2,33,2],[34,3,35,3],[16,1,17,1],[16,2,17,2],[16,3,17,3],[14,3,15,3],[10,3,11,3],[8,1,9,1],[8,2,9,2],[8,3,9,3],[32,14,33,14],[33,10,33,11],[33,12,33,13],[28,1,29,1],[28,2,29,2],[35,6,35,7],[34,1,35,1],[30,14,31,14],[31,10,31,11],[31,12,31,13],[30,3,31,3],[31,8,31,9],[31,6,31,7],[34,14,35,14],[35,10,35,11],[35,12,35,13],[28,3,29,3],[29,8,29,9],[29,6,29,7],[28,14,29,14],[29,10,29,11],[40,12,41,14],[38,14,39,14],[39,10,39,11],[39,12,39,13],[36,14,37,14],[37,10,37,11],[37,12,37,13],[38,1,39,1],[38,2,39,2],[38,3,39,3],[39,8,39,9],[39,6,39,7],[36,1,37,1],[36,2,37,2],[36,3,37,3],[37,6,37,7],[39,4,39,5],[37,4,37,5],[29,12,29,13],[26,14,27,14],[27,10,27,11],[27,12,27,13],[26,1,27,1],[26,2,27,2],[26,3,27,3],[27,8,27,9],[27,6,27,7],[27,4,27,5],[29,4,29,5],[24,14,25,14],[25,10,25,11],[25,12,25,13],[24,1,25,1],[24,2,25,2],[24,3,25,3],[25,8,25,9],[25,6,25,7],[25,4,25,5],[22,14,23,14],[23,10,23,11],[23,12,23,13],[22,1,23,1],[22,2,23,2],[22,3,23,3],[23,8,23,9],[23,6,23,7],[23,4,23,5],[20,14,21,14],[21,10,21,11],[21,12,21,13],[20,1,21,1],[20,2,21,2],[20,3,21,3],[21,8,21,9],[21,6,21,7],[21,4,21,5],[18,14,19,14],[19,10,19,11],[19,12,19,13],[18,1,19,1],[18,2,19,2],[18,3,19,3],[19,8,19,9],[19,4,19,5],[19,6,19,7],[16,14,17,14],[17,10,17,11],[17,12,17,13],[12,1,13,1],[12,2,13,2],[12,3,13,3],[13,8,13,9],[13,6,13,7],[14,14,15,14],[15,10,15,11],[15,12,15,13],[14,1,15,1],[14,2,15,2],[12,14,13,14],[13,10,13,11],[13,12,13,13],[8,14,9,14],[9,10,9,11],[9,12,9,13],[9,8,9,9],[10,14,11,14],[11,10,11,11],[11,12,11,13],[9,6,9,7],[4,14,5,14],[4,0,5,0],[6,1,7,1],[4,6,4,7],[7,6,7,7],[7,4,7,5],[4,4,4,5],[7,8,7,9],[6,14,7,14],[4,8,4,9],[1,12,1,14],[4,1,5,1],[7,10,7,11],[7,12,7,13],[4,2,4,3],[4,10,4,11],[4,12,4,13],[6,2,7,2],[6,3,7,3],[2,12,2,14],[0,5,3,11],[38,0,39,0],[6,0,7,0],[8,0,9,0],[10,0,11,0],[12,0,13,0],[14,0,15,0],[16,0,17,0],[18,0,19,0],[36,0,37,0],[34,0,35,0],[26,0,27,0],[28,0,29,0],[30,0,31,0],[24,0,25,0],[20,0,21,0],[22,0,23,0],[32,0,33,0]]}
["Nachweis der Lehrkräfte, Bruttogehaltssummen und",null,null,null,null,null,null,null,null,null,null,null,null,null,"Anlage 3 zum Antrag auf Finanzhilfe"]
["Aufwendungen für die soziale Sicherung",null,null,null,null,null,null,null,null,null,null,null,{"$f":"'Anlage 3'!M2","v":"für das Schuljahr "}]
["Funktion: SL (Schulleitung), LK (Lehrkraft), PM (Pädagogische(r) Mitarbeiter(in))",null,null,null,null,null,null,null,null,null,null,null,{"$f":"'Anlage 3'!M3","v":"00:00:00"}]
["Hinweis: PM nur bei Förderschulen in vorgesehenen Schwerpunkten!"]
["Name und\nFunktion","rentenvers.-\npfl. Entgelt","Lehr-/Zusatzpersonal",null,"Arbeitslosenversicherung",null,"Krankenversicherung",null,"Pflegeversicherung",null,"Rentenversicherung",null,"Zusatzversicherung",null,"zu berück-\nsichtigen"]
[null,null,"tats. Std.","Vertragsstd.",{"$f":"'Anlage 3'!E6","v":""},"Ist",{"$f":"'Anlage 3'!G6","v":""},"Ist",{"$f":"'Anlage 3'!I6","v":""},"Ist",{"$f":"'Anlage 3'!K6","v":""},"Ist",{"$f":"'Anlage 3'!M6","v":""},"Ist"]
[{"$f":"IF(zweizeilig!A140=\"\",\"\",zweizeilig!A140)","v":" "},{"$f":"IF(zweizeilig!E140=\"\",\"\",zweizeilig!E140)","v":0},{"$f":"IF(zweizeilig!F140=\"\",\"\",zweizeilig!F140)","v":0},{"$f":"IF(zweizeilig!G140=\"\",\"\",zweizeilig!G140)","v":0},{"$f":"IF(OR(B7=\"\",C7=\"\",D7=\"\"),\"\",IF(ISERROR(IF(B7>BBMAVRV,BBMAVRV*$E$6*C7/D7,B7*$E$6*C7/D7)),\"\",IF(B7>BBMAVRV,BBMAVRV*$E$6*C7/D7,B7*$E$6*C7/D7)))","v":""},{"$f":"IF(zweizeilig!I140=\"\",\"\",zweizeilig!I140)","v":0},{"$f":"IF(E7=\"\",\"\",IF(B7>BBMKVPV,BBMKVPV*$G$6*C7/D7,B7*$G$6*C7/D7))","v":""},{"$f":"IF(zweizeilig!K140=\"\",\"\",zweizeilig!K140)","v":0},{"$f":"IF(E7=\"\",\"\",IF(B7>BBMKVPV,BBMKVPV*$I$6*C7/D7,B7*$I$6*C7/D7))","v":""},{"$f":"IF(zweizeilig!M140=\"\",\"\",zweizeilig!M140)","v":0},{"$f":"IF(E7=\"\",\"\",IF(B7>BBMAVRV,BBMAVRV*$K$6*C7/D7,B7*$K$6*C7/D7))","v":""},{"$f":"IF(zweizeilig!O140=\"\",\"\",zweizeilig!O140)","v":0},{"$f":"IF(E7=\"\",\"\",IF(B7>BBMAVRV,BBMAVRV*$M$6*C7/D7,B7*$M$6*C7/D7))","v":""},{"$f":"IF(zweizeilig!Q140=\"\",\"\",zweizeilig!Q140)","v":0},{"$f":"IF(C7=\"\",\"\",IF(D7=\"\",\"\",SUM(E8:N8)))","v":0}]
[null,null,null,null,{"$f":"IF(E7=\"\",\"\",MIN(E7,F7))","v":""},null,{"$f":"IF(G7=\"\",\"\",MIN(G7,H7))","v":""},null,{"$f":"IF(I7=\"\",\"\",MIN(I7,J7))","v":""},null,{"$f":"IF(K7=\"\",\"\",MIN(K7,L7))","v":""},null,{"$f":"IF(OR(M7=\"\",zweizeilig!S140<>\"ja\"),\"\",MIN(M7,N7))","v":""}]
[{"$f":"IF(zweizeilig!A142=\"\",\"\",zweizeilig!A142)","v":" "},{"$f":"IF(zweizeilig!E142=\"\",\"\",zweizeilig!E142)","v":0},{"$f":"IF(zweizeilig!F142=\"\",\"\",zweizeilig!F142)","v":0},{"$f":"IF(zweizeilig!G142=\"\",\"\",zweizeilig!G142)","v":0},{"$f":"IF(OR(B9=\"\",C9=\"\",D9=\"\"),\"\",IF(ISERROR(IF(B9>BBMAVRV,BBMAVRV*$E$6*C9/D9,B9*$E$6*C9/D9)),\"\",IF(B9>BBMAVRV,BBMAVRV*$E$6*C9/D9,B9*$E$6*C9/D9)))","v":""},{"$f":"IF(zweizeilig!I142=\"\",\"\",zweizeilig!I142)","v":0},{"$f":"IF(E9=\"\",\"\",IF(B9>BBMKVPV,BBMKVPV*$G$6*C9/D9,B9*$G$6*C9/D9))","v":""},{"$f":"IF(zweizeilig!K142=\"\",\"\",zweizeilig!K142)","v":0},{"$f":"IF(E9=\"\",\"\",IF(B9>BBMKVPV,BBMKVPV*$I$6*C9/D9,B9*$I$6*C9/D9))","v":""},{"$f":"IF(zweizeilig!M142=\"\",\"\",zweizeilig!M142)","v":0},{"$f":"IF(E9=\"\",\"\",IF(B9>BBMAVRV,BBMAVRV*$K$6*C9/D9,B9*$K$6*C9/D9))","v":""},{"$f":"IF(zweizeilig!O142=\"\",\"\",zweizeilig!O142)","v":0},{"$f":"IF(E9=\"\",\"\",IF(B9>BBMAVRV,BBMAVRV*$M$6*C9/D9,B9*$M$6*C9/D9))","v":""},{"$f":"IF(zweizeilig!Q142=\"\",\"\",zweizeilig!Q142)","v":0},{"$f":"IF(C9=\"\",\"\",IF(D9=\"\",\"\",SUM(E10:N10)))","v":0}]
[null,null,null,null,{"$f":"IF(E9=\"\",\"\",MIN(E9,F9))","v":""},null,{"$f":"IF(G9=\"\",\"\",MIN(G9,H9))","v":""},null,{"$f":"IF(I9=\"\",\"\",MIN(I9,J9))","v":""},null,{"$f":"IF(K9=\"\",\"\",MIN(K9,L9))","v":""},null,{"$f":"IF(OR(M9=\"\",zweizeilig!S142<>\"ja\"),\"\",MIN(M9,N9))","v":""}]
[{"$f":"IF(zweizeilig!A144=\"\",\"\",zweizeilig!A144)","v":" "},{"$f":"IF(zweizeilig!E144=\"\",\"\",zweizeilig!E144)","v":0},{"$f":"IF(zweizeilig!F144=\"\",\"\",zweizeilig!F144)","v":0},{"$f":"IF(zweizeilig!G144=\"\",\"\",zweizeilig!G144)","v":0},{"$f":"IF(OR(B11=\"\",C11=\"\",D11=\"\"),\"\",IF(ISERROR(IF(B11>BBMAVRV,BBMAVRV*$E$6*C11/D11,B11*$E$6*C11/D11)),\"\",IF(B11>BBMAVRV,BBMAVRV*$E$6*C11/D11,B11*$E$6*C11/D11)))","v":""},{"$f":"IF(zweizeilig!I144=\"\",\"\",zweizeilig!I144)","v":0},{"$f":"IF(E11=\"\",\"\",IF(B11>BBMKVPV,BBMKVPV*$G$6*C11/D11,B11*$G$6*C11/D11))","v":""},{"$f":"IF(zweizeilig!K144=\"\",\"\",zweizeilig!K144)","v":0},{"$f":"IF(E11=\"\",\"\",IF(B11>BBMKVPV,BBMKVPV*$I$6*C11/D11,B11*$I$6*C11/D11))","v":""},{"$f":"IF(zweizeilig!M144=\"\",\"\",zweizeilig!M144)","v":0},{"$f":"IF(E11=\"\",\"\",IF(B11>BBMAVRV,BBMAVRV*$K$6*C11/D11,B11*$K$6*C11/D11))","v":""},{"$f":"IF(zweizeilig!O144=\"\",\"\",zweizeilig!O144)","v":0},{"$f":"IF(E11=\"\",\"\",IF(B11>BBMAVRV,BBMAVRV*$M$6*C11/D11,B11*$M$6*C11/D11))","v":""},{"$f":"IF(zweizeilig!Q144=\"\",\"\",zweizeilig!Q144)","v":0},{"$f":"IF(C11=\"\",\"\",IF(D11=\"\",\"\",SUM(E12:N12)))","v":0}]
[null,null,null,null,{"$f":"IF(E11=\"\",\"\",MIN(E11,F11))","v":""},null,{"$f":"IF(G11=\"\",\"\",MIN(G11,H11))","v":""},null,{"$f":"IF(I11=\"\",\"\",MIN(I11,J11))","v":""},null,{"$f":"IF(K11=\"\",\"\",MIN(K11,L11))","v":""},null,{"$f":"IF(OR(M11=\"\",zweizeilig!S144<>\"ja\"),\"\",MIN(M11,N11))","v":""}]
[{"$f":"IF(zweizeilig!A146=\"\",\"\",zweizeilig!A146)","v":" "},{"$f":"IF(zweizeilig!E146=\"\",\"\",zweizeilig!E146)","v":0},{"$f":"IF(zweizeilig!F146=\"\",\"\",zweizeilig!F146)","v":0},{"$f":"IF(zweizeilig!G146=\"\",\"\",zweizeilig!G146)","v":0},{"$f":"IF(OR(B13=\"\",C13=\"\",D13=\"\"),\"\",IF(ISERROR(IF(B13>BBMAVRV,BBMAVRV*$E$6*C13/D13,B13*$E$6*C13/D13)),\"\",IF(B13>BBMAVRV,BBMAVRV*$E$6*C13/D13,B13*$E$6*C13/D13)))","v":""},{"$f":"IF(zweizeilig!I146=\"\",\"\",zweizeilig!I146)","v":0},{"$f":"IF(E13=\"\",\"\",IF(B13>BBMKVPV,BBMKVPV*$G$6*C13/D13,B13*$G$6*C13/D13))","v":""},{"$f":"IF(zweizeilig!K146=\"\",\"\",zweizeilig!K146)","v":0},{"$f":"IF(E13=\"\",\"\",IF(B13>BBMKVPV,BBMKVPV*$I$6*C13/D13,B13*$I$6*C13/D13))","v":""},{"$f":"IF(zweizeilig!M146=\"\",\"\",zweizeilig!M146)","v":0},{"$f":"IF(E13=\"\",\"\",IF(B13>BBMAVRV,BBMAVRV*$K$6*C13/D13,B13*$K$6*C13/D13))","v":""},{"$f":"IF(zweizeilig!O146=\"\",\"\",zweizeilig!O146)","v":0},{"$f":"IF(E13=\"\",\"\",IF(B13>BBMAVRV,BBMAVRV*$M$6*C13/D13,B13*$M$6*C13/D13))","v":""},{"$f":"IF(zweizeilig!Q146=\"\",\"\",zweizeilig!Q146)","v":0},{"$f":"IF(C13=\"\",\"\",IF(D13=\"\",\"\",SUM(E14:N14)))","v":0}]
[null,null,null,null,{"$f":"IF(E13=\"\",\"\",MIN(E13,F13))","v":""},null,{"$f":"IF(G13=\"\",\"\",MIN(G13,H13))","v":""},null,{"$f":"IF(I13=\"\",\"\",MIN(I13,J13))","v":""},null,{"$f":"IF(K13=\"\",\"\",MIN(K13,L13))","v":""},null,{"$f":"IF(OR(M13=\"\",zweizeilig!S146<>\"ja\"),\"\",MIN(M13,N13))","v":""}]
[{"$f":"IF(zweizeilig!A148=\"\",\"\",zweizeilig!A148)","v":" "},{"$f":"IF(zweizeilig!E148=\"\",\"\",zweizeilig!E148)","v":0},{"$f":"IF(zweizeilig!F148=\"\",\"\",zweizeilig!F148)","v":0},{"$f":"IF(zweizeilig!G148=\"\",\"\",zweizeilig!G148)","v":0},{"$f":"IF(OR(B15=\"\",C15=\"\",D15=\"\"),\"\",IF(ISERROR(IF(B15>BBMAVRV,BBMAVRV*$E$6*C15/D15,B15*$E$6*C15/D15)),\"\",IF(B15>BBMAVRV,BBMAVRV*$E$6*C15/D15,B15*$E$6*C15/D15)))","v":""},{"$f":"IF(zweizeilig!I148=\"\",\"\",zweizeilig!I148)","v":0},{"$f":"IF(E15=\"\",\"\",IF(B15>BBMKVPV,BBMKVPV*$G$6*C15/D15,B15*$G$6*C15/D15))","v":""},{"$f":"IF(zweizeilig!K148=\"\",\"\",zweizeilig!K148)","v":0},{"$f":"IF(E15=\"\",\"\",IF(B15>BBMKVPV,BBMKVPV*$I$6*C15/D15,B15*$I$6*C15/D15))","v":""},{"$f":"IF(zweizeilig!M148=\"\",\"\",zweizeilig!M148)","v":0},{"$f":"IF(E15=\"\",\"\",IF(B15>BBMAVRV,BBMAVRV*$K$6*C15/D15,B15*$K$6*C15/D15))","v":""},{"$f":"IF(zweizeilig!O148=\"\",\"\",zweizeilig!O148)","v":0},{"$f":"IF(E15=\"\",\"\",IF(B15>BBMAVRV,BBMAVRV*$M$6*C15/D15,B15*$M$6*C15/D15))","v":""},{"$f":"IF(zweizeilig!Q148=\"\",\"\",zweizeilig!Q148)","v":0},{"$f":"IF(C15=\"\",\"\",IF(D15=\"\",\"\",SUM(E16:N16)))","v":0}]
[null,null,null,null,{"$f":"IF(E15=\"\",\"\",MIN(E15,F15))","v":""},null,{"$f":"IF(G15=\"\",\"\",MIN(G15,H15))","v":""},null,{"$f":"IF(I15=\"\",\"\",MIN(I15,J15))","v":""},null,{"$f":"IF(K15=\"\",\"\",MIN(K15,L15))","v":""},null,{"$f":"IF(OR(M15=\"\",zweizeilig!S148<>\"ja\"),\"\",MIN(M15,N15))","v":""}]
[{"$f":"IF(zweizeilig!A150=\"\",\"\",zweizeilig!A150)","v":" "},{"$f":"IF(zweizeilig!E150=\"\",\"\",zweizeilig!E150)","v":0},{"$f":"IF(zweizeilig!F150=\"\",\"\",zweizeilig!F150)","v":0},{"$f":"IF(zweizeilig!G150=\"\",\"\",zweizeilig!G150)","v":0},{"$f":"IF(OR(B17=\"\",C17=\"\",D17=\"\"),\"\",IF(ISERROR(IF(B17>BBMAVRV,BBMAVRV*$E$6*C17/D17,B17*$E$6*C17/D17)),\"\",IF(B17>BBMAVRV,BBMAVRV*$E$6*C17/D17,B17*$E$6*C17/D17)))","v":""},{"$f":"IF(zweizeilig!I150=\"\",\"\",zweizeilig!I150)","v":0},{"$f":"IF(E17=\"\",\"\",IF(B17>BBMKVPV,BBMKVPV*$G$6*C17/D17,B17*$G$6*C17/D17))","v":""},{"$f":"IF(zweizeilig!K150=\"\",\"\",zweizeilig!K150)","v":0},{"$f":"IF(E17=\"\",\"\",IF(B17>BBMKVPV,BBMKVPV*$I$6*C17/D17,B17*$I$6*C17/D17))","v":""},{"$f":"IF(zweizeilig!M150=\"\",\"\",zweizeilig!M150)","v":0},{"$f":"IF(E17=\"\",\"\",IF(B17>BBMAVRV,BBMAVRV*$K$6*C17/D17,B17*$K$6*C17/D17))","v":""},{"$f":"IF(zweizeilig!O150=\"\",\"\",zweizeilig!O150)","v":0},{"$f":"IF(E17=\"\",\"\",IF(B17>BBMAVRV,BBMAVRV*$M$6*C17/D17,B17*$M$6*C17/D17))","v":""},{"$f":"IF(zweizeilig!Q150=\"\",\"\",zweizeilig!Q150)","v":0},{"$f":"IF(C17=\"\",\"\",IF(D17=\"\",\"\",SUM(E18:N18)))","v":0}]
[null,null,null,null,{"$f":"IF(E17=\"\",\"\",MIN(E17,F17))","v":""},null,{"$f":"IF(G17=\"\",\"\",MIN(G17,H17))","v":""},null,{"$f":"IF(I17=\"\",\"\",MIN(I17,J17))","v":""},null,{"$f":"IF(K17=\"\",\"\",MIN(K17,L17))","v":""},null,{"$f":"IF(OR(M17=\"\",zweizeilig!S150<>\"ja\"),\"\",MIN(M17,N17))","v":""}]
[{"$f":"IF(zweizeilig!A152=\"\",\"\",zweizeilig!A152)","v":" "},{"$f":"IF(zweizeilig!E152=\"\",\"\",zweizeilig!E152)","v":0},{"$f":"IF(zweizeilig!F152=\"\",\"\",zweizeilig!F152)","v":0},{"$f":"IF(zweizeilig!G152=\"\",\"\",zweizeilig!G152)","v":0},{"$f":"IF(OR(B19=\"\",C19=\"\",D19=\"\"),\"\",IF(ISERROR(IF(B19>BBMAVRV,BBMAVRV*$E$6*C19/D19,B19*$E$6*C19/D19)),\"\",IF(B19>BBMAVRV,BBMAVRV*$E$6*C19/D19,B19*$E$6*C19/D19)))","v":""},{"$f":"IF(zweizeilig!I152=\"\",\"\",zweizeilig!I152)","v":0},{"$f":"IF(E19=\"\",\"\",IF(B19>BBMKVPV,BBMKVPV*$G$6*C19/D19,B19*$G$6*C19/D19))","v":""},{"$f":"IF(zweizeilig!K152=\"\",\"\",zweizeilig!K152)","v":0},{"$f":"IF(E19=\"\",\"\",IF(B19>BBMKVPV,BBMKVPV*$I$6*C19/D19,B19*$I$6*C19/D19))","v":""},{"$f":"IF(zweizeilig!M152=\"\",\"\",zweizeilig!M152)","v":0},{"$f":"IF(E19=\"\",\"\",IF(B19>BBMAVRV,BBMAVRV*$K$6*C19/D19,B19*$K$6*C19/D19))","v":""},{"$f":"IF(zweizeilig!O152=\"\",\"\",zweizeilig!O152)","v":0},{"$f":"IF(E19=\"\",\"\",IF(B19>BBMAVRV,BBMAVRV*$M$6*C19/D19,B19*$M$6*C19/D19))","v":""},{"$f":"IF(zweizeilig!Q152=\"\",\"\",zweizeilig!Q152)","v":0},{"$f":"IF(C19=\"\",\"\",IF(D19=\"\",\"\",SUM(E20:N20)))","v":0}]
[null,null,null,null,{"$f":"IF(E19=\"\",\"\",MIN(E19,F19))","v":""},null,{"$f":"IF(G19=\"\",\"\",MIN(G19,H19))","v":""},null,{"$f":"IF(I19=\"\",\"\",MIN(I19,J19))","v":""},null,{"$f":"IF(K19=\"\",\"\",MIN(K19,L19))","v":""},null,{"$f":"IF(OR(M19=\"\",zweizeilig!S152<>\"ja\"),\"\",MIN(M19,N19))","v":""}]
[{"$f":"IF(zweizeilig!A154=\"\",\"\",zweizeilig!A154)","v":" "},{"$f":"IF(zweizeilig!E154=\"\",\"\",zweizeilig!E154)","v":0},{"$f":"IF(zweizeilig!F154=\"\",\"\",zweizeilig!F154)","v":0},{"$f":"IF(zweizeilig!G154=\"\",\"\",zweizeilig!G154)","v":0},{"$f":"IF(OR(B21=\"\",C21=\"\",D21=\"\"),\"\",IF(ISERROR(IF(B21>BBMAVRV,BBMAVRV*$E$6*C21/D21,B21*$E$6*C21/D21)),\"\",IF(B21>BBMAVRV,BBMAVRV*$E$6*C21/D21,B21*$E$6*C21/D21)))","v":""},{"$f":"IF(zweizeilig!I154=\"\",\"\",zweizeilig!I154)","v":0},{"$f":"IF(E21=\"\",\"\",IF(B21>BBMKVPV,BBMKVPV*$G$6*C21/D21,B21*$G$6*C21/D21))","v":""},{"$f":"IF(zweizeilig!K154=\"\",\"\",zweizeilig!K154)","v":0},{"$f":"IF(E21=\"\",\"\",IF(B21>BBMKVPV,BBMKVPV*$I$6*C21/D21,B21*$I$6*C21/D21))","v":""},{"$f":"IF(zweizeilig!M154=\"\",\"\",zweizeilig!M154)","v":0},{"$f":"IF(E21=\"\",\"\",IF(B21>BBMAVRV,BBMAVRV*$K$6*C21/D21,B21*$K$6*C21/D21))","v":""},{"$f":"IF(zweizeilig!O154=\"\",\"\",zweizeilig!O154)","v":0},{"$f":"IF(E21=\"\",\"\",IF(B21>BBMAVRV,BBMAVRV*$M$6*C21/D21,B21*$M$6*C21/D21))","v":""},{"$f":"IF(zweizeilig!Q154=\"\",\"\",zweizeilig!Q154)","v":0},{"$f":"IF(C21=\"\",\"\",IF(D21=\"\",\"\",SUM(E22:N22)))","v":0}]
[null,null,null,null,{"$f":"IF(E21=\"\",\"\",MIN(E21,F21))","v":""},null,{"$f":"IF(G21=\"\",\"\",MIN(G21,H21))","v":""},null,{"$f":"IF(I21=\"\",\"\",MIN(I21,J21))","v":""},null,{"$f":"IF(K21=\"\",\"\",MIN(K21,L21))","v":""},null,{"$f":"IF(OR(M21=\"\",zweizeilig!S154<>\"ja\"),\"\",MIN(M21,N21))","v":""}]
[{"$f":"IF(zweizeilig!A156=\"\",\"\",zweizeilig!A156)","v":" "},{"$f":"IF(zweizeilig!E156=\"\",\"\",zweizeilig!E156)","v":0},{"$f":"IF(zweizeilig!F156=\"\",\"\",zweizeilig!F156)","v":0},{"$f":"IF(zweizeilig!G156=\"\",\"\",zweizeilig!G156)","v":0},{"$f":"IF(OR(B23=\"\",C23=\"\",D23=\"\"),\"\",IF(ISERROR(IF(B23>BBMAVRV,BBMAVRV*$E$6*C23/D23,B23*$E$6*C23/D23)),\"\",IF(B23>BBMAVRV,BBMAVRV*$E$6*C23/D23,B23*$E$6*C23/D23)))","v":""},{"$f":"IF(zweizeilig!I156=\"\",\"\",zweizeilig!I156)","v":0},{"$f":"IF(E23=\"\",\"\",IF(B23>BBMKVPV,BBMKVPV*$G$6*C23/D23,B23*$G$6*C23/D23))","v":""},{"$f":"IF(zweizeilig!K156=\"\",\"\",zweizeilig!K156)","v":0},{"$f":"IF(E23=\"\",\"\",IF(B23>BBMKVPV,BBMKVPV*$I$6*C23/D23,B23*$I$6*C23/D23))","v":""},{"$f":"IF(zweizeilig!M156=\"\",\"\",zweizeilig!M156)","v":0},{"$f":"IF(E23=\"\",\"\",IF(B23>BBMAVRV,BBMAVRV*$K$6*C23/D23,B23*$K$6*C23/D23))","v":""},{"$f":"IF(zweizeilig!O156=\"\",\"\",zweizeilig!O156)","v":0},{"$f":"IF(E23=\"\",\"\",IF(B23>BBMAVRV,BBMAVRV*$M$6*C23/D23,B23*$M$6*C23/D23))","v":""},{"$f":"IF(zweizeilig!Q156=\"\",\"\",zweizeilig!Q156)","v":0},{"$f":"IF(C23=\"\",\"\",IF(D23=\"\",\"\",SUM(E24:N24)))","v":0}]
[null,null,null,null,{"$f":"IF(E23=\"\",\"\",MIN(E23,F23))","v":""},null,{"$f":"IF(G23=\"\",\"\",MIN(G23,H23))","v":""},null,{"$f":"IF(I23=\"\",\"\",MIN(I23,J23))","v":""},null,{"$f":"IF(K23=\"\",\"\",MIN(K23,L23))","v":""},null,{"$f":"IF(OR(M23=\"\",zweizeilig!S156<>\"ja\"),\"\",MIN(M23,N23))","v":""}]
[{"$f":"IF(zweizeilig!A158=\"\",\"\",zweizeilig!A158)","v":" "},{"$f":"IF(zweizeilig!E158=\"\",\"\",zweizeilig!E158)","v":0},{"$f":"IF(zweizeilig!F158=\"\",\"\",zweizeilig!F158)","v":0},{"$f":"IF(zweizeilig!G158=\"\",\"\",zweizeilig!G158)","v":0},{"$f":"IF(OR(B25=\"\",C25=\"\",D25=\"\"),\"\",IF(ISERROR(IF(B25>BBMAVRV,BBMAVRV*$E$6*C25/D25,B25*$E$6*C25/D25)),\"\",IF(B25>BBMAVRV,BBMAVRV*$E$6*C25/D25,B25*$E$6*C25/D25)))","v":""},{"$f":"IF(zweizeilig!I158=\"\",\"\",zweizeilig!I158)","v":0},{"$f":"IF(E25=\"\",\"\",IF(B25>BBMKVPV,BBMKVPV*$G$6*C25/D25,B25*$G$6*C25/D25))","v":""},{"$f":"IF(zweizeilig!K158=\"\",\"\",zweizeilig!K158)","v":0},{"$f":"IF(E25=\"\",\"\",IF(B25>BBMKVPV,BBMKVPV*$I$6*C25/D25,B25*$I$6*C25/D25))","v":""},{"$f":"IF(zweizeilig!M158=\"\",\"\",zweizeilig!M158)","v":0},{"$f":"IF(E25=\"\",\"\",IF(B25>BBMAVRV,BBMAVRV*$K$6*C25/D25,B25*$K$6*C25/D25))","v":""},{"$f":"IF(zweizeilig!O158=\"\",\"\",zweizeilig!O158)","v":0},{"$f":"IF(E25=\"\",\"\",IF(B25>BBMAVRV,BBMAVRV*$M$6*C25/D25,B25*$M$6*C25/D25))","v":""},{"$f":"IF(zweizeilig!Q158=\"\",\"\",zweizeilig!Q158)","v":0},{"$f":"IF(C25=\"\",\"\",IF(D25=\"\",\"\",SUM(E26:N26)))","v":0}]
[null,null,null,null,{"$f":"IF(E25=\"\",\"\",MIN(E25,F25))","v":""},null,{"$f":"IF(G25=\"\",\"\",MIN(G25,H25))","v":""},null,{"$f":"IF(I25=\"\",\"\",MIN(I25,J25))","v":""},null,{"$f":"IF(K25=\"\",\"\",MIN(K25,L25))","v":""},null,{"$f":"IF(OR(M25=\"\",zweizeilig!S158<>\"ja\"),\"\",MIN(M25,N25))","v":""}]
[{"$f":"IF(zweizeilig!A160=\"\",\"\",zweizeilig!A160)","v":" "},{"$f":"IF(zweizeilig!E160=\"\",\"\",zweizeilig!E160)","v":0},{"$f":"IF(zweizeilig!F160=\"\",\"\",zweizeilig!F160)","v":0},{"$f":"IF(zweizeilig!G160=\"\",\"\",zweizeilig!G160)","v":0},{"$f":"IF(OR(B27=\"\",C27=\"\",D27=\"\"),\"\",IF(ISERROR(IF(B27>BBMAVRV,BBMAVRV*$E$6*C27/D27,B27*$E$6*C27/D27)),\"\",IF(B27>BBMAVRV,BBMAVRV*$E$6*C27/D27,B27*$E$6*C27/D27)))","v":""},{"$f":"IF(zweizeilig!I160=\"\",\"\",zweizeilig!I160)","v":0},{"$f":"IF(E27=\"\",\"\",IF(B27>BBMKVPV,BBMKVPV*$G$6*C27/D27,B27*$G$6*C27/D27))","v":""},{"$f":"IF(zweizeilig!K160=\"\",\"\",zweizeilig!K160)","v":0},{"$f":"IF(E27=\"\",\"\",IF(B27>BBMKVPV,BBMKVPV*$I$6*C27/D27,B27*$I$6*C27/D27))","v":""},{"$f":"IF(zweizeilig!M160=\"\",\"\",zweizeilig!M160)","v":0},{"$f":"IF(E27=\"\",\"\",IF(B27>BBMAVRV,BBMAVRV*$K$6*C27/D27,B27*$K$6*C27/D27))","v":""},{"$f":"IF(zweizeilig!O160=\"\",\"\",zweizeilig!O160)","v":0},{"$f":"IF(E27=\"\",\"\",IF(B27>BBMAVRV,BBMAVRV*$M$6*C27/D27,B27*$M$6*C27/D27))","v":""},{"$f":"IF(zweizeilig!Q160=\"\",\"\",zweizeilig!Q160)","v":0},{"$f":"IF(C27=\"\",\"\",IF(D27=\"\",\"\",SUM(E28:N28)))","v":0}]
[null,null,null,null,{"$f":"IF(E27=\"\",\"\",MIN(E27,F27))","v":""},null,{"$f":"IF(G27=\"\",\"\",MIN(G27,H27))","v":""},null,{"$f":"IF(I27=\"\",\"\",MIN(I27,J27))","v":""},null,{"$f":"IF(K27=\"\",\"\",MIN(K27,L27))","v":""},null,{"$f":"IF(OR(M27=\"\",zweizeilig!S160<>\"ja\"),\"\",MIN(M27,N27))","v":""}]
[{"$f":"IF(zweizeilig!A162=\"\",\"\",zweizeilig!A162)","v":" "},{"$f":"IF(zweizeilig!E162=\"\",\"\",zweizeilig!E162)","v":0},{"$f":"IF(zweizeilig!F162=\"\",\"\",zweizeilig!F162)","v":0},{"$f":"IF(zweizeilig!G162=\"\",\"\",zweizeilig!G162)","v":0},{"$f":"IF(OR(B29=\"\",C29=\"\",D29=\"\"),\"\",IF(ISERROR(IF(B29>BBMAVRV,BBMAVRV*$E$6*C29/D29,B29*$E$6*C29/D29)),\"\",IF(B29>BBMAVRV,BBMAVRV*$E$6*C29/D29,B29*$E$6*C29/D29)))","v":""},{"$f":"IF(zweizeilig!I162=\"\",\"\",zweizeilig!I162)","v":0},{"$f":"IF(E29=\"\",\"\",IF(B29>BBMKVPV,BBMKVPV*$G$6*C29/D29,B29*$G$6*C29/D29))","v":""},{"$f":"IF(zweizeilig!K162=\"\",\"\",zweizeilig!K162)","v":0},{"$f":"IF(E29=\"\",\"\",IF(B29>BBMKVPV,BBMKVPV*$I$6*C29/D29,B29*$I$6*C29/D29))","v":""},{"$f":"IF(zweizeilig!M162=\"\",\"\",zweizeilig!M162)","v":0},{"$f":"IF(E29=\"\",\"\",IF(B29>BBMAVRV,BBMAVRV*$K$6*C29/D29,B29*$K$6*C29/D29))","v":""},{"$f":"IF(zweizeilig!O162=\"\",\"\",zweizeilig!O162)","v":0},{"$f":"IF(E29=\"\",\"\",IF(B29>BBMAVRV,BBMAVRV*$M$6*C29/D29,B29*$M$6*C29/D29))","v":""},{"$f":"IF(zweizeilig!Q162=\"\",\"\",zweizeilig!Q162)","v":0},{"$f":"IF(C29=\"\",\"\",IF(D29=\"\",\"\",SUM(E30:N30)))","v":0}]
[null,null,null,null,{"$f":"IF(E29=\"\",\"\",MIN(E29,F29))","v":""},null,{"$f":"IF(G29=\"\",\"\",MIN(G29,H29))","v":""},null,{"$f":"IF(I29=\"\",\"\",MIN(I29,J29))","v":""},null,{"$f":"IF(K29=\"\",\"\",MIN(K29,L29))","v":""},null,{"$f":"IF(OR(M29=\"\",zweizeilig!S162<>\"ja\"),\"\",MIN(M29,N29))","v":""}]
[{"$f":"IF(zweizeilig!A164=\"\",\"\",zweizeilig!A164)","v":" "},{"$f":"IF(zweizeilig!E164=\"\",\"\",zweizeilig!E164)","v":0},{"$f":"IF(zweizeilig!F164=\"\",\"\",zweizeilig!F164)","v":0},{"$f":"IF(zweizeilig!G164=\"\",\"\",zweizeilig!G164)","v":0},{"$f":"IF(OR(B31=\"\",C31=\"\",D31=\"\"),\"\",IF(ISERROR(IF(B31>BBMAVRV,BBMAVRV*$E$6*C31/D31,B31*$E$6*C31/D31)),\"\",IF(B31>BBMAVRV,BBMAVRV*$E$6*C31/D31,B31*$E$6*C31/D31)))","v":""},{"$f":"IF(zweizeilig!I164=\"\",\"\",zweizeilig!I164)","v":0},{"$f":"IF(E31=\"\",\"\",IF(B31>BBMKVPV,BBMKVPV*$G$6*C31/D31,B31*$G$6*C31/D31))","v":""},{"$f":"IF(zweizeilig!K164=\"\",\"\",zweizeilig!K164)","v":0},{"$f":"IF(E31=\"\",\"\",IF(B31>BBMKVPV,BBMKVPV*$I$6*C31/D31,B31*$I$6*C31/D31))","v":""},{"$f":"IF(zweizeilig!M164=\"\",\"\",zweizeilig!M164)","v":0},{"$f":"IF(E31=\"\",\"\",IF(B31>BBMAVRV,BBMAVRV*$K$6*C31/D31,B31*$K$6*C31/D31))","v":""},{"$f":"IF(zweizeilig!O164=\"\",\"\",zweizeilig!O164)","v":0},{"$f":"IF(E31=\"\",\"\",IF(B31>BBMAVRV,BBMAVRV*$M$6*C31/D31,B31*$M$6*C31/D31))","v":""},{"$f":"IF(zweizeilig!Q164=\"\",\"\",zweizeilig!Q164)","v":0},{"$f":"IF(C31=\"\",\"\",IF(D31=\"\",\"\",SUM(E32:N32)))","v":0}]
[null,null,null,null,{"$f":"IF(E31=\"\",\"\",MIN(E31,F31))","v":""},null,{"$f":"IF(G31=\"\",\"\",MIN(G31,H31))","v":""},null,{"$f":"IF(I31=\"\",\"\",MIN(I31,J31))","v":""},null,{"$f":"IF(K31=\"\",\"\",MIN(K31,L31))","v":""},null,{"$f":"IF(OR(M31=\"\",zweizeilig!S164<>\"ja\"),\"\",MIN(M31,N31))","v":""}]
[{"$f":"IF(zweizeilig!A166=\"\",\"\",zweizeilig!A166)","v":" "},{"$f":"IF(zweizeilig!E166=\"\",\"\",zweizeilig!E166)","v":0},{"$f":"IF(zweizeilig!F166=\"\",\"\",zweizeilig!F166)","v":0},{"$f":"IF(zweizeilig!G166=\"\",\"\",zweizeilig!G166)","v":0},{"$f":"IF(OR(B33=\"\",C33=\"\",D33=\"\"),\"\",IF(ISERROR(IF(B33>BBMAVRV,BBMAVRV*$E$6*C33/D33,B33*$E$6*C33/D33)),\"\",IF(B33>BBMAVRV,BBMAVRV*$E$6*C33/D33,B33*$E$6*C33/D33)))","v":""},{"$f":"IF(zweizeilig!I166=\"\",\"\",zweizeilig!I166)","v":0},{"$f":"IF(E33=\"\",\"\",IF(B33>BBMKVPV,BBMKVPV*$G$6*C33/D33,B33*$G$6*C33/D33))","v":""},{"$f":"IF(zweizeilig!K166=\"\",\"\",zweizeilig!K166)","v":0},{"$f":"IF(E33=\"\",\"\",IF(B33>BBMKVPV,BBMKVPV*$I$6*C33/D33,B33*$I$6*C33/D33))","v":""},{"$f":"IF(zweizeilig!M166=\"\",\"\",zweizeilig!M166)","v":0},{"$f":"IF(E33=\"\",\"\",IF(B33>BBMAVRV,BBMAVRV*$K$6*C33/D33,B33*$K$6*C33/D33))","v":""},{"$f":"IF(zweizeilig!O166=\"\",\"\",zweizeilig!O166)","v":0},{"$f":"IF(E33=\"\",\"\",IF(B33>BBMAVRV,BBMAVRV*$M$6*C33/D33,B33*$M$6*C33/D33))","v":""},{"$f":"IF(zweizeilig!Q166=\"\",\"\",zweizeilig!Q166)","v":0},{"$f":"IF(C33=\"\",\"\",IF(D33=\"\",\"\",SUM(E34:N34)))","v":0}]
[null,null,null,null,{"$f":"IF(E33=\"\",\"\",MIN(E33,F33))","v":""},null,{"$f":"IF(G33=\"\",\"\",MIN(G33,H33))","v":""},null,{"$f":"IF(I33=\"\",\"\",MIN(I33,J33))","v":""},null,{"$f":"IF(K33=\"\",\"\",MIN(K33,L33))","v":""},null,{"$f":"IF(OR(M33=\"\",zweizeilig!S166<>\"ja\"),\"\",MIN(M33,N33))","v":""}]
[{"$f":"IF(zweizeilig!A168=\"\",\"\",zweizeilig!A168)","v":" "},{"$f":"IF(zweizeilig!E168=\"\",\"\",zweizeilig!E168)","v":0},{"$f":"IF(zweizeilig!F168=\"\",\"\",zweizeilig!F168)","v":0},{"$f":"IF(zweizeilig!G168=\"\",\"\",zweizeilig!G168)","v":0},{"$f":"IF(OR(B35=\"\",C35=\"\",D35=\"\"),\"\",IF(ISERROR(IF(B35>BBMAVRV,BBMAVRV*$E$6*C35/D35,B35*$E$6*C35/D35)),\"\",IF(B35>BBMAVRV,BBMAVRV*$E$6*C35/D35,B35*$E$6*C35/D35)))","v":""},{"$f":"IF(zweizeilig!I168=\"\",\"\",zweizeilig!I168)","v":0},{"$f":"IF(E35=\"\",\"\",IF(B35>BBMKVPV,BBMKVPV*$G$6*C35/D35,B35*$G$6*C35/D35))","v":""},{"$f":"IF(zweizeilig!K168=\"\",\"\",zweizeilig!K168)","v":0},{"$f":"IF(E35=\"\",\"\",IF(B35>BBMKVPV,BBMKVPV*$I$6*C35/D35,B35*$I$6*C35/D35))","v":""},{"$f":"IF(zweizeilig!M168=\"\",\"\",zweizeilig!M168)","v":0},{"$f":"IF(E35=\"\",\"\",IF(B35>BBMAVRV,BBMAVRV*$K$6*C35/D35,B35*$K$6*C35/D35))","v":""},{"$f":"IF(zweizeilig!O168=\"\",\"\",zweizeilig!O168)","v":0},{"$f":"IF(E35=\"\",\"\",IF(B35>BBMAVRV,BBMAVRV*$M$6*C35/D35,B35*$M$6*C35/D35))","v":""},{"$f":"IF(zweizeilig!Q168=\"\",\"\",zweizeilig!Q168)","v":0},{"$f":"IF(C35=\"\",\"\",IF(D35=\"\",\"\",SUM(E36:N36)))","v":0}]
[null,null,null,null,{"$f":"IF(E35=\"\",\"\",MIN(E35,F35))","v":""},null,{"$f":"IF(G35=\"\",\"\",MIN(G35,H35))","v":""},null,{"$f":"IF(I35=\"\",\"\",MIN(I35,J35))","v":""},null,{"$f":"IF(K35=\"\",\"\",MIN(K35,L35))","v":""},null,{"$f":"IF(OR(M35=\"\",zweizeilig!S168<>\"ja\"),\"\",MIN(M35,N35))","v":""}]
[{"$f":"IF(zweizeilig!A170=\"\",\"\",zweizeilig!A170)","v":" "},{"$f":"IF(zweizeilig!E170=\"\",\"\",zweizeilig!E170)","v":0},{"$f":"IF(zweizeilig!F170=\"\",\"\",zweizeilig!F170)","v":0},{"$f":"IF(zweizeilig!G170=\"\",\"\",zweizeilig!G170)","v":0},{"$f":"IF(OR(B37=\"\",C37=\"\",D37=\"\"),\"\",IF(ISERROR(IF(B37>BBMAVRV,BBMAVRV*$E$6*C37/D37,B37*$E$6*C37/D37)),\"\",IF(B37>BBMAVRV,BBMAVRV*$E$6*C37/D37,B37*$E$6*C37/D37)))","v":""},{"$f":"IF(zweizeilig!I170=\"\",\"\",zweizeilig!I170)","v":0},{"$f":"IF(E37=\"\",\"\",IF(B37>BBMKVPV,BBMKVPV*$G$6*C37/D37,B37*$G$6*C37/D37))","v":""},{"$f":"IF(zweizeilig!K170=\"\",\"\",zweizeilig!K170)","v":0},{"$f":"IF(E37=\"\",\"\",IF(B37>BBMKVPV,BBMKVPV*$I$6*C37/D37,B37*$I$6*C37/D37))","v":""},{"$f":"IF(zweizeilig!M170=\"\",\"\",zweizeilig!M170)","v":0},{"$f":"IF(E37=\"\",\"\",IF(B37>BBMAVRV,BBMAVRV*$K$6*C37/D37,B37*$K$6*C37/D37))","v":""},{"$f":"IF(zweizeilig!O170=\"\",\"\",zweizeilig!O170)","v":0},{"$f":"IF(E37=\"\",\"\",IF(B37>BBMAVRV,BBMAVRV*$M$6*C37/D37,B37*$M$6*C37/D37))","v":""},{"$f":"IF(zweizeilig!Q170=\"\",\"\",zweizeilig!Q170)","v":0},{"$f":"IF(C37=\"\",\"\",IF(D37=\"\",\"\",SUM(E38:N38)))","v":0}]
[null,null,null,null,{"$f":"IF(E37=\"\",\"\",MIN(E37,F37))","v":""},null,{"$f":"IF(G37=\"\",\"\",MIN(G37,H37))","v":""},null,{"$f":"IF(I37=\"\",\"\",MIN(I37,J37))","v":""},null,{"$f":"IF(K37=\"\",\"\",MIN(K37,L37))","v":""},null,{"$f":"IF(OR(M37=\"\",zweizeilig!S170<>\"ja\"),\"\",MIN(M37,N37))","v":""}]
[{"$f":"IF(zweizeilig!A172=\"\",\"\",zweizeilig!A172)","v":" "},{"$f":"IF(zweizeilig!E172=\"\",\"\",zweizeilig!E172)","v":0},{"$f":"IF(zweizeilig!F172=\"\",\"\",zweizeilig!F172)","v":0},{"$f":"IF(zweizeilig!G172=\"\",\"\",zweizeilig!G172)","v":0},{"$f":"IF(OR(B39=\"\",C39=\"\",D39=\"\"),\"\",IF(ISERROR(IF(B39>BBMAVRV,BBMAVRV*$E$6*C39/D39,B39*$E$6*C39/D39)),\"\",IF(B39>BBMAVRV,BBMAVRV*$E$6*C39/D39,B39*$E$6*C39/D39)))","v":""},{"$f":"IF(zweizeilig!I172=\"\",\"\",zweizeilig!I172)","v":0},{"$f":"IF(E39=\"\",\"\",IF(B39>BBMKVPV,BBMKVPV*$G$6*C39/D39,B39*$G$6*C39/D39))","v":""},{"$f":"IF(zweizeilig!K172=\"\",\"\",zweizeilig!K172)","v":0},{"$f":"IF(E39=\"\",\"\",IF(B39>BBMKVPV,BBMKVPV*$I$6*C39/D39,B39*$I$6*C39/D39))","v":""},{"$f":"IF(zweizeilig!M172=\"\",\"\",zweizeilig!M172)","v":0},{"$f":"IF(E39=\"\",\"\",IF(B39>BBMAVRV,BBMAVRV*$K$6*C39/D39,B39*$K$6*C39/D39))","v":""},{"$f":"IF(zweizeilig!O172=\"\",\"\",zweizeilig!O172)","v":0},{"$f":"IF(E39=\"\",\"\",IF(B39>BBMAVRV,BBMAVRV*$M$6*C39/D39,B39*$M$6*C39/D39))","v":""},{"$f":"IF(zweizeilig!Q172=\"\",\"\",zweizeilig!Q172)","v":0},{"$f":"IF(C39=\"\",\"\",IF(D39=\"\",\"\",SUM(E40:N40)))","v":0}]
[null,null,null,null,{"$f":"IF(E39=\"\",\"\",MIN(E39,F39))","v":""},null,{"$f":"IF(G39=\"\",\"\",MIN(G39,H39))","v":""},null,{"$f":"IF(I39=\"\",\"\",MIN(I39,J39))","v":""},null,{"$f":"IF(K39=\"\",\"\",MIN(K39,L39))","v":""},null,{"$f":"IF(OR(M39=\"\",zweizeilig!S172<>\"ja\"),\"\",MIN(M39,N39))","v":""}]
[null,null,null,null,null,null,null,null,null,null,null,null,{"$f":"SUM(O7:O40)","v":0}]

{"sheet":"Seite 6","index":6,"n_rows":41,"n_cols":15,"rows_kept":41,"cut":false,"hidden":false,"merged":[[38,0,39,0],[6,0,7,0],[8,0,9,0],[10,0,11,0],[12,0,13,0],[14,0,15,0],[16,0,17,0],[36,0,37,0],[4,14,5,14],[6,14,7,14],[4,8,4,9],[32,0,33,0],[8,1,9,1],[14,1,15,1],[14,2,15,2],[4,0,5,0],[7,4,7,5],[20,0,21,0],[22,0,23,0],[8,14,9,14],[9,10,9,11],[9,12,9,13],[10,14,11,14],[18,0,19,0],[1,12,1,14],[4,1,5,1],[7,10,7,11],[7,12,7,13],[4,2,4,3],[4,10,4,11],[4,12,4,13],[6,1,7,1],[4,6,4,7],[7,6,7,7],[0,5,3,11],[4,4,4,5],[2,12,2,14],[34,0,35,0],[24,0,25,0],[26,0,27,0],[28,0,29,0],[30,0,31,0],[34,2,35,2],[32,1,33,1],[32,2,33,2],[12,2,13,2],[12,14,13,14],[13,10,13,11],[13,12,13,13],[7,8,7,9],[6,2,7,2],[6,3,7,3],[13,4,13,5],[11,6,11,7],[11,8,11,9],[9,8,9,9],[11,10,11,11],[11,12,11,13],[11,4,11,5],[9,6,9,7],[9,4,9,5],[8,3,9,3],[10,3,11,3],[8,2,9,2],[16,14,17,14],[17,10,17,11],[17,12,17,13],[14,14,15,14],[15,10,15,11],[18,14,19,14],[19,10,19,11],[19,12,19,13],[18,1,19,1],[18,2,19,2],[18,3,19,3],[19,8,19,9],[19,4,19,5],[19,6,19,7],[15,12,15,13],[17,4,17,5],[14,3,15,3],[15,8,15,9],[15,6,15,7],[15,4,15,5],[20,14,21,14],[21,10,21,11],[21,12,21,13],[20,1,21,1],[20,2,21,2],[20,3,21,3],[21,8,21,9],[21,6,21,7],[21,4,21,5],[22,14,23,14],[23,10,23,11],[23,12,23,13],[22,1,23,1],[22,2,23,2],[22,3,23,3],[23,8,23,9],[23,6,23,7],[23,4,23,5],[24,14,25,14],[25,10,25,11],[25,12,25,13],[24,1,25,1],[24,2,25,2],[24,3,25,3],[25,8,25,9],[25,6,25,7],[25,4,25,5],[26,14,27,14],[27,10,27,11],[27,12,27,13],[26,1,27,1],[26,2,27,2],[26,3,27,3],[27,8,27,9],[27,6,27,7],[27,4,27,5],[29,12,29,13],[28,1,29,1],[28,2,29,2],[28,3,29,3],[29,8,29,9],[29,6,29,7],[30,14,31,14],[31,10,31,11],[31,12,31,13],[30,3,31,3],[31,8,31,9],[31,6,31,7],[38,1,39,1],[38,2,39,2],[38,3,39,3],[39,8,39,9],[34,3,35,3],[36,1,37,1],[36,2,37,2],[36,3,37,3],[34,1,35,1],[35,6,35,7],[37,8,37,9],[35,8,35,9],[39,4,39,5],[37,4,37,5],[35,4,35,5],[37,6,37,7],[39,6,39,7],[40,12,41,14],[38,14,39,14],[39,10,39,11],[39,12,39,13],[36,14,37,14],[37,10,37,11],[37,12,37,13],[34,14,35,14],[35,10,35,11],[35,12,35,13],[32,14,33,14],[33,10,33,11],[33,12,33,13],[10,1,11,1],[32,3,33,3],[30,1,31,1],[30,2,31,2],[16,1,17,1],[16,2,17,2],[16,3,17,3],[12,1,13,1],[12,3,13,3],[10,2,11,2],[33,6,33,7],[17,8,17,9],[17,6,17,7],[33,8,33,9],[13,6,13,7],[13,8,13,9],[29,4,29,5],[31,4,31,5],[33,4,33,5],[28,14,29,14],[29,10,29,11]]}
["Nachweis der Lehrkräfte, Bruttogehaltssummen und",null,null,null,null,null,null,null,null,null,null,null,null,null,"Anlage 3 zum Antrag auf Finanzhilfe"]
["Aufwendungen für die soziale Sicherung",null,null,null,null,null,null,null,null,null,null,null,{"$f":"'Anlage 3'!M2","v":"für das Schuljahr "}]
["Funktion: SL (Schulleitung), LK (Lehrkraft), PM (Pädagogische(r) Mitarbeiter(in))",null,null,null,null,null,null,null,null,null,null,null,{"$f":"'Anlage 3'!M3","v":"00:00:00"}]
["Hinweis: PM nur bei Förderschulen in vorgesehenen Schwerpunkten!"]
["Name und\nFunktion","rentenvers.-\npfl. Entgelt","Lehr-/Zusatzpersonal",null,"Arbeitslosenversicherung",null,"Krankenversicherung",null,"Pflegeversicherung",null,"Rentenversicherung",null,"Zusatzversicherung",null,"zu berück-\nsichtigen"]
[null,null,"tats. Std.","Vertragsstd.",{"$f":"'Anlage 3'!E6","v":""},"Ist",{"$f":"'Anlage 3'!G6","v":""},"Ist",{"$f":"'Anlage 3'!I6","v":""},"Ist",{"$f":"'Anlage 3'!K6","v":""},"Ist",{"$f":"'Anlage 3'!M6","v":""},"Ist"]
[{"$f":"IF(zweizeilig!A174=\"\",\"\",zweizeilig!A174)","v":" "},{"$f":"IF(zweizeilig!E174=\"\",\"\",zweizeilig!E174)","v":0},{"$f":"IF(zweizeilig!F174=\"\",\"\",zweizeilig!F174)","v":0},{"$f":"IF(zweizeilig!G174=\"\",\"\",zweizeilig!G174)","v":0},{"$f":"IF(OR(B7=\"\",C7=\"\",D7=\"\"),\"\",IF(ISERROR(IF(B7>BBMAVRV,BBMAVRV*$E$6*C7/D7,B7*$E$6*C7/D7)),\"\",IF(B7>BBMAVRV,BBMAVRV*$E$6*C7/D7,B7*$E$6*C7/D7)))","v":""},{"$f":"IF(zweizeilig!I174=\"\",\"\",zweizeilig!I174)","v":0},{"$f":"IF(E7=\"\",\"\",IF(B7>BBMKVPV,BBMKVPV*$G$6*C7/D7,B7*$G$6*C7/D7))","v":""},{"$f":"IF(zweizeilig!K174=\"\",\"\",zweizeilig!K174)","v":0},{"$f":"IF(E7=\"\",\"\",IF(B7>BBMKVPV,BBMKVPV*$I$6*C7/D7,B7*$I$6*C7/D7))","v":""},{"$f":"IF(zweizeilig!M174=\"\",\"\",zweizeilig!M174)","v":0},{"$f":"IF(E7=\"\",\"\",IF(B7>BBMAVRV,BBMAVRV*$K$6*C7/D7,B7*$K$6*C7/D7))","v":""},{"$f":"IF(zweizeilig!O174=\"\",\"\",zweizeilig!O174)","v":0},{"$f":"IF(E7=\"\",\"\",IF(B7>BBMAVRV,BBMAVRV*$M$6*C7/D7,B7*$M$6*C7/D7))","v":""},{"$f":"IF(zweizeilig!Q174=\"\",\"\",zweizeilig!Q174)","v":0},{"$f":"IF(C7=\"\",\"\",IF(D7=\"\",\"\",SUM(E8:N8)))","v":0}]
[null,null,null,null,{"$f":"IF(E7=\"\",\"\",MIN(E7,F7))","v":""},null,{"$f":"IF(G7=\"\",\"\",MIN(G7,H7))","v":""},null,{"$f":"IF(I7=\"\",\"\",MIN(I7,J7))","v":""},null,{"$f":"IF(K7=\"\",\"\",MIN(K7,L7))","v":""},null,{"$f":"IF(OR(M7=\"\",zweizeilig!S174<>\"ja\"),\"\",MIN(M7,N7))","v":""}]
[{"$f":"IF(zweizeilig!A176=\"\",\"\",zweizeilig!A176)","v":" "},{"$f":"IF(zweizeilig!E176=\"\",\"\",zweizeilig!E176)","v":0},{"$f":"IF(zweizeilig!F176=\"\",\"\",zweizeilig!F176)","v":0},{"$f":"IF(zweizeilig!G176=\"\",\"\",zweizeilig!G176)","v":0},{"$f":"IF(OR(B9=\"\",C9=\"\",D9=\"\"),\"\",IF(ISERROR(IF(B9>BBMAVRV,BBMAVRV*$E$6*C9/D9,B9*$E$6*C9/D9)),\"\",IF(B9>BBMAVRV,BBMAVRV*$E$6*C9/D9,B9*$E$6*C9/D9)))","v":""},{"$f":"IF(zweizeilig!I176=\"\",\"\",zweizeilig!I176)","v":0},{"$f":"IF(E9=\"\",\"\",IF(B9>BBMKVPV,BBMKVPV*$G$6*C9/D9,B9*$G$6*C9/D9))","v":""},{"$f":"IF(zweizeilig!K176=\"\",\"\",zweizeilig!K176)","v":0},{"$f":"IF(E9=\"\",\"\",IF(B9>BBMKVPV,BBMKVPV*$I$6*C9/D9,B9*$I$6*C9/D9))","v":""},{"$f":"IF(zweizeilig!M176=\"\",\"\",zweizeilig!M176)","v":0},{"$f":"IF(E9=\"\",\"\",IF(B9>BBMAVRV,BBMAVRV*$K$6*C9/D9,B9*$K$6*C9/D9))","v":""},{"$f":"IF(zweizeilig!O176=\"\",\"\",zweizeilig!O176)","v":0},{"$f":"IF(E9=\"\",\"\",IF(B9>BBMAVRV,BBMAVRV*$M$6*C9/D9,B9*$M$6*C9/D9))","v":""},{"$f":"IF(zweizeilig!Q176=\"\",\"\",zweizeilig!Q176)","v":0},{"$f":"IF(C9=\"\",\"\",IF(D9=\"\",\"\",SUM(E10:N10)))","v":0}]
[null,null,null,null,{"$f":"IF(E9=\"\",\"\",MIN(E9,F9))","v":""},null,{"$f":"IF(G9=\"\",\"\",MIN(G9,H9))","v":""},null,{"$f":"IF(I9=\"\",\"\",MIN(I9,J9))","v":""},null,{"$f":"IF(K9=\"\",\"\",MIN(K9,L9))","v":""},null,{"$f":"IF(OR(M9=\"\",zweizeilig!S176<>\"ja\"),\"\",MIN(M9,N9))","v":""}]
[{"$f":"IF(zweizeilig!A178=\"\",\"\",zweizeilig!A178)","v":" "},{"$f":"IF(zweizeilig!E178=\"\",\"\",zweizeilig!E178)","v":0},{"$f":"IF(zweizeilig!F178=\"\",\"\",zweizeilig!F178)","v":0},{"$f":"IF(zweizeilig!G178=\"\",\"\",zweizeilig!G178)","v":0},{"$f":"IF(OR(B11=\"\",C11=\"\",D11=\"\"),\"\",IF(ISERROR(IF(B11>BBMAVRV,BBMAVRV*$E$6*C11/D11,B11*$E$6*C11/D11)),\"\",IF(B11>BBMAVRV,BBMAVRV*$E$6*C11/D11,B11*$E$6*C11/D11)))","v":""},{"$f":"IF(zweizeilig!I178=\"\",\"\",zweizeilig!I178)","v":0},{"$f":"IF(E11=\"\",\"\",IF(B11>BBMKVPV,BBMKVPV*$G$6*C11/D11,B11*$G$6*C11/D11))","v":""},{"$f":"IF(zweizeilig!K178=\"\",\"\",zweizeilig!K178)","v":0},{"$f":"IF(E11=\"\",\"\",IF(B11>BBMKVPV,BBMKVPV*$I$6*C11/D11,B11*$I$6*C11/D11))","v":""},{"$f":"IF(zweizeilig!M178=\"\",\"\",zweizeilig!M178)","v":0},{"$f":"IF(E11=\"\",\"\",IF(B11>BBMAVRV,BBMAVRV*$K$6*C11/D11,B11*$K$6*C11/D11))","v":""},{"$f":"IF(zweizeilig!O178=\"\",\"\",zweizeilig!O178)","v":0},{"$f":"IF(E11=\"\",\"\",IF(B11>BBMAVRV,BBMAVRV*$M$6*C11/D11,B11*$M$6*C11/D11))","v":""},{"$f":"IF(zweizeilig!Q178=\"\",\"\",zweizeilig!Q178)","v":0},{"$f":"IF(C11=\"\",\"\",IF(D11=\"\",\"\",SUM(E12:N12)))","v":0}]
[null,null,null,null,{"$f":"IF(E11=\"\",\"\",MIN(E11,F11))","v":""},null,{"$f":"IF(G11=\"\",\"\",MIN(G11,H11))","v":""},null,{"$f":"IF(I11=\"\",\"\",MIN(I11,J11))","v":""},null,{"$f":"IF(K11=\"\",\"\",MIN(K11,L11))","v":""},null,{"$f":"IF(OR(M11=\"\",zweizeilig!S178<>\"ja\"),\"\",MIN(M11,N11))","v":""}]
[{"$f":"IF(zweizeilig!A180=\"\",\"\",zweizeilig!A180)","v":" "},{"$f":"IF(zweizeilig!E180=\"\",\"\",zweizeilig!E180)","v":0},{"$f":"IF(zweizeilig!F180=\"\",\"\",zweizeilig!F180)","v":0},{"$f":"IF(zweizeilig!G180=\"\",\"\",zweizeilig!G180)","v":0},{"$f":"IF(OR(B13=\"\",C13=\"\",D13=\"\"),\"\",IF(ISERROR(IF(B13>BBMAVRV,BBMAVRV*$E$6*C13/D13,B13*$E$6*C13/D13)),\"\",IF(B13>BBMAVRV,BBMAVRV*$E$6*C13/D13,B13*$E$6*C13/D13)))","v":""},{"$f":"IF(zweizeilig!I180=\"\",\"\",zweizeilig!I180)","v":0},{"$f":"IF(E13=\"\",\"\",IF(B13>BBMKVPV,BBMKVPV*$G$6*C13/D13,B13*$G$6*C13/D13))","v":""},{"$f":"IF(zweizeilig!K180=\"\",\"\",zweizeilig!K180)","v":0},{"$f":"IF(E13=\"\",\"\",IF(B13>BBMKVPV,BBMKVPV*$I$6*C13/D13,B13*$I$6*C13/D13))","v":""},{"$f":"IF(zweizeilig!M180=\"\",\"\",zweizeilig!M180)","v":0},{"$f":"IF(E13=\"\",\"\",IF(B13>BBMAVRV,BBMAVRV*$K$6*C13/D13,B13*$K$6*C13/D13))","v":""},{"$f":"IF(zweizeilig!O180=\"\",\"\",zweizeilig!O180)","v":0},{"$f":"IF(E13=\"\",\"\",IF(B13>BBMAVRV,BBMAVRV*$M$6*C13/D13,B13*$M$6*C13/D13))","v":""},{"$f":"IF(zweizeilig!Q180=\"\",\"\",zweizeilig!Q180)","v":0},{"$f":"IF(C13=\"\",\"\",IF(D13=\"\",\"\",SUM(E14:N14)))","v":0}]
[null,null,null,null,{"$f":"IF(E13=\"\",\"\",MIN(E13,F13))","v":""},null,{"$f":"IF(G13=\"\",\"\",MIN(G13,H13))","v":""},null,{"$f":"IF(I13=\"\",\"\",MIN(I13,J13))","v":""},null,{"$f":"IF(K13=\"\",\"\",MIN(K13,L13))","v":""},null,{"$f":"IF(OR(M13=\"\",zweizeilig!S180<>\"ja\"),\"\",MIN(M13,N13))","v":""}]
[{"$f":"IF(zweizeilig!A182=\"\",\"\",zweizeilig!A182)","v":" "},{"$f":"IF(zweizeilig!E182=\"\",\"\",zweizeilig!E182)","v":0},{"$f":"IF(zweizeilig!F182=\"\",\"\",zweizeilig!F182)","v":0},{"$f":"IF(zweizeilig!G182=\"\",\"\",zweizeilig!G182)","v":0},{"$f":"IF(OR(B15=\"\",C15=\"\",D15=\"\"),\"\",IF(ISERROR(IF(B15>BBMAVRV,BBMAVRV*$E$6*C15/D15,B15*$E$6*C15/D15)),\"\",IF(B15>BBMAVRV,BBMAVRV*$E$6*C15/D15,B15*$E$6*C15/D15)))","v":""},{"$f":"IF(zweizeilig!I182=\"\",\"\",zweizeilig!I182)","v":0},{"$f":"IF(E15=\"\",\"\",IF(B15>BBMKVPV,BBMKVPV*$G$6*C15/D15,B15*$G$6*C15/D15))","v":""},{"$f":"IF(zweizeilig!K182=\"\",\"\",zweizeilig!K182)","v":0},{"$f":"IF(E15=\"\",\"\",IF(B15>BBMKVPV,BBMKVPV*$I$6*C15/D15,B15*$I$6*C15/D15))","v":""},{"$f":"IF(zweizeilig!M182=\"\",\"\",zweizeilig!M182)","v":0},{"$f":"IF(E15=\"\",\"\",IF(B15>BBMAVRV,BBMAVRV*$K$6*C15/D15,B15*$K$6*C15/D15))","v":""},{"$f":"IF(zweizeilig!O182=\"\",\"\",zweizeilig!O182)","v":0},{"$f":"IF(E15=\"\",\"\",IF(B15>BBMAVRV,BBMAVRV*$M$6*C15/D15,B15*$M$6*C15/D15))","v":""},{"$f":"IF(zweizeilig!Q182=\"\",\"\",zweizeilig!Q182)","v":0},{"$f":"IF(C15=\"\",\"\",IF(D15=\"\",\"\",SUM(E16:N16)))","v":0}]
[null,null,null,null,{"$f":"IF(E15=\"\",\"\",MIN(E15,F15))","v":""},null,{"$f":"IF(G15=\"\",\"\",MIN(G15,H15))","v":""},null,{"$f":"IF(I15=\"\",\"\",MIN(I15,J15))","v":""},null,{"$f":"IF(K15=\"\",\"\",MIN(K15,L15))","v":""},null,{"$f":"IF(OR(M15=\"\",zweizeilig!S182<>\"ja\"),\"\",MIN(M15,N15))","v":""}]
[{"$f":"IF(zweizeilig!A184=\"\",\"\",zweizeilig!A184)","v":" "},{"$f":"IF(zweizeilig!E184=\"\",\"\",zweizeilig!E184)","v":0},{"$f":"IF(zweizeilig!F184=\"\",\"\",zweizeilig!F184)","v":0},{"$f":"IF(zweizeilig!G184=\"\",\"\",zweizeilig!G184)","v":0},{"$f":"IF(OR(B17=\"\",C17=\"\",D17=\"\"),\"\",IF(ISERROR(IF(B17>BBMAVRV,BBMAVRV*$E$6*C17/D17,B17*$E$6*C17/D17)),\"\",IF(B17>BBMAVRV,BBMAVRV*$E$6*C17/D17,B17*$E$6*C17/D17)))","v":""},{"$f":"IF(zweizeilig!I184=\"\",\"\",zweizeilig!I184)","v":0},{"$f":"IF(E17=\"\",\"\",IF(B17>BBMKVPV,BBMKVPV*$G$6*C17/D17,B17*$G$6*C17/D17))","v":""},{"$f":"IF(zweizeilig!K184=\"\",\"\",zweizeilig!K184)","v":0},{"$f":"IF(E17=\"\",\"\",IF(B17>BBMKVPV,BBMKVPV*$I$6*C17/D17,B17*$I$6*C17/D17))","v":""},{"$f":"IF(zweizeilig!M184=\"\",\"\",zweizeilig!M184)","v":0},{"$f":"IF(E17=\"\",\"\",IF(B17>BBMAVRV,BBMAVRV*$K$6*C17/D17,B17*$K$6*C17/D17))","v":""},{"$f":"IF(zweizeilig!O184=\"\",\"\",zweizeilig!O184)","v":0},{"$f":"IF(E17=\"\",\"\",IF(B17>BBMAVRV,BBMAVRV*$M$6*C17/D17,B17*$M$6*C17/D17))","v":""},{"$f":"IF(zweizeilig!Q184=\"\",\"\",zweizeilig!Q184)","v":0},{"$f":"IF(C17=\"\",\"\",IF(D17=\"\",\"\",SUM(E18:N18)))","v":0}]
[null,null,null,null,{"$f":"IF(E17=\"\",\"\",MIN(E17,F17))","v":""},null,{"$f":"IF(G17=\"\",\"\",MIN(G17,H17))","v":""},null,{"$f":"IF(I17=\"\",\"\",MIN(I17,J17))","v":""},null,{"$f":"IF(K17=\"\",\"\",MIN(K17,L17))","v":""},null,{"$f":"IF(OR(M17=\"\",zweizeilig!S184<>\"ja\"),\"\",MIN(M17,N17))","v":""}]
[{"$f":"IF(zweizeilig!A186=\"\",\"\",zweizeilig!A186)","v":" "},{"$f":"IF(zweizeilig!E186=\"\",\"\",zweizeilig!E186)","v":0},{"$f":"IF(zweizeilig!F186=\"\",\"\",zweizeilig!F186)","v":0},{"$f":"IF(zweizeilig!G186=\"\",\"\",zweizeilig!G186)","v":0},{"$f":"IF(OR(B19=\"\",C19=\"\",D19=\"\"),\"\",IF(ISERROR(IF(B19>BBMAVRV,BBMAVRV*$E$6*C19/D19,B19*$E$6*C19/D19)),\"\",IF(B19>BBMAVRV,BBMAVRV*$E$6*C19/D19,B19*$E$6*C19/D19)))","v":""},{"$f":"IF(zweizeilig!I186=\"\",\"\",zweizeilig!I186)","v":0},{"$f":"IF(E19=\"\",\"\",IF(B19>BBMKVPV,BBMKVPV*$G$6*C19/D19,B19*$G$6*C19/D19))","v":""},{"$f":"IF(zweizeilig!K186=\"\",\"\",zweizeilig!K186)","v":0},{"$f":"IF(E19=\"\",\"\",IF(B19>BBMKVPV,BBMKVPV*$I$6*C19/D19,B19*$I$6*C19/D19))","v":""},{"$f":"IF(zweizeilig!M186=\"\",\"\",zweizeilig!M186)","v":0},{"$f":"IF(E19=\"\",\"\",IF(B19>BBMAVRV,BBMAVRV*$K$6*C19/D19,B19*$K$6*C19/D19))","v":""},{"$f":"IF(zweizeilig!O186=\"\",\"\",zweizeilig!O186)","v":0},{"$f":"IF(E19=\"\",\"\",IF(B19>BBMAVRV,BBMAVRV*$M$6*C19/D19,B19*$M$6*C19/D19))","v":""},{"$f":"IF(zweizeilig!Q186=\"\",\"\",zweizeilig!Q186)","v":0},{"$f":"IF(C19=\"\",\"\",IF(D19=\"\",\"\",SUM(E20:N20)))","v":0}]
[null,null,null,null,{"$f":"IF(E19=\"\",\"\",MIN(E19,F19))","v":""},null,{"$f":"IF(G19=\"\",\"\",MIN(G19,H19))","v":""},null,{"$f":"IF(I19=\"\",\"\",MIN(I19,J19))","v":""},null,{"$f":"IF(K19=\"\",\"\",MIN(K19,L19))","v":""},null,{"$f":"IF(OR(M19=\"\",zweizeilig!S186<>\"ja\"),\"\",MIN(M19,N19))","v":""}]
[{"$f":"IF(zweizeilig!A188=\"\",\"\",zweizeilig!A188)","v":" "},{"$f":"IF(zweizeilig!E188=\"\",\"\",zweizeilig!E188)","v":0},{"$f":"IF(zweizeilig!F188=\"\",\"\",zweizeilig!F188)","v":0},{"$f":"IF(zweizeilig!G188=\"\",\"\",zweizeilig!G188)","v":0},{"$f":"IF(OR(B21=\"\",C21=\"\",D21=\"\"),\"\",IF(ISERROR(IF(B21>BBMAVRV,BBMAVRV*$E$6*C21/D21,B21*$E$6*C21/D21)),\"\",IF(B21>BBMAVRV,BBMAVRV*$E$6*C21/D21,B21*$E$6*C21/D21)))","v":""},{"$f":"IF(zweizeilig!I188=\"\",\"\",zweizeilig!I188)","v":0},{"$f":"IF(E21=\"\",\"\",IF(B21>BBMKVPV,BBMKVPV*$G$6*C21/D21,B21*$G$6*C21/D21))","v":""},{"$f":"IF(zweizeilig!K188=\"\",\"\",zweizeilig!K188)","v":0},{"$f":"IF(E21=\"\",\"\",IF(B21>BBMKVPV,BBMKVPV*$I$6*C21/D21,B21*$I$6*C21/D21))","v":""},{"$f":"IF(zweizeilig!M188=\"\",\"\",zweizeilig!M188)","v":0},{"$f":"IF(E21=\"\",\"\",IF(B21>BBMAVRV,BBMAVRV*$K$6*C21/D21,B21*$K$6*C21/D21))","v":""},{"$f":"IF(zweizeilig!O188=\"\",\"\",zweizeilig!O188)","v":0},{"$f":"IF(E21=\"\",\"\",IF(B21>BBMAVRV,BBMAVRV*$M$6*C21/D21,B21*$M$6*C21/D21))","v":""},{"$f":"IF(zweizeilig!Q188=\"\",\"\",zweizeilig!Q188)","v":0},{"$f":"IF(C21=\"\",\"\",IF(D21=\"\",\"\",SUM(E22:N22)))","v":0}]
[null,null,null,null,{"$f":"IF(E21=\"\",\"\",MIN(E21,F21))","v":""},null,{"$f":"IF(G21=\"\",\"\",MIN(G21,H21))","v":""},null,{"$f":"IF(I21=\"\",\"\",MIN(I21,J21))","v":""},null,{"$f":"IF(K21=\"\",\"\",MIN(K21,L21))","v":""},null,{"$f":"IF(OR(M21=\"\",zweizeilig!S188<>\"ja\"),\"\",MIN(M21,N21))","v":""}]
[{"$f":"IF(zweizeilig!A190=\"\",\"\",zweizeilig!A190)","v":" "},{"$f":"IF(zweizeilig!E190=\"\",\"\",zweizeilig!E190)","v":0},{"$f":"IF(zweizeilig!F190=\"\",\"\",zweizeilig!F190)","v":0},{"$f":"IF(zweizeilig!G190=\"\",\"\",zweizeilig!G190)","v":0},{"$f":"IF(OR(B23=\"\",C23=\"\",D23=\"\"),\"\",IF(ISERROR(IF(B23>BBMAVRV,BBMAVRV*$E$6*C23/D23,B23*$E$6*C23/D23)),\"\",IF(B23>BBMAVRV,BBMAVRV*$E$6*C23/D23,B23*$E$6*C23/D23)))","v":""},{"$f":"IF(zweizeilig!I190=\"\",\"\",zweizeilig!I190)","v":0},{"$f":"IF(E23=\"\",\"\",IF(B23>BBMKVPV,BBMKVPV*$G$6*C23/D23,B23*$G$6*C23/D23))","v":""},{"$f":"IF(zweizeilig!K190=\"\",\"\",zweizeilig!K190)","v":0},{"$f":"IF(E23=\"\",\"\",IF(B23>BBMKVPV,BBMKVPV*$I$6*C23/D23,B23*$I$6*C23/D23))","v":""},{"$f":"IF(zweizeilig!M190=\"\",\"\",zweizeilig!M190)","v":0},{"$f":"IF(E23=\"\",\"\",IF(B23>BBMAVRV,BBMAVRV*$K$6*C23/D23,B23*$K$6*C23/D23))","v":""},{"$f":"IF(zweizeilig!O190=\"\",\"\",zweizeilig!O190)","v":0},{"$f":"IF(E23=\"\",\"\",IF(B23>BBMAVRV,BBMAVRV*$M$6*C23/D23,B23*$M$6*C23/D23))","v":""},{"$f":"IF(zweizeilig!Q190=\"\",\"\",zweizeilig!Q190)","v":0},{"$f":"IF(C23=\"\",\"\",IF(D23=\"\",\"\",SUM(E24:N24)))","v":0}]
[null,null,null,null,{"$f":"IF(E23=\"\",\"\",MIN(E23,F23))","v":""},null,{"$f":"IF(G23=\"\",\"\",MIN(G23,H23))","v":""},null,{"$f":"IF(I23=\"\",\"\",MIN(I23,J23))","v":""},null,{"$f":"IF(K23=\"\",\"\",MIN(K23,L23))","v":""},null,{"$f":"IF(OR(M23=\"\",zweizeilig!S190<>\"ja\"),\"\",MIN(M23,N23))","v":""}]
[{"$f":"IF(zweizeilig!A192=\"\",\"\",zweizeilig!A192)","v":" "},{"$f":"IF(zweizeilig!E192=\"\",\"\",zweizeilig!E192)","v":0},{"$f":"IF(zweizeilig!F192=\"\",\"\",zweizeilig!F192)","v":0},{"$f":"IF(zweizeilig!G192=\"\",\"\",zweizeilig!G192)","v":0},{"$f":"IF(OR(B25=\"\",C25=\"\",D25=\"\"),\"\",IF(ISERROR(IF(B25>BBMAVRV,BBMAVRV*$E$6*C25/D25,B25*$E$6*C25/D25)),\"\",IF(B25>BBMAVRV,BBMAVRV*$E$6*C25/D25,B25*$E$6*C25/D25)))","v":""},{"$f":"IF(zweizeilig!I192=\"\",\"\",zweizeilig!I192)","v":0},{"$f":"IF(E25=\"\",\"\",IF(B25>BBMKVPV,BBMKVPV*$G$6*C25/D25,B25*$G$6*C25/D25))","v":""},{"$f":"IF(zweizeilig!K192=\"\",\"\",zweizeilig!K192)","v":0},{"$f":"IF(E25=\"\",\"\",IF(B25>BBMKVPV,BBMKVPV*$I$6*C25/D25,B25*$I$6*C25/D25))","v":""},{"$f":"IF(zweizeilig!M192=\"\",\"\",zweizeilig!M192)","v":0},{"$f":"IF(E25=\"\",\"\",IF(B25>BBMAVRV,BBMAVRV*$K$6*C25/D25,B25*$K$6*C25/D25))","v":""},{"$f":"IF(zweizeilig!O192=\"\",\"\",zweizeilig!O192)","v":0},{"$f":"IF(E25=\"\",\"\",IF(B25>BBMAVRV,BBMAVRV*$M$6*C25/D25,B25*$M$6*C25/D25))","v":""},{"$f":"IF(zweizeilig!Q192=\"\",\"\",zweizeilig!Q192)","v":0},{"$f":"IF(C25=\"\",\"\",IF(D25=\"\",\"\",SUM(E26:N26)))","v":0}]
[null,null,null,null,{"$f":"IF(E25=\"\",\"\",MIN(E25,F25))","v":""},null,{"$f":"IF(G25=\"\",\"\",MIN(G25,H25))","v":""},null,{"$f":"IF(I25=\"\",\"\",MIN(I25,J25))","v":""},null,{"$f":"IF(K25=\"\",\"\",MIN(K25,L25))","v":""},null,{"$f":"IF(OR(M25=\"\",zweizeilig!S192<>\"ja\"),\"\",MIN(M25,N25))","v":""}]
[{"$f":"IF(zweizeilig!A194=\"\",\"\",zweizeilig!A194)","v":" "},{"$f":"IF(zweizeilig!E194=\"\",\"\",zweizeilig!E194)","v":0},{"$f":"IF(zweizeilig!F194=\"\",\"\",zweizeilig!F194)","v":0},{"$f":"IF(zweizeilig!G194=\"\",\"\",zweizeilig!G194)","v":0},{"$f":"IF(OR(B27=\"\",C27=\"\",D27=\"\"),\"\",IF(ISERROR(IF(B27>BBMAVRV,BBMAVRV*$E$6*C27/D27,B27*$E$6*C27/D27)),\"\",IF(B27>BBMAVRV,BBMAVRV*$E$6*C27/D27,B27*$E$6*C27/D27)))","v":""},{"$f":"IF(zweizeilig!I194=\"\",\"\",zweizeilig!I194)","v":0},{"$f":"IF(E27=\"\",\"\",IF(B27>BBMKVPV,BBMKVPV*$G$6*C27/D27,B27*$G$6*C27/D27))","v":""},{"$f":"IF(zweizeilig!K194=\"\",\"\",zweizeilig!K194)","v":0},{"$f":"IF(E27=\"\",\"\",IF(B27>BBMKVPV,BBMKVPV*$I$6*C27/D27,B27*$I$6*C27/D27))","v":""},{"$f":"IF(zweizeilig!M194=\"\",\"\",zweizeilig!M194)","v":0},{"$f":"IF(E27=\"\",\"\",IF(B27>BBMAVRV,BBMAVRV*$K$6*C27/D27,B27*$K$6*C27/D27))","v":""},{"$f":"IF(zweizeilig!O194=\"\",\"\",zweizeilig!O194)","v":0},{"$f":"IF(E27=\"\",\"\",IF(B27>BBMAVRV,BBMAVRV*$M$6*C27/D27,B27*$M$6*C27/D27))","v":""},{"$f":"IF(zweizeilig!Q194=\"\",\"\",zweizeilig!Q194)","v":0},{"$f":"IF(C27=\"\",\"\",IF(D27=\"\",\"\",SUM(E28:N28)))","v":0}]
[null,null,null,null,{"$f":"IF(E27=\"\",\"\",MIN(E27,F27))","v":""},null,{"$f":"IF(G27=\"\",\"\",MIN(G27,H27))","v":""},null,{"$f":"IF(I27=\"\",\"\",MIN(I27,J27))","v":""},null,{"$f":"IF(K27=\"\",\"\",MIN(K27,L27))","v":""},null,{"$f":"IF(OR(M27=\"\",zweizeilig!S194<>\"ja\"),\"\",MIN(M27,N27))","v":""}]
[{"$f":"IF(zweizeilig!A196=\"\",\"\",zweizeilig!A196)","v":" "},{"$f":"IF(zweizeilig!E196=\"\",\"\",zweizeilig!E196)","v":0},{"$f":"IF(zweizeilig!F196=\"\",\"\",zweizeilig!F196)","v":0},{"$f":"IF(zweizeilig!G196=\"\",\"\",zweizeilig!G196)","v":0},{"$f":"IF(OR(B29=\"\",C29=\"\",D29=\"\"),\"\",IF(ISERROR(IF(B29>BBMAVRV,BBMAVRV*$E$6*C29/D29,B29*$E$6*C29/D29)),\"\",IF(B29>BBMAVRV,BBMAVRV*$E$6*C29/D29,B29*$E$6*C29/D29)))","v":""},{"$f":"IF(zweizeilig!I196=\"\",\"\",zweizeilig!I196)","v":0},{"$f":"IF(E29=\"\",\"\",IF(B29>BBMKVPV,BBMKVPV*$G$6*C29/D29,B29*$G$6*C29/D29))","v":""},{"$f":"IF(zweizeilig!K196=\"\",\"\",zweizeilig!K196)","v":0},{"$f":"IF(E29=\"\",\"\",IF(B29>BBMKVPV,BBMKVPV*$I$6*C29/D29,B29*$I$6*C29/D29))","v":""},{"$f":"IF(zweizeilig!M196=\"\",\"\",zweizeilig!M196)","v":0},{"$f":"IF(E29=\"\",\"\",IF(B29>BBMAVRV,BBMAVRV*$K$6*C29/D29,B29*$K$6*C29/D29))","v":""},{"$f":"IF(zweizeilig!O196=\"\",\"\",zweizeilig!O196)","v":0},{"$f":"IF(E29=\"\",\"\",IF(B29>BBMAVRV,BBMAVRV*$M$6*C29/D29,B29*$M$6*C29/D29))","v":""},{"$f":"IF(zweizeilig!Q196=\"\",\"\",zweizeilig!Q196)","v":0},{"$f":"IF(C29=\"\",\"\",IF(D29=\"\",\"\",SUM(E30:N30)))","v":0}]
[null,null,null,null,{"$f":"IF(E29=\"\",\"\",MIN(E29,F29))","v":""},null,{"$f":"IF(G29=\"\",\"\",MIN(G29,H29))","v":""},null,{"$f":"IF(I29=\"\",\"\",MIN(I29,J29))","v":""},null,{"$f":"IF(K29=\"\",\"\",MIN(K29,L29))","v":""},null,{"$f":"IF(OR(M29=\"\",zweizeilig!S196<>\"ja\"),\"\",MIN(M29,N29))","v":""}]
[{"$f":"IF(zweizeilig!A198=\"\",\"\",zweizeilig!A198)","v":" "},{"$f":"IF(zweizeilig!E198=\"\",\"\",zweizeilig!E198)","v":0},{"$f":"IF(zweizeilig!F198=\"\",\"\",zweizeilig!F198)","v":0},{"$f":"IF(zweizeilig!G198=\"\",\"\",zweizeilig!G198)","v":0},{"$f":"IF(OR(B31=\"\",C31=\"\",D31=\"\"),\"\",IF(ISERROR(IF(B31>BBMAVRV,BBMAVRV*$E$6*C31/D31,B31*$E$6*C31/D31)),\"\",IF(B31>BBMAVRV,BBMAVRV*$E$6*C31/D31,B31*$E$6*C31/D31)))","v":""},{"$f":"IF(zweizeilig!I198=\"\",\"\",zweizeilig!I198)","v":0},{"$f":"IF(E31=\"\",\"\",IF(B31>BBMKVPV,BBMKVPV*$G$6*C31/D31,B31*$G$6*C31/D31))","v":""},{"$f":"IF(zweizeilig!K198=\"\",\"\",zweizeilig!K198)","v":0},{"$f":"IF(E31=\"\",\"\",IF(B31>BBMKVPV,BBMKVPV*$I$6*C31/D31,B31*$I$6*C31/D31))","v":""},{"$f":"IF(zweizeilig!M198=\"\",\"\",zweizeilig!M198)","v":0},{"$f":"IF(E31=\"\",\"\",IF(B31>BBMAVRV,BBMAVRV*$K$6*C31/D31,B31*$K$6*C31/D31))","v":""},{"$f":"IF(zweizeilig!O198=\"\",\"\",zweizeilig!O198)","v":0},{"$f":"IF(E31=\"\",\"\",IF(B31>BBMAVRV,BBMAVRV*$M$6*C31/D31,B31*$M$6*C31/D31))","v":""},{"$f":"IF(zweizeilig!Q198=\"\",\"\",zweizeilig!Q198)","v":0},{"$f":"IF(C31=\"\",\"\",IF(D31=\"\",\"\",SUM(E32:N32)))","v":0}]
[null,null,null,null,{"$f":"IF(E31=\"\",\"\",MIN(E31,F31))","v":""},null,{"$f":"IF(G31=\"\",\"\",MIN(G31,H31))","v":""},null,{"$f":"IF(I31=\"\",\"\",MIN(I31,J31))","v":""},null,{"$f":"IF(K31=\"\",\"\",MIN(K31,L31))","v":""},null,{"$f":"IF(OR(M31=\"\",zweizeilig!S198<>\"ja\"),\"\",MIN(M31,N31))","v":""}]
[{"$f":"IF(zweizeilig!A200=\"\",\"\",zweizeilig!A200)","v":" "},{"$f":"IF(zweizeilig!E200=\"\",\"\",zweizeilig!E200)","v":0},{"$f":"IF(zweizeilig!F200=\"\",\"\",zweizeilig!F200)","v":0},{"$f":"IF(zweizeilig!G200=\"\",\"\",zweizeilig!G200)","v":0},{"$f":"IF(OR(B33=\"\",C33=\"\",D33=\"\"),\"\",IF(ISERROR(IF(B33>BBMAVRV,BBMAVRV*$E$6*C33/D33,B33*$E$6*C33/D33)),\"\",IF(B33>BBMAVRV,BBMAVRV*$E$6*C33/D33,B33*$E$6*C33/D33)))","v":""},{"$f":"IF(zweizeilig!I200=\"\",\"\",zweizeilig!I200)","v":0},{"$f":"IF(E33=\"\",\"\",IF(B33>BBMKVPV,BBMKVPV*$G$6*C33/D33,B33*$G$6*C33/D33))","v":""},{"$f":"IF(zweizeilig!K200=\"\",\"\",zweizeilig!K200)","v":0},{"$f":"IF(E33=\"\",\"\",IF(B33>BBMKVPV,BBMKVPV*$I$6*C33/D33,B33*$I$6*C33/D33))","v":""},{"$f":"IF(zweizeilig!M200=\"\",\"\",zweizeilig!M200)","v":0},{"$f":"IF(E33=\"\",\"\",IF(B33>BBMAVRV,BBMAVRV*$K$6*C33/D33,B33*$K$6*C33/D33))","v":""},{"$f":"IF(zweizeilig!O200=\"\",\"\",zweizeilig!O200)","v":0},{"$f":"IF(E33=\"\",\"\",IF(B33>BBMAVRV,BBMAVRV*$M$6*C33/D33,B33*$M$6*C33/D33))","v":""},{"$f":"IF(zweizeilig!Q200=\"\",\"\",zweizeilig!Q200)","v":0},{"$f":"IF(C33=\"\",\"\",IF(D33=\"\",\"\",SUM(E34:N34)))","v":0}]
[null,null,null,null,{"$f":"IF(E33=\"\",\"\",MIN(E33,F33))","v":""},null,{"$f":"IF(G33=\"\",\"\",MIN(G33,H33))","v":""},null,{"$f":"IF(I33=\"\",\"\",MIN(I33,J33))","v":""},null,{"$f":"IF(K33=\"\",\"\",MIN(K33,L33))","v":""},null,{"$f":"IF(OR(M33=\"\",zweizeilig!S200<>\"ja\"),\"\",MIN(M33,N33))","v":""}]
[{"$f":"IF(zweizeilig!A202=\"\",\"\",zweizeilig!A202)","v":" "},{"$f":"IF(zweizeilig!E202=\"\",\"\",zweizeilig!E202)","v":0},{"$f":"IF(zweizeilig!F202=\"\",\"\",zweizeilig!F202)","v":0},{"$f":"IF(zweizeilig!G202=\"\",\"\",zweizeilig!G202)","v":0},{"$f":"IF(OR(B35=\"\",C35=\"\",D35=\"\"),\"\",IF(ISERROR(IF(B35>BBMAVRV,BBMAVRV*$E$6*C35/D35,B35*$E$6*C35/D35)),\"\",IF(B35>BBMAVRV,BBMAVRV*$E$6*C35/D35,B35*$E$6*C35/D35)))","v":""},{"$f":"IF(zweizeilig!I202=\"\",\"\",zweizeilig!I202)","v":0},{"$f":"IF(E35=\"\",\"\",IF(B35>BBMKVPV,BBMKVPV*$G$6*C35/D35,B35*$G$6*C35/D35))","v":""},{"$f":"IF(zweizeilig!K202=\"\",\"\",zweizeilig!K202)","v":0},{"$f":"IF(E35=\"\",\"\",IF(B35>BBMKVPV,BBMKVPV*$I$6*C35/D35,B35*$I$6*C35/D35))","v":""},{"$f":"IF(zweizeilig!M202=\"\",\"\",zweizeilig!M202)","v":0},{"$f":"IF(E35=\"\",\"\",IF(B35>BBMAVRV,BBMAVRV*$K$6*C35/D35,B35*$K$6*C35/D35))","v":""},{"$f":"IF(zweizeilig!O202=\"\",\"\",zweizeilig!O202)","v":0},{"$f":"IF(E35=\"\",\"\",IF(B35>BBMAVRV,BBMAVRV*$M$6*C35/D35,B35*$M$6*C35/D35))","v":""},{"$f":"IF(zweizeilig!Q202=\"\",\"\",zweizeilig!Q202)","v":0},{"$f":"IF(C35=\"\",\"\",IF(D35=\"\",\"\",SUM(E36:N36)))","v":0}]
[null,null,null,null,{"$f":"IF(E35=\"\",\"\",MIN(E35,F35))","v":""},null,{"$f":"IF(G35=\"\",\"\",MIN(G35,H35))","v":""},null,{"$f":"IF(I35=\"\",\"\",MIN(I35,J35))","v":""},null,{"$f":"IF(K35=\"\",\"\",MIN(K35,L35))","v":""},null,{"$f":"IF(OR(M35=\"\",zweizeilig!S202<>\"ja\"),\"\",MIN(M35,N35))","v":""}]
[{"$f":"IF(zweizeilig!A204=\"\",\"\",zweizeilig!A204)","v":" "},{"$f":"IF(zweizeilig!E204=\"\",\"\",zweizeilig!E204)","v":0},{"$f":"IF(zweizeilig!F204=\"\",\"\",zweizeilig!F204)","v":0},{"$f":"IF(zweizeilig!G204=\"\",\"\",zweizeilig!G204)","v":0},{"$f":"IF(OR(B37=\"\",C37=\"\",D37=\"\"),\"\",IF(ISERROR(IF(B37>BBMAVRV,BBMAVRV*$E$6*C37/D37,B37*$E$6*C37/D37)),\"\",IF(B37>BBMAVRV,BBMAVRV*$E$6*C37/D37,B37*$E$6*C37/D37)))","v":""},{"$f":"IF(zweizeilig!I204=\"\",\"\",zweizeilig!I204)","v":0},{"$f":"IF(E37=\"\",\"\",IF(B37>BBMKVPV,BBMKVPV*$G$6*C37/D37,B37*$G$6*C37/D37))","v":""},{"$f":"IF(zweizeilig!K204=\"\",\"\",zweizeilig!K204)","v":0},{"$f":"IF(E37=\"\",\"\",IF(B37>BBMKVPV,BBMKVPV*$I$6*C37/D37,B37*$I$6*C37/D37))","v":""},{"$f":"IF(zweizeilig!M204=\"\",\"\",zweizeilig!M204)","v":0},{"$f":"IF(E37=\"\",\"\",IF(B37>BBMAVRV,BBMAVRV*$K$6*C37/D37,B37*$K$6*C37/D37))","v":""},{"$f":"IF(zweizeilig!O204=\"\",\"\",zweizeilig!O204)","v":0},{"$f":"IF(E37=\"\",\"\",IF(B37>BBMAVRV,BBMAVRV*$M$6*C37/D37,B37*$M$6*C37/D37))","v":""},{"$f":"IF(zweizeilig!Q204=\"\",\"\",zweizeilig!Q204)","v":0},{"$f":"IF(C37=\"\",\"\",IF(D37=\"\",\"\",SUM(E38:N38)))","v":0}]
[null,null,null,null,{"$f":"IF(E37=\"\",\"\",MIN(E37,F37))","v":""},null,{"$f":"IF(G37=\"\",\"\",MIN(G37,H37))","v":""},null,{"$f":"IF(I37=\"\",\"\",MIN(I37,J37))","v":""},null,{"$f":"IF(K37=\"\",\"\",MIN(K37,L37))","v":""},null,{"$f":"IF(OR(M37=\"\",zweizeilig!S204<>\"ja\"),\"\",MIN(M37,N37))","v":""}]
[{"$f":"IF(zweizeilig!A206=\"\",\"\",zweizeilig!A206)","v":" "},{"$f":"IF(zweizeilig!E206=\"\",\"\",zweizeilig!E206)","v":0},{"$f":"IF(zweizeilig!F206=\"\",\"\",zweizeilig!F206)","v":0},{"$f":"IF(zweizeilig!G206=\"\",\"\",zweizeilig!G206)","v":0},{"$f":"IF(OR(B39=\"\",C39=\"\",D39=\"\"),\"\",IF(ISERROR(IF(B39>BBMAVRV,BBMAVRV*$E$6*C39/D39,B39*$E$6*C39/D39)),\"\",IF(B39>BBMAVRV,BBMAVRV*$E$6*C39/D39,B39*$E$6*C39/D39)))","v":""},{"$f":"IF(zweizeilig!I206=\"\",\"\",zweizeilig!I206)","v":0},{"$f":"IF(E39=\"\",\"\",IF(B39>BBMKVPV,BBMKVPV*$G$6*C39/D39,B39*$G$6*C39/D39))","v":""},{"$f":"IF(zweizeilig!K206=\"\",\"\",zweizeilig!K206)","v":0},{"$f":"IF(E39=\"\",\"\",IF(B39>BBMKVPV,BBMKVPV*$I$6*C39/D39,B39*$I$6*C39/D39))","v":""},{"$f":"IF(zweizeilig!M206=\"\",\"\",zweizeilig!M206)","v":0},{"$f":"IF(E39=\"\",\"\",IF(B39>BBMAVRV,BBMAVRV*$K$6*C39/D39,B39*$K$6*C39/D39))","v":""},{"$f":"IF(zweizeilig!O206=\"\",\"\",zweizeilig!O206)","v":0},{"$f":"IF(E39=\"\",\"\",IF(B39>BBMAVRV,BBMAVRV*$M$6*C39/D39,B39*$M$6*C39/D39))","v":""},{"$f":"IF(zweizeilig!Q206=\"\",\"\",zweizeilig!Q206)","v":0},{"$f":"IF(C39=\"\",\"\",IF(D39=\"\",\"\",SUM(E40:N40)))","v":0}]
[null,null,null,null,{"$f":"IF(E39=\"\",\"\",MIN(E39,F39))","v":""},null,{"$f":"IF(G39=\"\",\"\",MIN(G39,H39))","v":""},null,{"$f":"IF(I39=\"\",\"\",MIN(I39,J39))","v":""},null,{"$f":"IF(K39=\"\",\"\",MIN(K39,L39))","v":""},null,{"$f":"IF(OR(M39=\"\",zweizeilig!S206<>\"ja\"),\"\",MIN(M39,N39))","v":""}]
[null,null,null,null,null,null,null,null,null,null,null,null,{"$f":"SUM(O7:O40)","v":0}]

{"sheet":"Seite 7","index":7,"n_rows":41,"n_cols":15,"rows_kept":41,"cut":false,"hidden":false,"merged":[[10,1,11,1],[32,3,33,3],[30,1,31,1],[30,2,31,2],[16,1,17,1],[16,2,17,2],[30,14,31,14],[31,10,31,11],[31,12,31,13],[30,3,31,3],[31,8,31,9],[31,6,31,7],[28,14,29,14],[29,10,29,11],[29,12,29,13],[28,1,29,1],[18,1,19,1],[18,2,19,2],[18,3,19,3],[19,8,19,9],[19,4,19,5],[33,8,33,9],[33,6,33,7],[17,8,17,9],[12,3,13,3],[9,8,9,9],[9,12,9,13],[10,14,11,14],[11,10,11,11],[11,12,11,13],[32,14,33,14],[33,10,33,11],[33,12,33,13],[17,6,17,7],[19,6,19,7],[13,6,13,7],[13,8,13,9],[9,4,9,5],[34,3,35,3],[39,4,39,5],[24,14,25,14],[25,10,25,11],[25,12,25,13],[20,14,21,14],[21,10,21,11],[21,12,21,13],[16,3,17,3],[16,14,17,14],[39,6,39,7],[35,6,35,7],[35,4,35,5],[35,8,35,9],[37,4,37,5],[37,6,37,7],[0,5,3,11],[29,4,29,5],[31,4,31,5],[33,4,33,5],[40,12,41,14],[38,14,39,14],[39,10,39,11],[39,12,39,13],[4,4,4,5],[7,8,7,9],[14,14,15,14],[15,10,15,11],[15,12,15,13],[12,14,13,14],[13,10,13,11],[13,12,13,13],[17,12,17,13],[17,10,17,11],[17,4,17,5],[1,12,1,14],[6,14,7,14],[38,1,39,1],[38,2,39,2],[38,3,39,3],[39,8,39,9],[26,14,27,14],[27,10,27,11],[27,12,27,13],[26,1,27,1],[26,2,27,2],[26,3,27,3],[27,8,27,9],[27,6,27,7],[27,4,27,5],[36,1,37,1],[36,2,37,2],[36,3,37,3],[34,1,35,1],[36,14,37,14],[37,10,37,11],[37,12,37,13],[34,14,35,14],[35,10,35,11],[35,12,35,13],[37,8,37,9],[24,1,25,1],[24,2,25,2],[24,3,25,3],[25,8,25,9],[25,6,25,7],[25,4,25,5],[22,14,23,14],[23,10,23,11],[23,12,23,13],[22,1,23,1],[22,2,23,2],[22,3,23,3],[23,8,23,9],[23,6,23,7],[23,4,23,5],[20,1,21,1],[20,2,21,2],[20,3,21,3],[21,8,21,9],[21,6,21,7],[21,4,21,5],[18,14,19,14],[19,10,19,11],[19,12,19,13],[32,0,33,0],[8,1,9,1],[14,1,15,1],[14,2,15,2],[18,0,19,0],[8,2,9,2],[13,4,13,5],[11,6,11,7],[11,8,11,9],[10,2,11,2],[11,4,11,5],[15,8,15,9],[12,2,13,2],[9,6,9,7],[8,3,9,3],[10,3,11,3],[14,3,15,3],[15,6,15,7],[15,4,15,5],[28,2,29,2],[28,3,29,3],[29,8,29,9],[29,6,29,7],[12,1,13,1],[4,1,5,1],[7,10,7,11],[7,12,7,13],[4,2,4,3],[4,10,4,11],[4,12,4,13],[6,1,7,1],[4,6,4,7],[7,6,7,7],[4,8,4,9],[6,2,7,2],[6,3,7,3],[4,0,5,0],[7,4,7,5],[20,0,21,0],[22,0,23,0],[2,12,2,14],[38,0,39,0],[6,0,7,0],[8,0,9,0],[10,0,11,0],[12,0,13,0],[14,0,15,0],[16,0,17,0],[36,0,37,0],[4,14,5,14],[34,0,35,0],[24,0,25,0],[26,0,27,0],[28,0,29,0],[30,0,31,0],[34,2,35,2],[32,1,33,1],[32,2,33,2],[8,14,9,14],[9,10,9,11]]}
["Nachweis der Lehrkräfte, Bruttogehaltssummen und",null,null,null,null,null,null,null,null,null,null,null,null,null,"Anlage 3 zum Antrag auf Finanzhilfe"]
["Aufwendungen für die soziale Sicherung",null,null,null,null,null,null,null,null,null,null,null,{"$f":"'Anlage 3'!M2","v":"für das Schuljahr "}]
["Funktion: SL (Schulleitung), LK (Lehrkraft), PM (Pädagogische(r) Mitarbeiter(in))",null,null,null,null,null,null,null,null,null,null,null,{"$f":"'Anlage 3'!M3","v":"00:00:00"}]
["Hinweis: PM nur bei Förderschulen in vorgesehenen Schwerpunkten!"]
["Name und\nFunktion","rentenvers.-\npfl. Entgelt","Lehr-/Zusatzpersonal",null,"Arbeitslosenversicherung",null,"Krankenversicherung",null,"Pflegeversicherung",null,"Rentenversicherung",null,"Zusatzversicherung",null,"zu berück-\nsichtigen"]
[null,null,"tats. Std.","Vertragsstd.",{"$f":"'Anlage 3'!E6","v":""},"Ist",{"$f":"'Anlage 3'!G6","v":""},"Ist",{"$f":"'Anlage 3'!I6","v":""},"Ist",{"$f":"'Anlage 3'!K6","v":""},"Ist",{"$f":"'Anlage 3'!M6","v":""},"Ist"]
[{"$f":"IF(zweizeilig!A208=\"\",\"\",zweizeilig!A208)","v":" "},{"$f":"IF(zweizeilig!E208=\"\",\"\",zweizeilig!E208)","v":0},{"$f":"IF(zweizeilig!F208=\"\",\"\",zweizeilig!F208)","v":0},{"$f":"IF(zweizeilig!G208=\"\",\"\",zweizeilig!G208)","v":0},{"$f":"IF(OR(B7=\"\",C7=\"\",D7=\"\"),\"\",IF(ISERROR(IF(B7>BBMAVRV,BBMAVRV*$E$6*C7/D7,B7*$E$6*C7/D7)),\"\",IF(B7>BBMAVRV,BBMAVRV*$E$6*C7/D7,B7*$E$6*C7/D7)))","v":""},{"$f":"IF(zweizeilig!I208=\"\",\"\",zweizeilig!I208)","v":0},{"$f":"IF(E7=\"\",\"\",IF(B7>BBMKVPV,BBMKVPV*$G$6*C7/D7,B7*$G$6*C7/D7))","v":""},{"$f":"IF(zweizeilig!K208=\"\",\"\",zweizeilig!K208)","v":0},{"$f":"IF(E7=\"\",\"\",IF(B7>BBMKVPV,BBMKVPV*$I$6*C7/D7,B7*$I$6*C7/D7))","v":""},{"$f":"IF(zweizeilig!M208=\"\",\"\",zweizeilig!M208)","v":0},{"$f":"IF(E7=\"\",\"\",IF(B7>BBMAVRV,BBMAVRV*$K$6*C7/D7,B7*$K$6*C7/D7))","v":""},{"$f":"IF(zweizeilig!O208=\"\",\"\",zweizeilig!O208)","v":0},{"$f":"IF(E7=\"\",\"\",IF(B7>BBMAVRV,BBMAVRV*$M$6*C7/D7,B7*$M$6*C7/D7))","v":""},{"$f":"IF(zweizeilig!Q208=\"\",\"\",zweizeilig!Q208)","v":0},{"$f":"IF(C7=\"\",\"\",IF(D7=\"\",\"\",SUM(E8:N8)))","v":0}]
[null,null,null,null,{"$f":"IF(E7=\"\",\"\",MIN(E7,F7))","v":""},null,{"$f":"IF(G7=\"\",\"\",MIN(G7,H7))","v":""},null,{"$f":"IF(I7=\"\",\"\",MIN(I7,J7))","v":""},null,{"$f":"IF(K7=\"\",\"\",MIN(K7,L7))","v":""},null,{"$f":"IF(OR(M7=\"\",zweizeilig!S174<>\"ja\"),\"\",MIN(M7,N7))","v":""}]
[{"$f":"IF(zweizeilig!A210=\"\",\"\",zweizeilig!A210)","v":" "},{"$f":"IF(zweizeilig!E210=\"\",\"\",zweizeilig!E210)","v":0},{"$f":"IF(zweizeilig!F210=\"\",\"\",zweizeilig!F210)","v":0},{"$f":"IF(zweizeilig!G210=\"\",\"\",zweizeilig!G210)","v":0},{"$f":"IF(OR(B9=\"\",C9=\"\",D9=\"\"),\"\",IF(ISERROR(IF(B9>BBMAVRV,BBMAVRV*$E$6*C9/D9,B9*$E$6*C9/D9)),\"\",IF(B9>BBMAVRV,BBMAVRV*$E$6*C9/D9,B9*$E$6*C9/D9)))","v":""},{"$f":"IF(zweizeilig!I210=\"\",\"\",zweizeilig!I210)","v":0},{"$f":"IF(E9=\"\",\"\",IF(B9>BBMKVPV,BBMKVPV*$G$6*C9/D9,B9*$G$6*C9/D9))","v":""},{"$f":"IF(zweizeilig!K210=\"\",\"\",zweizeilig!K210)","v":0},{"$f":"IF(E9=\"\",\"\",IF(B9>BBMKVPV,BBMKVPV*$I$6*C9/D9,B9*$I$6*C9/D9))","v":""},{"$f":"IF(zweizeilig!M210=\"\",\"\",zweizeilig!M210)","v":0},{"$f":"IF(E9=\"\",\"\",IF(B9>BBMAVRV,BBMAVRV*$K$6*C9/D9,B9*$K$6*C9/D9))","v":""},{"$f":"IF(zweizeilig!O210=\"\",\"\",zweizeilig!O210)","v":0},{"$f":"IF(E9=\"\",\"\",IF(B9>BBMAVRV,BBMAVRV*$M$6*C9/D9,B9*$M$6*C9/D9))","v":""},{"$f":"IF(zweizeilig!Q210=\"\",\"\",zweizeilig!Q210)","v":0},{"$f":"IF(C9=\"\",\"\",IF(D9=\"\",\"\",SUM(E10:N10)))","v":0}]
[null,null,null,null,{"$f":"IF(E9=\"\",\"\",MIN(E9,F9))","v":""},null,{"$f":"IF(G9=\"\",\"\",MIN(G9,H9))","v":""},null,{"$f":"IF(I9=\"\",\"\",MIN(I9,J9))","v":""},null,{"$f":"IF(K9=\"\",\"\",MIN(K9,L9))","v":""},null,{"$f":"IF(OR(M9=\"\",zweizeilig!S176<>\"ja\"),\"\",MIN(M9,N9))","v":""}]
[{"$f":"IF(zweizeilig!A212=\"\",\"\",zweizeilig!A212)","v":" "},{"$f":"IF(zweizeilig!E212=\"\",\"\",zweizeilig!E212)","v":0},{"$f":"IF(zweizeilig!F212=\"\",\"\",zweizeilig!F212)","v":0},{"$f":"IF(zweizeilig!G212=\"\",\"\",zweizeilig!G212)","v":0},{"$f":"IF(OR(B11=\"\",C11=\"\",D11=\"\"),\"\",IF(ISERROR(IF(B11>BBMAVRV,BBMAVRV*$E$6*C11/D11,B11*$E$6*C11/D11)),\"\",IF(B11>BBMAVRV,BBMAVRV*$E$6*C11/D11,B11*$E$6*C11/D11)))","v":""},{"$f":"IF(zweizeilig!I212=\"\",\"\",zweizeilig!I212)","v":0},{"$f":"IF(E11=\"\",\"\",IF(B11>BBMKVPV,BBMKVPV*$G$6*C11/D11,B11*$G$6*C11/D11))","v":""},{"$f":"IF(zweizeilig!K212=\"\",\"\",zweizeilig!K212)","v":0},{"$f":"IF(E11=\"\",\"\",IF(B11>BBMKVPV,BBMKVPV*$I$6*C11/D11,B11*$I$6*C11/D11))","v":""},{"$f":"IF(zweizeilig!M212=\"\",\"\",zweizeilig!M212)","v":0},{"$f":"IF(E11=\"\",\"\",IF(B11>BBMAVRV,BBMAVRV*$K$6*C11/D11,B11*$K$6*C11/D11))","v":""},{"$f":"IF(zweizeilig!O212=\"\",\"\",zweizeilig!O212)","v":0},{"$f":"IF(E11=\"\",\"\",IF(B11>BBMAVRV,BBMAVRV*$M$6*C11/D11,B11*$M$6*C11/D11))","v":""},{"$f":"IF(zweizeilig!Q212=\"\",\"\",zweizeilig!Q212)","v":0},{"$f":"IF(C11=\"\",\"\",IF(D11=\"\",\"\",SUM(E12:N12)))","v":0}]
[null,null,null,null,{"$f":"IF(E11=\"\",\"\",MIN(E11,F11))","v":""},null,{"$f":"IF(G11=\"\",\"\",MIN(G11,H11))","v":""},null,{"$f":"IF(I11=\"\",\"\",MIN(I11,J11))","v":""},null,{"$f":"IF(K11=\"\",\"\",MIN(K11,L11))","v":""},null,{"$f":"IF(OR(M11=\"\",zweizeilig!S178<>\"ja\"),\"\",MIN(M11,N11))","v":""}]
[{"$f":"IF(zweizeilig!A214=\"\",\"\",zweizeilig!A214)","v":" "},{"$f":"IF(zweizeilig!E214=\"\",\"\",zweizeilig!E214)","v":0},{"$f":"IF(zweizeilig!F214=\"\",\"\",zweizeilig!F214)","v":0},{"$f":"IF(zweizeilig!G214=\"\",\"\",zweizeilig!G214)","v":0},{"$f":"IF(OR(B13=\"\",C13=\"\",D13=\"\"),\"\",IF(ISERROR(IF(B13>BBMAVRV,BBMAVRV*$E$6*C13/D13,B13*$E$6*C13/D13)),\"\",IF(B13>BBMAVRV,BBMAVRV*$E$6*C13/D13,B13*$E$6*C13/D13)))","v":""},{"$f":"IF(zweizeilig!I214=\"\",\"\",zweizeilig!I214)","v":0},{"$f":"IF(E13=\"\",\"\",IF(B13>BBMKVPV,BBMKVPV*$G$6*C13/D13,B13*$G$6*C13/D13))","v":""},{"$f":"IF(zweizeilig!K214=\"\",\"\",zweizeilig!K214)","v":0},{"$f":"IF(E13=\"\",\"\",IF(B13>BBMKVPV,BBMKVPV*$I$6*C13/D13,B13*$I$6*C13/D13))","v":""},{"$f":"IF(zweizeilig!M214=\"\",\"\",zweizeilig!M214)","v":0},{"$f":"IF(E13=\"\",\"\",IF(B13>BBMAVRV,BBMAVRV*$K$6*C13/D13,B13*$K$6*C13/D13))","v":""},{"$f":"IF(zweizeilig!O214=\"\",\"\",zweizeilig!O214)","v":0},{"$f":"IF(E13=\"\",\"\",IF(B13>BBMAVRV,BBMAVRV*$M$6*C13/D13,B13*$M$6*C13/D13))","v":""},{"$f":"IF(zweizeilig!Q214=\"\",\"\",zweizeilig!Q214)","v":0},{"$f":"IF(C13=\"\",\"\",IF(D13=\"\",\"\",SUM(E14:N14)))","v":0}]
[null,null,null,null,{"$f":"IF(E13=\"\",\"\",MIN(E13,F13))","v":""},null,{"$f":"IF(G13=\"\",\"\",MIN(G13,H13))","v":""},null,{"$f":"IF(I13=\"\",\"\",MIN(I13,J13))","v":""},null,{"$f":"IF(K13=\"\",\"\",MIN(K13,L13))","v":""},null,{"$f":"IF(OR(M13=\"\",zweizeilig!S180<>\"ja\"),\"\",MIN(M13,N13))","v":""}]
[{"$f":"IF(zweizeilig!A216=\"\",\"\",zweizeilig!A216)","v":" "},{"$f":"IF(zweizeilig!E216=\"\",\"\",zweizeilig!E216)","v":0},{"$f":"IF(zweizeilig!F216=\"\",\"\",zweizeilig!F216)","v":0},{"$f":"IF(zweizeilig!G216=\"\",\"\",zweizeilig!G216)","v":0},{"$f":"IF(OR(B15=\"\",C15=\"\",D15=\"\"),\"\",IF(ISERROR(IF(B15>BBMAVRV,BBMAVRV*$E$6*C15/D15,B15*$E$6*C15/D15)),\"\",IF(B15>BBMAVRV,BBMAVRV*$E$6*C15/D15,B15*$E$6*C15/D15)))","v":""},{"$f":"IF(zweizeilig!I216=\"\",\"\",zweizeilig!I216)","v":0},{"$f":"IF(E15=\"\",\"\",IF(B15>BBMKVPV,BBMKVPV*$G$6*C15/D15,B15*$G$6*C15/D15))","v":""},{"$f":"IF(zweizeilig!K216=\"\",\"\",zweizeilig!K216)","v":0},{"$f":"IF(E15=\"\",\"\",IF(B15>BBMKVPV,BBMKVPV*$I$6*C15/D15,B15*$I$6*C15/D15))","v":""},{"$f":"IF(zweizeilig!M216=\"\",\"\",zweizeilig!M216)","v":0},{"$f":"IF(E15=\"\",\"\",IF(B15>BBMAVRV,BBMAVRV*$K$6*C15/D15,B15*$K$6*C15/D15))","v":""},{"$f":"IF(zweizeilig!O216=\"\",\"\",zweizeilig!O216)","v":0},{"$f":"IF(E15=\"\",\"\",IF(B15>BBMAVRV,BBMAVRV*$M$6*C15/D15,B15*$M$6*C15/D15))","v":""},{"$f":"IF(zweizeilig!Q216=\"\",\"\",zweizeilig!Q216)","v":0},{"$f":"IF(C15=\"\",\"\",IF(D15=\"\",\"\",SUM(E16:N16)))","v":0}]
[null,null,null,null,{"$f":"IF(E15=\"\",\"\",MIN(E15,F15))","v":""},null,{"$f":"IF(G15=\"\",\"\",MIN(G15,H15))","v":""},null,{"$f":"IF(I15=\"\",\"\",MIN(I15,J15))","v":""},null,{"$f":"IF(K15=\"\",\"\",MIN(K15,L15))","v":""},null,{"$f":"IF(OR(M15=\"\",zweizeilig!S182<>\"ja\"),\"\",MIN(M15,N15))","v":""}]
[{"$f":"IF(zweizeilig!A218=\"\",\"\",zweizeilig!A218)","v":" "},{"$f":"IF(zweizeilig!E218=\"\",\"\",zweizeilig!E218)","v":0},{"$f":"IF(zweizeilig!F218=\"\",\"\",zweizeilig!F218)","v":0},{"$f":"IF(zweizeilig!G218=\"\",\"\",zweizeilig!G218)","v":0},{"$f":"IF(OR(B17=\"\",C17=\"\",D17=\"\"),\"\",IF(ISERROR(IF(B17>BBMAVRV,BBMAVRV*$E$6*C17/D17,B17*$E$6*C17/D17)),\"\",IF(B17>BBMAVRV,BBMAVRV*$E$6*C17/D17,B17*$E$6*C17/D17)))","v":""},{"$f":"IF(zweizeilig!I218=\"\",\"\",zweizeilig!I218)","v":0},{"$f":"IF(E17=\"\",\"\",IF(B17>BBMKVPV,BBMKVPV*$G$6*C17/D17,B17*$G$6*C17/D17))","v":""},{"$f":"IF(zweizeilig!K218=\"\",\"\",zweizeilig!K218)","v":0},{"$f":"IF(E17=\"\",\"\",IF(B17>BBMKVPV,BBMKVPV*$I$6*C17/D17,B17*$I$6*C17/D17))","v":""},{"$f":"IF(zweizeilig!M218=\"\",\"\",zweizeilig!M218)","v":0},{"$f":"IF(E17=\"\",\"\",IF(B17>BBMAVRV,BBMAVRV*$K$6*C17/D17,B17*$K$6*C17/D17))","v":""},{"$f":"IF(zweizeilig!O218=\"\",\"\",zweizeilig!O218)","v":0},{"$f":"IF(E17=\"\",\"\",IF(B17>BBMAVRV,BBMAVRV*$M$6*C17/D17,B17*$M$6*C17/D17))","v":""},{"$f":"IF(zweizeilig!Q218=\"\",\"\",zweizeilig!Q218)","v":0},{"$f":"IF(C17=\"\",\"\",IF(D17=\"\",\"\",SUM(E18:N18)))","v":0}]
[null,null,null,null,{"$f":"IF(E17=\"\",\"\",MIN(E17,F17))","v":""},null,{"$f":"IF(G17=\"\",\"\",MIN(G17,H17))","v":""},null,{"$f":"IF(I17=\"\",\"\",MIN(I17,J17))","v":""},null,{"$f":"IF(K17=\"\",\"\",MIN(K17,L17))","v":""},null,{"$f":"IF(OR(M17=\"\",zweizeilig!S184<>\"ja\"),\"\",MIN(M17,N17))","v":""}]
[{"$f":"IF(zweizeilig!A220=\"\",\"\",zweizeilig!A220)","v":" "},{"$f":"IF(zweizeilig!E220=\"\",\"\",zweizeilig!E220)","v":0},{"$f":"IF(zweizeilig!F220=\"\",\"\",zweizeilig!F220)","v":0},{"$f":"IF(zweizeilig!G220=\"\",\"\",zweizeilig!G220)","v":0},{"$f":"IF(OR(B19=\"\",C19=\"\",D19=\"\"),\"\",IF(ISERROR(IF(B19>BBMAVRV,BBMAVRV*$E$6*C19/D19,B19*$E$6*C19/D19)),\"\",IF(B19>BBMAVRV,BBMAVRV*$E$6*C19/D19,B19*$E$6*C19/D19)))","v":""},{"$f":"IF(zweizeilig!I220=\"\",\"\",zweizeilig!I220)","v":0},{"$f":"IF(E19=\"\",\"\",IF(B19>BBMKVPV,BBMKVPV*$G$6*C19/D19,B19*$G$6*C19/D19))","v":""},{"$f":"IF(zweizeilig!K220=\"\",\"\",zweizeilig!K220)","v":0},{"$f":"IF(E19=\"\",\"\",IF(B19>BBMKVPV,BBMKVPV*$I$6*C19/D19,B19*$I$6*C19/D19))","v":""},{"$f":"IF(zweizeilig!M220=\"\",\"\",zweizeilig!M220)","v":0},{"$f":"IF(E19=\"\",\"\",IF(B19>BBMAVRV,BBMAVRV*$K$6*C19/D19,B19*$K$6*C19/D19))","v":""},{"$f":"IF(zweizeilig!O220=\"\",\"\",zweizeilig!O220)","v":0},{"$f":"IF(E19=\"\",\"\",IF(B19>BBMAVRV,BBMAVRV*$M$6*C19/D19,B19*$M$6*C19/D19))","v":""},{"$f":"IF(zweizeilig!Q220=\"\",\"\",zweizeilig!Q220)","v":0},{"$f":"IF(C19=\"\",\"\",IF(D19=\"\",\"\",SUM(E20:N20)))","v":0}]
[null,null,null,null,{"$f":"IF(E19=\"\",\"\",MIN(E19,F19))","v":""},null,{"$f":"IF(G19=\"\",\"\",MIN(G19,H19))","v":""},null,{"$f":"IF(I19=\"\",\"\",MIN(I19,J19))","v":""},null,{"$f":"IF(K19=\"\",\"\",MIN(K19,L19))","v":""},null,{"$f":"IF(OR(M19=\"\",zweizeilig!S186<>\"ja\"),\"\",MIN(M19,N19))","v":""}]
[{"$f":"IF(zweizeilig!A222=\"\",\"\",zweizeilig!A222)","v":" "},{"$f":"IF(zweizeilig!E222=\"\",\"\",zweizeilig!E222)","v":0},{"$f":"IF(zweizeilig!F222=\"\",\"\",zweizeilig!F222)","v":0},{"$f":"IF(zweizeilig!G222=\"\",\"\",zweizeilig!G222)","v":0},{"$f":"IF(OR(B21=\"\",C21=\"\",D21=\"\"),\"\",IF(ISERROR(IF(B21>BBMAVRV,BBMAVRV*$E$6*C21/D21,B21*$E$6*C21/D21)),\"\",IF(B21>BBMAVRV,BBMAVRV*$E$6*C21/D21,B21*$E$6*C21/D21)))","v":""},{"$f":"IF(zweizeilig!I222=\"\",\"\",zweizeilig!I222)","v":0},{"$f":"IF(E21=\"\",\"\",IF(B21>BBMKVPV,BBMKVPV*$G$6*C21/D21,B21*$G$6*C21/D21))","v":""},{"$f":"IF(zweizeilig!K222=\"\",\"\",zweizeilig!K222)","v":0},{"$f":"IF(E21=\"\",\"\",IF(B21>BBMKVPV,BBMKVPV*$I$6*C21/D21,B21*$I$6*C21/D21))","v":""},{"$f":"IF(zweizeilig!M222=\"\",\"\",zweizeilig!M222)","v":0},{"$f":"IF(E21=\"\",\"\",IF(B21>BBMAVRV,BBMAVRV*$K$6*C21/D21,B21*$K$6*C21/D21))","v":""},{"$f":"IF(zweizeilig!O222=\"\",\"\",zweizeilig!O222)","v":0},{"$f":"IF(E21=\"\",\"\",IF(B21>BBMAVRV,BBMAVRV*$M$6*C21/D21,B21*$M$6*C21/D21))","v":""},{"$f":"IF(zweizeilig!Q222=\"\",\"\",zweizeilig!Q222)","v":0},{"$f":"IF(C21=\"\",\"\",IF(D21=\"\",\"\",SUM(E22:N22)))","v":0}]
[null,null,null,null,{"$f":"IF(E21=\"\",\"\",MIN(E21,F21))","v":""},null,{"$f":"IF(G21=\"\",\"\",MIN(G21,H21))","v":""},null,{"$f":"IF(I21=\"\",\"\",MIN(I21,J21))","v":""},null,{"$f":"IF(K21=\"\",\"\",MIN(K21,L21))","v":""},null,{"$f":"IF(OR(M21=\"\",zweizeilig!S188<>\"ja\"),\"\",MIN(M21,N21))","v":""}]
[{"$f":"IF(zweizeilig!A224=\"\",\"\",zweizeilig!A224)","v":" "},{"$f":"IF(zweizeilig!E224=\"\",\"\",zweizeilig!E224)","v":0},{"$f":"IF(zweizeilig!F224=\"\",\"\",zweizeilig!F224)","v":0},{"$f":"IF(zweizeilig!G224=\"\",\"\",zweizeilig!G224)","v":0},{"$f":"IF(OR(B23=\"\",C23=\"\",D23=\"\"),\"\",IF(ISERROR(IF(B23>BBMAVRV,BBMAVRV*$E$6*C23/D23,B23*$E$6*C23/D23)),\"\",IF(B23>BBMAVRV,BBMAVRV*$E$6*C23/D23,B23*$E$6*C23/D23)))","v":""},{"$f":"IF(zweizeilig!I224=\"\",\"\",zweizeilig!I224)","v":0},{"$f":"IF(E23=\"\",\"\",IF(B23>BBMKVPV,BBMKVPV*$G$6*C23/D23,B23*$G$6*C23/D23))","v":""},{"$f":"IF(zweizeilig!K224=\"\",\"\",zweizeilig!K224)","v":0},{"$f":"IF(E23=\"\",\"\",IF(B23>BBMKVPV,BBMKVPV*$I$6*C23/D23,B23*$I$6*C23/D23))","v":""},{"$f":"IF(zweizeilig!M224=\"\",\"\",zweizeilig!M224)","v":0},{"$f":"IF(E23=\"\",\"\",IF(B23>BBMAVRV,BBMAVRV*$K$6*C23/D23,B23*$K$6*C23/D23))","v":""},{"$f":"IF(zweizeilig!O224=\"\",\"\",zweizeilig!O224)","v":0},{"$f":"IF(E23=\"\",\"\",IF(B23>BBMAVRV,BBMAVRV*$M$6*C23/D23,B23*$M$6*C23/D23))","v":""},{"$f":"IF(zweizeilig!Q224=\"\",\"\",zweizeilig!Q224)","v":0},{"$f":"IF(C23=\"\",\"\",IF(D23=\"\",\"\",SUM(E24:N24)))","v":0}]
[null,null,null,null,{"$f":"IF(E23=\"\",\"\",MIN(E23,F23))","v":""},null,{"$f":"IF(G23=\"\",\"\",MIN(G23,H23))","v":""},null,{"$f":"IF(I23=\"\",\"\",MIN(I23,J23))","v":""},null,{"$f":"IF(K23=\"\",\"\",MIN(K23,L23))","v":""},null,{"$f":"IF(OR(M23=\"\",zweizeilig!S190<>\"ja\"),\"\",MIN(M23,N23))","v":""}]
[{"$f":"IF(zweizeilig!A226=\"\",\"\",zweizeilig!A226)","v":" "},{"$f":"IF(zweizeilig!E226=\"\",\"\",zweizeilig!E226)","v":0},{"$f":"IF(zweizeilig!F226=\"\",\"\",zweizeilig!F226)","v":0},{"$f":"IF(zweizeilig!G226=\"\",\"\",zweizeilig!G226)","v":0},{"$f":"IF(OR(B25=\"\",C25=\"\",D25=\"\"),\"\",IF(ISERROR(IF(B25>BBMAVRV,BBMAVRV*$E$6*C25/D25,B25*$E$6*C25/D25)),\"\",IF(B25>BBMAVRV,BBMAVRV*$E$6*C25/D25,B25*$E$6*C25/D25)))","v":""},{"$f":"IF(zweizeilig!I226=\"\",\"\",zweizeilig!I226)","v":0},{"$f":"IF(E25=\"\",\"\",IF(B25>BBMKVPV,BBMKVPV*$G$6*C25/D25,B25*$G$6*C25/D25))","v":""},{"$f":"IF(zweizeilig!K226=\"\",\"\",zweizeilig!K226)","v":0},{"$f":"IF(E25=\"\",\"\",IF(B25>BBMKVPV,BBMKVPV*$I$6*C25/D25,B25*$I$6*C25/D25))","v":""},{"$f":"IF(zweizeilig!M226=\"\",\"\",zweizeilig!M226)","v":0},{"$f":"IF(E25=\"\",\"\",IF(B25>BBMAVRV,BBMAVRV*$K$6*C25/D25,B25*$K$6*C25/D25))","v":""},{"$f":"IF(zweizeilig!O226=\"\",\"\",zweizeilig!O226)","v":0},{"$f":"IF(E25=\"\",\"\",IF(B25>BBMAVRV,BBMAVRV*$M$6*C25/D25,B25*$M$6*C25/D25))","v":""},{"$f":"IF(zweizeilig!Q226=\"\",\"\",zweizeilig!Q226)","v":0},{"$f":"IF(C25=\"\",\"\",IF(D25=\"\",\"\",SUM(E26:N26)))","v":0}]
[null,null,null,null,{"$f":"IF(E25=\"\",\"\",MIN(E25,F25))","v":""},null,{"$f":"IF(G25=\"\",\"\",MIN(G25,H25))","v":""},null,{"$f":"IF(I25=\"\",\"\",MIN(I25,J25))","v":""},null,{"$f":"IF(K25=\"\",\"\",MIN(K25,L25))","v":""},null,{"$f":"IF(OR(M25=\"\",zweizeilig!S192<>\"ja\"),\"\",MIN(M25,N25))","v":""}]
[{"$f":"IF(zweizeilig!A228=\"\",\"\",zweizeilig!A228)","v":" "},{"$f":"IF(zweizeilig!E228=\"\",\"\",zweizeilig!E228)","v":0},{"$f":"IF(zweizeilig!F228=\"\",\"\",zweizeilig!F228)","v":0},{"$f":"IF(zweizeilig!G228=\"\",\"\",zweizeilig!G228)","v":0},{"$f":"IF(OR(B27=\"\",C27=\"\",D27=\"\"),\"\",IF(ISERROR(IF(B27>BBMAVRV,BBMAVRV*$E$6*C27/D27,B27*$E$6*C27/D27)),\"\",IF(B27>BBMAVRV,BBMAVRV*$E$6*C27/D27,B27*$E$6*C27/D27)))","v":""},{"$f":"IF(zweizeilig!I228=\"\",\"\",zweizeilig!I228)","v":0},{"$f":"IF(E27=\"\",\"\",IF(B27>BBMKVPV,BBMKVPV*$G$6*C27/D27,B27*$G$6*C27/D27))","v":""},{"$f":"IF(zweizeilig!K228=\"\",\"\",zweizeilig!K228)","v":0},{"$f":"IF(E27=\"\",\"\",IF(B27>BBMKVPV,BBMKVPV*$I$6*C27/D27,B27*$I$6*C27/D27))","v":""},{"$f":"IF(zweizeilig!M228=\"\",\"\",zweizeilig!M228)","v":0},{"$f":"IF(E27=\"\",\"\",IF(B27>BBMAVRV,BBMAVRV*$K$6*C27/D27,B27*$K$6*C27/D27))","v":""},{"$f":"IF(zweizeilig!O228=\"\",\"\",zweizeilig!O228)","v":0},{"$f":"IF(E27=\"\",\"\",IF(B27>BBMAVRV,BBMAVRV*$M$6*C27/D27,B27*$M$6*C27/D27))","v":""},{"$f":"IF(zweizeilig!Q228=\"\",\"\",zweizeilig!Q228)","v":0},{"$f":"IF(C27=\"\",\"\",IF(D27=\"\",\"\",SUM(E28:N28)))","v":0}]
[null,null,null,null,{"$f":"IF(E27=\"\",\"\",MIN(E27,F27))","v":""},null,{"$f":"IF(G27=\"\",\"\",MIN(G27,H27))","v":""},null,{"$f":"IF(I27=\"\",\"\",MIN(I27,J27))","v":""},null,{"$f":"IF(K27=\"\",\"\",MIN(K27,L27))","v":""},null,{"$f":"IF(OR(M27=\"\",zweizeilig!S194<>\"ja\"),\"\",MIN(M27,N27))","v":""}]
[{"$f":"IF(zweizeilig!A230=\"\",\"\",zweizeilig!A230)","v":" "},{"$f":"IF(zweizeilig!E230=\"\",\"\",zweizeilig!E230)","v":0},{"$f":"IF(zweizeilig!F230=\"\",\"\",zweizeilig!F230)","v":0},{"$f":"IF(zweizeilig!G230=\"\",\"\",zweizeilig!G230)","v":0},{"$f":"IF(OR(B29=\"\",C29=\"\",D29=\"\"),\"\",IF(ISERROR(IF(B29>BBMAVRV,BBMAVRV*$E$6*C29/D29,B29*$E$6*C29/D29)),\"\",IF(B29>BBMAVRV,BBMAVRV*$E$6*C29/D29,B29*$E$6*C29/D29)))","v":""},{"$f":"IF(zweizeilig!I230=\"\",\"\",zweizeilig!I230)","v":0},{"$f":"IF(E29=\"\",\"\",IF(B29>BBMKVPV,BBMKVPV*$G$6*C29/D29,B29*$G$6*C29/D29))","v":""},{"$f":"IF(zweizeilig!K230=\"\",\"\",zweizeilig!K230)","v":0},{"$f":"IF(E29=\"\",\"\",IF(B29>BBMKVPV,BBMKVPV*$I$6*C29/D29,B29*$I$6*C29/D29))","v":""},{"$f":"IF(zweizeilig!M230=\"\",\"\",zweizeilig!M230)","v":0},{"$f":"IF(E29=\"\",\"\",IF(B29>BBMAVRV,BBMAVRV*$K$6*C29/D29,B29*$K$6*C29/D29))","v":""},{"$f":"IF(zweizeilig!O230=\"\",\"\",zweizeilig!O230)","v":0},{"$f":"IF(E29=\"\",\"\",IF(B29>BBMAVRV,BBMAVRV*$M$6*C29/D29,B29*$M$6*C29/D29))","v":""},{"$f":"IF(zweizeilig!Q230=\"\",\"\",zweizeilig!Q230)","v":0},{"$f":"IF(C29=\"\",\"\",IF(D29=\"\",\"\",SUM(E30:N30)))","v":0}]
[null,null,null,null,{"$f":"IF(E29=\"\",\"\",MIN(E29,F29))","v":""},null,{"$f":"IF(G29=\"\",\"\",MIN(G29,H29))","v":""},null,{"$f":"IF(I29=\"\",\"\",MIN(I29,J29))","v":""},null,{"$f":"IF(K29=\"\",\"\",MIN(K29,L29))","v":""},null,{"$f":"IF(OR(M29=\"\",zweizeilig!S196<>\"ja\"),\"\",MIN(M29,N29))","v":""}]
[{"$f":"IF(zweizeilig!A232=\"\",\"\",zweizeilig!A232)","v":" "},{"$f":"IF(zweizeilig!E232=\"\",\"\",zweizeilig!E232)","v":0},{"$f":"IF(zweizeilig!F232=\"\",\"\",zweizeilig!F232)","v":0},{"$f":"IF(zweizeilig!G232=\"\",\"\",zweizeilig!G232)","v":0},{"$f":"IF(OR(B31=\"\",C31=\"\",D31=\"\"),\"\",IF(ISERROR(IF(B31>BBMAVRV,BBMAVRV*$E$6*C31/D31,B31*$E$6*C31/D31)),\"\",IF(B31>BBMAVRV,BBMAVRV*$E$6*C31/D31,B31*$E$6*C31/D31)))","v":""},{"$f":"IF(zweizeilig!I232=\"\",\"\",zweizeilig!I232)","v":0},{"$f":"IF(E31=\"\",\"\",IF(B31>BBMKVPV,BBMKVPV*$G$6*C31/D31,B31*$G$6*C31/D31))","v":""},{"$f":"IF(zweizeilig!K232=\"\",\"\",zweizeilig!K232)","v":0},{"$f":"IF(E31=\"\",\"\",IF(B31>BBMKVPV,BBMKVPV*$I$6*C31/D31,B31*$I$6*C31/D31))","v":""},{"$f":"IF(zweizeilig!M232=\"\",\"\",zweizeilig!M232)","v":0},{"$f":"IF(E31=\"\",\"\",IF(B31>BBMAVRV,BBMAVRV*$K$6*C31/D31,B31*$K$6*C31/D31))","v":""},{"$f":"IF(zweizeilig!O232=\"\",\"\",zweizeilig!O232)","v":0},{"$f":"IF(E31=\"\",\"\",IF(B31>BBMAVRV,BBMAVRV*$M$6*C31/D31,B31*$M$6*C31/D31))","v":""},{"$f":"IF(zweizeilig!Q232=\"\",\"\",zweizeilig!Q232)","v":0},{"$f":"IF(C31=\"\",\"\",IF(D31=\"\",\"\",SUM(E32:N32)))","v":0}]
[null,null,null,null,{"$f":"IF(E31=\"\",\"\",MIN(E31,F31))","v":""},null,{"$f":"IF(G31=\"\",\"\",MIN(G31,H31))","v":""},null,{"$f":"IF(I31=\"\",\"\",MIN(I31,J31))","v":""},null,{"$f":"IF(K31=\"\",\"\",MIN(K31,L31))","v":""},null,{"$f":"IF(OR(M31=\"\",zweizeilig!S198<>\"ja\"),\"\",MIN(M31,N31))","v":""}]
[{"$f":"IF(zweizeilig!A234=\"\",\"\",zweizeilig!A234)","v":" "},{"$f":"IF(zweizeilig!E234=\"\",\"\",zweizeilig!E234)","v":0},{"$f":"IF(zweizeilig!F234=\"\",\"\",zweizeilig!F234)","v":0},{"$f":"IF(zweizeilig!G234=\"\",\"\",zweizeilig!G234)","v":0},{"$f":"IF(OR(B33=\"\",C33=\"\",D33=\"\"),\"\",IF(ISERROR(IF(B33>BBMAVRV,BBMAVRV*$E$6*C33/D33,B33*$E$6*C33/D33)),\"\",IF(B33>BBMAVRV,BBMAVRV*$E$6*C33/D33,B33*$E$6*C33/D33)))","v":""},{"$f":"IF(zweizeilig!I234=\"\",\"\",zweizeilig!I234)","v":0},{"$f":"IF(E33=\"\",\"\",IF(B33>BBMKVPV,BBMKVPV*$G$6*C33/D33,B33*$G$6*C33/D33))","v":""},{"$f":"IF(zweizeilig!K234=\"\",\"\",zweizeilig!K234)","v":0},{"$f":"IF(E33=\"\",\"\",IF(B33>BBMKVPV,BBMKVPV*$I$6*C33/D33,B33*$I$6*C33/D33))","v":""},{"$f":"IF(zweizeilig!M234=\"\",\"\",zweizeilig!M234)","v":0},{"$f":"IF(E33=\"\",\"\",IF(B33>BBMAVRV,BBMAVRV*$K$6*C33/D33,B33*$K$6*C33/D33))","v":""},{"$f":"IF(zweizeilig!O234=\"\",\"\",zweizeilig!O234)","v":0},{"$f":"IF(E33=\"\",\"\",IF(B33>BBMAVRV,BBMAVRV*$M$6*C33/D33,B33*$M$6*C33/D33))","v":""},{"$f":"IF(zweizeilig!Q234=\"\",\"\",zweizeilig!Q234)","v":0},{"$f":"IF(C33=\"\",\"\",IF(D33=\"\",\"\",SUM(E34:N34)))","v":0}]
[null,null,null,null,{"$f":"IF(E33=\"\",\"\",MIN(E33,F33))","v":""},null,{"$f":"IF(G33=\"\",\"\",MIN(G33,H33))","v":""},null,{"$f":"IF(I33=\"\",\"\",MIN(I33,J33))","v":""},null,{"$f":"IF(K33=\"\",\"\",MIN(K33,L33))","v":""},null,{"$f":"IF(OR(M33=\"\",zweizeilig!S200<>\"ja\"),\"\",MIN(M33,N33))","v":""}]
[{"$f":"IF(zweizeilig!A236=\"\",\"\",zweizeilig!A236)","v":" "},{"$f":"IF(zweizeilig!E236=\"\",\"\",zweizeilig!E236)","v":0},{"$f":"IF(zweizeilig!F236=\"\",\"\",zweizeilig!F236)","v":0},{"$f":"IF(zweizeilig!G236=\"\",\"\",zweizeilig!G236)","v":0},{"$f":"IF(OR(B35=\"\",C35=\"\",D35=\"\"),\"\",IF(ISERROR(IF(B35>BBMAVRV,BBMAVRV*$E$6*C35/D35,B35*$E$6*C35/D35)),\"\",IF(B35>BBMAVRV,BBMAVRV*$E$6*C35/D35,B35*$E$6*C35/D35)))","v":""},{"$f":"IF(zweizeilig!I236=\"\",\"\",zweizeilig!I236)","v":0},{"$f":"IF(E35=\"\",\"\",IF(B35>BBMKVPV,BBMKVPV*$G$6*C35/D35,B35*$G$6*C35/D35))","v":""},{"$f":"IF(zweizeilig!K236=\"\",\"\",zweizeilig!K236)","v":0},{"$f":"IF(E35=\"\",\"\",IF(B35>BBMKVPV,BBMKVPV*$I$6*C35/D35,B35*$I$6*C35/D35))","v":""},{"$f":"IF(zweizeilig!M236=\"\",\"\",zweizeilig!M236)","v":0},{"$f":"IF(E35=\"\",\"\",IF(B35>BBMAVRV,BBMAVRV*$K$6*C35/D35,B35*$K$6*C35/D35))","v":""},{"$f":"IF(zweizeilig!O236=\"\",\"\",zweizeilig!O236)","v":0},{"$f":"IF(E35=\"\",\"\",IF(B35>BBMAVRV,BBMAVRV*$M$6*C35/D35,B35*$M$6*C35/D35))","v":""},{"$f":"IF(zweizeilig!Q236=\"\",\"\",zweizeilig!Q236)","v":0},{"$f":"IF(C35=\"\",\"\",IF(D35=\"\",\"\",SUM(E36:N36)))","v":0}]
[null,null,null,null,{"$f":"IF(E35=\"\",\"\",MIN(E35,F35))","v":""},null,{"$f":"IF(G35=\"\",\"\",MIN(G35,H35))","v":""},null,{"$f":"IF(I35=\"\",\"\",MIN(I35,J35))","v":""},null,{"$f":"IF(K35=\"\",\"\",MIN(K35,L35))","v":""},null,{"$f":"IF(OR(M35=\"\",zweizeilig!S202<>\"ja\"),\"\",MIN(M35,N35))","v":""}]
[{"$f":"IF(zweizeilig!A238=\"\",\"\",zweizeilig!A238)","v":" "},{"$f":"IF(zweizeilig!E238=\"\",\"\",zweizeilig!E238)","v":0},{"$f":"IF(zweizeilig!F238=\"\",\"\",zweizeilig!F238)","v":0},{"$f":"IF(zweizeilig!G238=\"\",\"\",zweizeilig!G238)","v":0},{"$f":"IF(OR(B37=\"\",C37=\"\",D37=\"\"),\"\",IF(ISERROR(IF(B37>BBMAVRV,BBMAVRV*$E$6*C37/D37,B37*$E$6*C37/D37)),\"\",IF(B37>BBMAVRV,BBMAVRV*$E$6*C37/D37,B37*$E$6*C37/D37)))","v":""},{"$f":"IF(zweizeilig!I238=\"\",\"\",zweizeilig!I238)","v":0},{"$f":"IF(E37=\"\",\"\",IF(B37>BBMKVPV,BBMKVPV*$G$6*C37/D37,B37*$G$6*C37/D37))","v":""},{"$f":"IF(zweizeilig!K238=\"\",\"\",zweizeilig!K238)","v":0},{"$f":"IF(E37=\"\",\"\",IF(B37>BBMKVPV,BBMKVPV*$I$6*C37/D37,B37*$I$6*C37/D37))","v":""},{"$f":"IF(zweizeilig!M238=\"\",\"\",zweizeilig!M238)","v":0},{"$f":"IF(E37=\"\",\"\",IF(B37>BBMAVRV,BBMAVRV*$K$6*C37/D37,B37*$K$6*C37/D37))","v":""},{"$f":"IF(zweizeilig!O238=\"\",\"\",zweizeilig!O238)","v":0},{"$f":"IF(E37=\"\",\"\",IF(B37>BBMAVRV,BBMAVRV*$M$6*C37/D37,B37*$M$6*C37/D37))","v":""},{"$f":"IF(zweizeilig!Q238=\"\",\"\",zweizeilig!Q238)","v":0},{"$f":"IF(C37=\"\",\"\",IF(D37=\"\",\"\",SUM(E38:N38)))","v":0}]
[null,null,null,null,{"$f":"IF(E37=\"\",\"\",MIN(E37,F37))","v":""},null,{"$f":"IF(G37=\"\",\"\",MIN(G37,H37))","v":""},null,{"$f":"IF(I37=\"\",\"\",MIN(I37,J37))","v":""},null,{"$f":"IF(K37=\"\",\"\",MIN(K37,L37))","v":""},null,{"$f":"IF(OR(M37=\"\",zweizeilig!S204<>\"ja\"),\"\",MIN(M37,N37))","v":""}]
[{"$f":"IF(zweizeilig!A240=\"\",\"\",zweizeilig!A240)","v":" "},{"$f":"IF(zweizeilig!E240=\"\",\"\",zweizeilig!E240)","v":0},{"$f":"IF(zweizeilig!F240=\"\",\"\",zweizeilig!F240)","v":0},{"$f":"IF(zweizeilig!G240=\"\",\"\",zweizeilig!G240)","v":0},{"$f":"IF(OR(B39=\"\",C39=\"\",D39=\"\"),\"\",IF(ISERROR(IF(B39>BBMAVRV,BBMAVRV*$E$6*C39/D39,B39*$E$6*C39/D39)),\"\",IF(B39>BBMAVRV,BBMAVRV*$E$6*C39/D39,B39*$E$6*C39/D39)))","v":""},{"$f":"IF(zweizeilig!I240=\"\",\"\",zweizeilig!I240)","v":0},{"$f":"IF(E39=\"\",\"\",IF(B39>BBMKVPV,BBMKVPV*$G$6*C39/D39,B39*$G$6*C39/D39))","v":""},{"$f":"IF(zweizeilig!K240=\"\",\"\",zweizeilig!K240)","v":0},{"$f":"IF(E39=\"\",\"\",IF(B39>BBMKVPV,BBMKVPV*$I$6*C39/D39,B39*$I$6*C39/D39))","v":""},{"$f":"IF(zweizeilig!M240=\"\",\"\",zweizeilig!M240)","v":0},{"$f":"IF(E39=\"\",\"\",IF(B39>BBMAVRV,BBMAVRV*$K$6*C39/D39,B39*$K$6*C39/D39))","v":""},{"$f":"IF(zweizeilig!O240=\"\",\"\",zweizeilig!O240)","v":0},{"$f":"IF(E39=\"\",\"\",IF(B39>BBMAVRV,BBMAVRV*$M$6*C39/D39,B39*$M$6*C39/D39))","v":""},{"$f":"IF(zweizeilig!Q240=\"\",\"\",zweizeilig!Q240)","v":0},{"$f":"IF(C39=\"\",\"\",IF(D39=\"\",\"\",SUM(E40:N40)))","v":0}]
[null,null,null,null,{"$f":"IF(E39=\"\",\"\",MIN(E39,F39))","v":""},null,{"$f":"IF(G39=\"\",\"\",MIN(G39,H39))","v":""},null,{"$f":"IF(I39=\"\",\"\",MIN(I39,J39))","v":""},null,{"$f":"IF(K39=\"\",\"\",MIN(K39,L39))","v":""},null,{"$f":"IF(OR(M39=\"\",zweizeilig!S206<>\"ja\"),\"\",MIN(M39,N39))","v":""}]
[null,null,null,null,null,null,null,null,null,null,null,null,{"$f":"SUM(O7:O40)","v":0}]

{"sheet":"Summen für Abrechnung","index":8,"n_rows":7,"n_cols":4,"rows_kept":7,"cut":false,"hidden":true,"merged":[]}
[null,"zu berücksichtigender Aufwand des Schulträgers","tatsächlicher Aufwand\ndes Schulträgers","Ergebnis\n+  /  -"]
["AV",{"$f":"'Anlage 3'!F43","v":0},{"$f":"SUM('Anlage 3:Seite 6'!F7,'Anlage 3:Seite 6'!F9,'Anlage 3:Seite 6'!F11,'Anlage 3:Seite 6'!F13,'Anlage 3:Seite 6'!F15,'Anlage 3:Seite 6'!F17,'Anlage 3:Seite 6'!F19,'Anlage 3:Seite 6'!F21,'Anlage 3:Seite 6'!F23,'Anlage 3:Seite 6'!F25,'Anlage 3:Seite 6'!F27,'Anlage 3:Seite 6'!F29,'Anlage 3:Seite 6'!F31,'Anlage 3:Seite 6'!F33,'Anlage 3:Seite 6'!F35,'Anlage 3:Seite 6'!F37,'Anlage 3:Seite 6'!F39,'Anlage 3:Seite 6'!F41)","v":0},{"$f":"B2-C2","v":0}]
["KV",{"$f":"'Anlage 3'!F44","v":0},{"$f":"SUM('Anlage 3:Seite 6'!H7,'Anlage 3:Seite 6'!H9,'Anlage 3:Seite 6'!H11,'Anlage 3:Seite 6'!H13,'Anlage 3:Seite 6'!H15,'Anlage 3:Seite 6'!H17,'Anlage 3:Seite 6'!H19,'Anlage 3:Seite 6'!H21,'Anlage 3:Seite 6'!H23,'Anlage 3:Seite 6'!H25,'Anlage 3:Seite 6'!H27,'Anlage 3:Seite 6'!H29,'Anlage 3:Seite 6'!H31,'Anlage 3:Seite 6'!H33,'Anlage 3:Seite 6'!H35,'Anlage 3:Seite 6'!H37,'Anlage 3:Seite 6'!H39,'Anlage 3:Seite 6'!H41)","v":0},{"$f":"B3-C3","v":0}]
["PV",{"$f":"'Anlage 3'!F45","v":0},{"$f":"SUM('Anlage 3:Seite 6'!J7,'Anlage 3:Seite 6'!J9,'Anlage 3:Seite 6'!J11,'Anlage 3:Seite 6'!J13,'Anlage 3:Seite 6'!J15,'Anlage 3:Seite 6'!J17,'Anlage 3:Seite 6'!J19,'Anlage 3:Seite 6'!J21,'Anlage 3:Seite 6'!J23,'Anlage 3:Seite 6'!J25,'Anlage 3:Seite 6'!J27,'Anlage 3:Seite 6'!J29,'Anlage 3:Seite 6'!J31,'Anlage 3:Seite 6'!J33,'Anlage 3:Seite 6'!J35,'Anlage 3:Seite 6'!J37,'Anlage 3:Seite 6'!J39,'Anlage 3:Seite 6'!J41)","v":0},{"$f":"B4-C4","v":0}]
["RV",{"$f":"'Anlage 3'!I43","v":0},{"$f":"SUM('Anlage 3:Seite 6'!L7,'Anlage 3:Seite 6'!L9,'Anlage 3:Seite 6'!L11,'Anlage 3:Seite 6'!L13,'Anlage 3:Seite 6'!L15,'Anlage 3:Seite 6'!L17,'Anlage 3:Seite 6'!L19,'Anlage 3:Seite 6'!L21,'Anlage 3:Seite 6'!L23,'Anlage 3:Seite 6'!L25,'Anlage 3:Seite 6'!L27,'Anlage 3:Seite 6'!L29,'Anlage 3:Seite 6'!L31,'Anlage 3:Seite 6'!L33,'Anlage 3:Seite 6'!L35,'Anlage 3:Seite 6'!L37,'Anlage 3:Seite 6'!L39,'Anlage 3:Seite 6'!L41)","v":0},{"$f":"B5-C5","v":0}]
["ZV",{"$f":"'Anlage 3'!I44","v":0},{"$f":"SUM('Anlage 3:Seite 6'!N7,'Anlage 3:Seite 6'!N9,'Anlage 3:Seite 6'!N11,'Anlage 3:Seite 6'!N13,'Anlage 3:Seite 6'!N15,'Anlage 3:Seite 6'!N17,'Anlage 3:Seite 6'!N19,'Anlage 3:Seite 6'!N21,'Anlage 3:Seite 6'!N23,'Anlage 3:Seite 6'!N25,'Anlage 3:Seite 6'!N27,'Anlage 3:Seite 6'!N29,'Anlage 3:Seite 6'!N31,'Anlage 3:Seite 6'!N33,'Anlage 3:Seite 6'!N35,'Anlage 3:Seite 6'!N37,'Anlage 3:Seite 6'!N39,'Anlage 3:Seite 6'!N41)","v":0},{"$f":"B6-C6","v":0}]
["Summe",{"$f":"SUM(B2:B6)","v":0},{"$f":"SUM(C2:C6)","v":0},{"$f":"SUM(D2:D6)","v":0}]

{"sheet":"zweizeilig","index":9,"n_rows":240,"n_cols":19,"rows_kept":240,"cut":false,"hidden":true,"merged":[]}
["dat_sv",{"$f":"Daten!A4","v":"Name"},{"$f":"Daten!B4","v":"Vorname"},{"$f":"Daten!C4","v":"Funktion"},{"$f":"Daten!D4","v":"rentenver-\nsicherungspfl.\nEntgelt"},{"$f":"Daten!E4","v":"tatsUStd"},{"$f":"Daten!F4","v":"VertrUStd"},null,{"$f":"Daten!G4","v":"AV"},null,{"$f":"Daten!H4","v":"KV"},null,{"$f":"Daten!I4","v":"PV"},null,{"$f":"Daten!J4","v":"RV"},null,{"$f":"Daten!K4","v":"ZV"},null,"ZV erfüllt?"]
[{"$f":"IF(B2=0,\" \",B2&\" \"&C2&\" \"&D2)","v":" "},{"$f":"Daten!A5","v":0},{"$f":"Daten!B5","v":0},{"$f":"Daten!C5","v":0},{"$f":"Daten!D5","v":0},{"$f":"Daten!E5","v":0},{"$f":"Daten!F5","v":0},null,{"$f":"Daten!G5","v":0},null,{"$f":"Daten!H5","v":0},null,{"$f":"Daten!I5","v":0},null,{"$f":"Daten!J5","v":0},null,{"$f":"Daten!K5","v":0},null,{"$f":"Daten!L5","v":0}]
[]
[{"$f":"IF(B4=0,\" \",B4&\" \"&C4&\" \"&D4)","v":" "},{"$f":"Daten!A6","v":0},{"$f":"Daten!B6","v":0},{"$f":"Daten!C6","v":0},{"$f":"Daten!D6","v":0},{"$f":"Daten!E6","v":0},{"$f":"Daten!F6","v":0},null,{"$f":"Daten!G6","v":0},null,{"$f":"Daten!H6","v":0},null,{"$f":"Daten!I6","v":0},null,{"$f":"Daten!J6","v":0},null,{"$f":"Daten!K6","v":0},null,{"$f":"Daten!L6","v":0}]
[]
[" ",{"$f":"Daten!A7","v":0},{"$f":"Daten!B7","v":0},{"$f":"Daten!C7","v":0},{"$f":"Daten!D7","v":0},{"$f":"Daten!E7","v":0},{"$f":"Daten!F7","v":0},null,{"$f":"Daten!G7","v":0},null,{"$f":"Daten!H7","v":0},null,{"$f":"Daten!I7","v":0},null,{"$f":"Daten!J7","v":0},null,{"$f":"Daten!K7","v":0},null,{"$f":"Daten!L7","v":0}]
[]
[" ",{"$f":"Daten!A8","v":0},{"$f":"Daten!B8","v":0},{"$f":"Daten!C8","v":0},{"$f":"Daten!D8","v":0},{"$f":"Daten!E8","v":0},{"$f":"Daten!F8","v":0},null,{"$f":"Daten!G8","v":0},null,{"$f":"Daten!H8","v":0},null,{"$f":"Daten!I8","v":0},null,{"$f":"Daten!J8","v":0},null,{"$f":"Daten!K8","v":0},null,{"$f":"Daten!L8","v":0}]
[]
[" ",{"$f":"Daten!A9","v":0},{"$f":"Daten!B9","v":0},{"$f":"Daten!C9","v":0},{"$f":"Daten!D9","v":0},{"$f":"Daten!E9","v":0},{"$f":"Daten!F9","v":0},null,{"$f":"Daten!G9","v":0},null,{"$f":"Daten!H9","v":0},null,{"$f":"Daten!I9","v":0},null,{"$f":"Daten!J9","v":0},null,{"$f":"Daten!K9","v":0},null,{"$f":"Daten!L9","v":0}]
[]
[" ",{"$f":"Daten!A10","v":0},{"$f":"Daten!B10","v":0},{"$f":"Daten!C10","v":0},{"$f":"Daten!D10","v":0},{"$f":"Daten!E10","v":0},{"$f":"Daten!F10","v":0},null,{"$f":"Daten!G10","v":0},null,{"$f":"Daten!H10","v":0},null,{"$f":"Daten!I10","v":0},null,{"$f":"Daten!J10","v":0},null,{"$f":"Daten!K10","v":0},null,{"$f":"Daten!L10","v":0}]
[]
[" ",{"$f":"Daten!A11","v":0},{"$f":"Daten!B11","v":0},{"$f":"Daten!C11","v":0},{"$f":"Daten!D11","v":0},{"$f":"Daten!E11","v":0},{"$f":"Daten!F11","v":0},null,{"$f":"Daten!G11","v":0},null,{"$f":"Daten!H11","v":0},null,{"$f":"Daten!I11","v":0},null,{"$f":"Daten!J11","v":0},null,{"$f":"Daten!K11","v":0},null,{"$f":"Daten!L11","v":0}]
[]
[" ",{"$f":"Daten!A12","v":0},{"$f":"Daten!B12","v":0},{"$f":"Daten!C12","v":0},{"$f":"Daten!D12","v":0},{"$f":"Daten!E12","v":0},{"$f":"Daten!F12","v":0},null,{"$f":"Daten!G12","v":0},null,{"$f":"Daten!H12","v":0},null,{"$f":"Daten!I12","v":0},null,{"$f":"Daten!J12","v":0},null,{"$f":"Daten!K12","v":0},null,{"$f":"Daten!L12","v":0}]
[]
[" ",{"$f":"Daten!A13","v":0},{"$f":"Daten!B13","v":0},{"$f":"Daten!C13","v":0},{"$f":"Daten!D13","v":0},{"$f":"Daten!E13","v":0},{"$f":"Daten!F13","v":0},null,{"$f":"Daten!G13","v":0},null,{"$f":"Daten!H13","v":0},null,{"$f":"Daten!I13","v":0},null,{"$f":"Daten!J13","v":0},null,{"$f":"Daten!K13","v":0},null,{"$f":"Daten!L13","v":0}]
[]
[" ",{"$f":"Daten!A14","v":0},{"$f":"Daten!B14","v":0},{"$f":"Daten!C14","v":0},{"$f":"Daten!D14","v":0},{"$f":"Daten!E14","v":0},{"$f":"Daten!F14","v":0},null,{"$f":"Daten!G14","v":0},null,{"$f":"Daten!H14","v":0},null,{"$f":"Daten!I14","v":0},null,{"$f":"Daten!J14","v":0},null,{"$f":"Daten!K14","v":0},null,{"$f":"Daten!L14","v":0}]
[]
[" ",{"$f":"Daten!A15","v":0},{"$f":"Daten!B15","v":0},{"$f":"Daten!C15","v":0},{"$f":"Daten!D15","v":0},{"$f":"Daten!E15","v":0},{"$f":"Daten!F15","v":0},null,{"$f":"Daten!G15","v":0},null,{"$f":"Daten!H15","v":0},null,{"$f":"Daten!I15","v":0},null,{"$f":"Daten!J15","v":0},null,{"$f":"Daten!K15","v":0},null,{"$f":"Daten!L15","v":0}]
[]
[" ",{"$f":"Daten!A16","v":0},{"$f":"Daten!B16","v":0},{"$f":"Daten!C16","v":0},{"$f":"Daten!D16","v":0},{"$f":"Daten!E16","v":0},{"$f":"Daten!F16","v":0},null,{"$f":"Daten!G16","v":0},null,{"$f":"Daten!H16","v":0},null,{"$f":"Daten!I16","v":0},null,{"$f":"Daten!J16","v":0},null,{"$f":"Daten!K16","v":0},null,{"$f":"Daten!L16","v":0}]
[]
[" ",{"$f":"Daten!A17","v":0},{"$f":"Daten!B17","v":0},{"$f":"Daten!C17","v":0},{"$f":"Daten!D17","v":0},{"$f":"Daten!E17","v":0},{"$f":"Daten!F17","v":0},null,{"$f":"Daten!G17","v":0},null,{"$f":"Daten!H17","v":0},null,{"$f":"Daten!I17","v":0},null,{"$f":"Daten!J17","v":0},null,{"$f":"Daten!K17","v":0},null,{"$f":"Daten!L17","v":0}]
[]
[" ",{"$f":"Daten!A18","v":0},{"$f":"Daten!B18","v":0},{"$f":"Daten!C18","v":0},{"$f":"Daten!D18","v":0},{"$f":"Daten!E18","v":0},{"$f":"Daten!F18","v":0},null,{"$f":"Daten!G18","v":0},null,{"$f":"Daten!H18","v":0},null,{"$f":"Daten!I18","v":0},null,{"$f":"Daten!J18","v":0},null,{"$f":"Daten!K18","v":0},null,{"$f":"Daten!L18","v":0}]
[]
[" ",{"$f":"Daten!A19","v":0},{"$f":"Daten!B19","v":0},{"$f":"Daten!C19","v":0},{"$f":"Daten!D19","v":0},{"$f":"Daten!E19","v":0},{"$f":"Daten!F19","v":0},null,{"$f":"Daten!G19","v":0},null,{"$f":"Daten!H19","v":0},null,{"$f":"Daten!I19","v":0},null,{"$f":"Daten!J19","v":0},null,{"$f":"Daten!K19","v":0},null,{"$f":"Daten!L19","v":0}]
[]
[" ",{"$f":"Daten!A20","v":0},{"$f":"Daten!B20","v":0},{"$f":"Daten!C20","v":0},{"$f":"Daten!D20","v":0},{"$f":"Daten!E20","v":0},{"$f":"Daten!F20","v":0},null,{"$f":"Daten!G20","v":0},null,{"$f":"Daten!H20","v":0},null,{"$f":"Daten!I20","v":0},null,{"$f":"Daten!J20","v":0},null,{"$f":"Daten!K20","v":0},null,{"$f":"Daten!L20","v":0}]
[]
[" ",{"$f":"Daten!A21","v":0},{"$f":"Daten!B21","v":0},{"$f":"Daten!C21","v":0},{"$f":"Daten!D21","v":0},{"$f":"Daten!E21","v":0},{"$f":"Daten!F21","v":0},null,{"$f":"Daten!G21","v":0},null,{"$f":"Daten!H21","v":0},null,{"$f":"Daten!I21","v":0},null,{"$f":"Daten!J21","v":0},null,{"$f":"Daten!K21","v":0},null,{"$f":"Daten!L21","v":0}]
[]
[" ",{"$f":"Daten!A22","v":0},{"$f":"Daten!B22","v":0},{"$f":"Daten!C22","v":0},{"$f":"Daten!D22","v":0},{"$f":"Daten!E22","v":0},{"$f":"Daten!F22","v":0},null,{"$f":"Daten!G22","v":0},null,{"$f":"Daten!H22","v":0},null,{"$f":"Daten!I22","v":0},null,{"$f":"Daten!J22","v":0},null,{"$f":"Daten!K22","v":0},null,{"$f":"Daten!L22","v":0}]
[]
[" ",{"$f":"Daten!A23","v":0},{"$f":"Daten!B23","v":0},{"$f":"Daten!C23","v":0},{"$f":"Daten!D23","v":0},{"$f":"Daten!E23","v":0},{"$f":"Daten!F23","v":0},null,{"$f":"Daten!G23","v":0},null,{"$f":"Daten!H23","v":0},null,{"$f":"Daten!I23","v":0},null,{"$f":"Daten!J23","v":0},null,{"$f":"Daten!K23","v":0},null,{"$f":"Daten!L23","v":0}]
[]
[" ",{"$f":"Daten!A24","v":0},{"$f":"Daten!B24","v":0},{"$f":"Daten!C24","v":0},{"$f":"Daten!D24","v":0},{"$f":"Daten!E24","v":0},{"$f":"Daten!F24","v":0},null,{"$f":"Daten!G24","v":0},null,{"$f":"Daten!H24","v":0},null,{"$f":"Daten!I24","v":0},null,{"$f":"Daten!J24","v":0},null,{"$f":"Daten!K24","v":0},null,{"$f":"Daten!L24","v":0}]
[]
[" ",{"$f":"Daten!A25","v":0},{"$f":"Daten!B25","v":0},{"$f":"Daten!C25","v":0},{"$f":"Daten!D25","v":0},{"$f":"Daten!E25","v":0},{"$f":"Daten!F25","v":0},null,{"$f":"Daten!G25","v":0},null,{"$f":"Daten!H25","v":0},null,{"$f":"Daten!I25","v":0},null,{"$f":"Daten!J25","v":0},null,{"$f":"Daten!K25","v":0},null,{"$f":"Daten!L25","v":0}]
[]
[" ",{"$f":"Daten!A26","v":0},{"$f":"Daten!B26","v":0},{"$f":"Daten!C26","v":0},{"$f":"Daten!D26","v":0},{"$f":"Daten!E26","v":0},{"$f":"Daten!F26","v":0},null,{"$f":"Daten!G26","v":0},null,{"$f":"Daten!H26","v":0},null,{"$f":"Daten!I26","v":0},null,{"$f":"Daten!J26","v":0},null,{"$f":"Daten!K26","v":0},null,{"$f":"Daten!L26","v":0}]
[]
[" ",{"$f":"Daten!A27","v":0},{"$f":"Daten!B27","v":0},{"$f":"Daten!C27","v":0},{"$f":"Daten!D27","v":0},{"$f":"Daten!E27","v":0},{"$f":"Daten!F27","v":0},null,{"$f":"Daten!G27","v":0},null,{"$f":"Daten!H27","v":0},null,{"$f":"Daten!I27","v":0},null,{"$f":"Daten!J27","v":0},null,{"$f":"Daten!K27","v":0},null,{"$f":"Daten!L27","v":0}]
[]
[" ",{"$f":"Daten!A28","v":0},{"$f":"Daten!B28","v":0},{"$f":"Daten!C28","v":0},{"$f":"Daten!D28","v":0},{"$f":"Daten!E28","v":0},{"$f":"Daten!F28","v":0},null,{"$f":"Daten!G28","v":0},null,{"$f":"Daten!H28","v":0},null,{"$f":"Daten!I28","v":0},null,{"$f":"Daten!J28","v":0},null,{"$f":"Daten!K28","v":0},null,{"$f":"Daten!L28","v":0}]
[]
[" ",{"$f":"Daten!A29","v":0},{"$f":"Daten!B29","v":0},{"$f":"Daten!C29","v":0},{"$f":"Daten!D29","v":0},{"$f":"Daten!E29","v":0},{"$f":"Daten!F29","v":0},null,{"$f":"Daten!G29","v":0},null,{"$f":"Daten!H29","v":0},null,{"$f":"Daten!I29","v":0},null,{"$f":"Daten!J29","v":0},null,{"$f":"Daten!K29","v":0},null,{"$f":"Daten!L29","v":0}]
[]
[" ",{"$f":"Daten!A30","v":0},{"$f":"Daten!B30","v":0},{"$f":"Daten!C30","v":0},{"$f":"Daten!D30","v":0},{"$f":"Daten!E30","v":0},{"$f":"Daten!F30","v":0},null,{"$f":"Daten!G30","v":0},null,{"$f":"Daten!H30","v":0},null,{"$f":"Daten!I30","v":0},null,{"$f":"Daten!J30","v":0},null,{"$f":"Daten!K30","v":0},null,{"$f":"Daten!L30","v":0}]
[]
[" ",{"$f":"Daten!A31","v":0},{"$f":"Daten!B31","v":0},{"$f":"Daten!C31","v":0},{"$f":"Daten!D31","v":0},{"$f":"Daten!E31","v":0},{"$f":"Daten!F31","v":0},null,{"$f":"Daten!G31","v":0},null,{"$f":"Daten!H31","v":0},null,{"$f":"Daten!I31","v":0},null,{"$f":"Daten!J31","v":0},null,{"$f":"Daten!K31","v":0},null,{"$f":"Daten!L31","v":0}]
[]
[" ",{"$f":"Daten!A32","v":0},{"$f":"Daten!B32","v":0},{"$f":"Daten!C32","v":0},{"$f":"Daten!D32","v":0},{"$f":"Daten!E32","v":0},{"$f":"Daten!F32","v":0},null,{"$f":"Daten!G32","v":0},null,{"$f":"Daten!H32","v":0},null,{"$f":"Daten!I32","v":0},null,{"$f":"Daten!J32","v":0},null,{"$f":"Daten!K32","v":0},null,{"$f":"Daten!L32","v":0}]
[]
[" ",{"$f":"Daten!A33","v":0},{"$f":"Daten!B33","v":0},{"$f":"Daten!C33","v":0},{"$f":"Daten!D33","v":0},{"$f":"Daten!E33","v":0},{"$f":"Daten!F33","v":0},null,{"$f":"Daten!G33","v":0},null,{"$f":"Daten!H33","v":0},null,{"$f":"Daten!I33","v":0},null,{"$f":"Daten!J33","v":0},null,{"$f":"Daten!K33","v":0},null,{"$f":"Daten!L33","v":0}]
[]
[" ",{"$f":"Daten!A34","v":0},{"$f":"Daten!B34","v":0},{"$f":"Daten!C34","v":0},{"$f":"Daten!D34","v":0},{"$f":"Daten!E34","v":0},{"$f":"Daten!F34","v":0},null,{"$f":"Daten!G34","v":0},null,{"$f":"Daten!H34","v":0},null,{"$f":"Daten!I34","v":0},null,{"$f":"Daten!J34","v":0},null,{"$f":"Daten!K34","v":0},null,{"$f":"Daten!L34","v":0}]
[]
[" ",{"$f":"Daten!A35","v":0},{"$f":"Daten!B35","v":0},{"$f":"Daten!C35","v":0},{"$f":"Daten!D35","v":0},{"$f":"Daten!E35","v":0},{"$f":"Daten!F35","v":0},null,{"$f":"Daten!G35","v":0},null,{"$f":"Daten!H35","v":0},null,{"$f":"Daten!I35","v":0},null,{"$f":"Daten!J35","v":0},null,{"$f":"Daten!K35","v":0},null,{"$f":"Daten!L35","v":0}]
[]
[" ",{"$f":"Daten!A36","v":0},{"$f":"Daten!B36","v":0},{"$f":"Daten!C36","v":0},{"$f":"Daten!D36","v":0},{"$f":"Daten!E36","v":0},{"$f":"Daten!F36","v":0},null,{"$f":"Daten!G36","v":0},null,{"$f":"Daten!H36","v":0},null,{"$f":"Daten!I36","v":0},null,{"$f":"Daten!J36","v":0},null,{"$f":"Daten!K36","v":0},null,{"$f":"Daten!L36","v":0}]
[]
[" ",{"$f":"Daten!A37","v":0},{"$f":"Daten!B37","v":0},{"$f":"Daten!C37","v":0},{"$f":"Daten!D37","v":0},{"$f":"Daten!E37","v":0},{"$f":"Daten!F37","v":0},null,{"$f":"Daten!G37","v":0},null,{"$f":"Daten!H37","v":0},null,{"$f":"Daten!I37","v":0},null,{"$f":"Daten!J37","v":0},null,{"$f":"Daten!K37","v":0},null,{"$f":"Daten!L37","v":0}]
[]
[" ",{"$f":"Daten!A38","v":0},{"$f":"Daten!B38","v":0},{"$f":"Daten!C38","v":0},{"$f":"Daten!D38","v":0},{"$f":"Daten!E38","v":0},{"$f":"Daten!F38","v":0},null,{"$f":"Daten!G38","v":0},null,{"$f":"Daten!H38","v":0},null,{"$f":"Daten!I38","v":0},null,{"$f":"Daten!J38","v":0},null,{"$f":"Daten!K38","v":0},null,{"$f":"Daten!L38","v":0}]
[]
[" ",{"$f":"Daten!A39","v":0},{"$f":"Daten!B39","v":0},{"$f":"Daten!C39","v":0},{"$f":"Daten!D39","v":0},{"$f":"Daten!E39","v":0},{"$f":"Daten!F39","v":0},null,{"$f":"Daten!G39","v":0},null,{"$f":"Daten!H39","v":0},null,{"$f":"Daten!I39","v":0},null,{"$f":"Daten!J39","v":0},null,{"$f":"Daten!K39","v":0},null,{"$f":"Daten!L39","v":0}]
[]
[" ",{"$f":"Daten!A40","v":0},{"$f":"Daten!B40","v":0},{"$f":"Daten!C40","v":0},{"$f":"Daten!D40","v":0},{"$f":"Daten!E40","v":0},{"$f":"Daten!F40","v":0},null,{"$f":"Daten!G40","v":0},null,{"$f":"Daten!H40","v":0},null,{"$f":"Daten!I40","v":0},null,{"$f":"Daten!J40","v":0},null,{"$f":"Daten!K40","v":0},null,{"$f":"Daten!L40","v":0}]
[]
[" ",{"$f":"Daten!A41","v":0},{"$f":"Daten!B41","v":0},{"$f":"Daten!C41","v":0},{"$f":"Daten!D41","v":0},{"$f":"Daten!E41","v":0},{"$f":"Daten!F41","v":0},null,{"$f":"Daten!G41","v":0},null,{"$f":"Daten!H41","v":0},null,{"$f":"Daten!I41","v":0},null,{"$f":"Daten!J41","v":0},null,{"$f":"Daten!K41","v":0},null,{"$f":"Daten!L41","v":0}]
[]
[" ",{"$f":"Daten!A42","v":0},{"$f":"Daten!B42","v":0},{"$f":"Daten!C42","v":0},{"$f":"Daten!D42","v":0},{"$f":"Daten!E42","v":0},{"$f":"Daten!F42","v":0},null,{"$f":"Daten!G42","v":0},null,{"$f":"Daten!H42","v":0},null,{"$f":"Daten!I42","v":0},null,{"$f":"Daten!J42","v":0},null,{"$f":"Daten!K42","v":0},null,{"$f":"Daten!L42","v":0}]
[]
[" ",{"$f":"Daten!A43","v":0},{"$f":"Daten!B43","v":0},{"$f":"Daten!C43","v":0},{"$f":"Daten!D43","v":0},{"$f":"Daten!E43","v":0},{"$f":"Daten!F43","v":0},null,{"$f":"Daten!G43","v":0},null,{"$f":"Daten!H43","v":0},null,{"$f":"Daten!I43","v":0},null,{"$f":"Daten!J43","v":0},null,{"$f":"Daten!K43","v":0},null,{"$f":"Daten!L43","v":0}]
[]
[" ",{"$f":"Daten!A44","v":0},{"$f":"Daten!B44","v":0},{"$f":"Daten!C44","v":0},{"$f":"Daten!D44","v":0},{"$f":"Daten!E44","v":0},{"$f":"Daten!F44","v":0},null,{"$f":"Daten!G44","v":0},null,{"$f":"Daten!H44","v":0},null,{"$f":"Daten!I44","v":0},null,{"$f":"Daten!J44","v":0},null,{"$f":"Daten!K44","v":0},null,{"$f":"Daten!L44","v":0}]
[]
[" ",{"$f":"Daten!A45","v":0},{"$f":"Daten!B45","v":0},{"$f":"Daten!C45","v":0},{"$f":"Daten!D45","v":0},{"$f":"Daten!E45","v":0},{"$f":"Daten!F45","v":0},null,{"$f":"Daten!G45","v":0},null,{"$f":"Daten!H45","v":0},null,{"$f":"Daten!I45","v":0},null,{"$f":"Daten!J45","v":0},null,{"$f":"Daten!K45","v":0},null,{"$f":"Daten!L45","v":0}]
[]
[" ",{"$f":"Daten!A46","v":0},{"$f":"Daten!B46","v":0},{"$f":"Daten!C46","v":0},{"$f":"Daten!D46","v":0},{"$f":"Daten!E46","v":0},{"$f":"Daten!F46","v":0},null,{"$f":"Daten!G46","v":0},null,{"$f":"Daten!H46","v":0},null,{"$f":"Daten!I46","v":0},null,{"$f":"Daten!J46","v":0},null,{"$f":"Daten!K46","v":0},null,{"$f":"Daten!L46","v":0}]
[]
[" ",{"$f":"Daten!A47","v":0},{"$f":"Daten!B47","v":0},{"$f":"Daten!C47","v":0},{"$f":"Daten!D47","v":0},{"$f":"Daten!E47","v":0},{"$f":"Daten!F47","v":0},null,{"$f":"Daten!G47","v":0},null,{"$f":"Daten!H47","v":0},null,{"$f":"Daten!I47","v":0},null,{"$f":"Daten!J47","v":0},null,{"$f":"Daten!K47","v":0},null,{"$f":"Daten!L47","v":0}]
[]
[" ",{"$f":"Daten!A48","v":0},{"$f":"Daten!B48","v":0},{"$f":"Daten!C48","v":0},{"$f":"Daten!D48","v":0},{"$f":"Daten!E48","v":0},{"$f":"Daten!F48","v":0},null,{"$f":"Daten!G48","v":0},null,{"$f":"Daten!H48","v":0},null,{"$f":"Daten!I48","v":0},null,{"$f":"Daten!J48","v":0},null,{"$f":"Daten!K48","v":0},null,{"$f":"Daten!L48","v":0}]
[]
[" ",{"$f":"Daten!A49","v":0},{"$f":"Daten!B49","v":0},{"$f":"Daten!C49","v":0},{"$f":"Daten!D49","v":0},{"$f":"Daten!E49","v":0},{"$f":"Daten!F49","v":0},null,{"$f":"Daten!G49","v":0},null,{"$f":"Daten!H49","v":0},null,{"$f":"Daten!I49","v":0},null,{"$f":"Daten!J49","v":0},null,{"$f":"Daten!K49","v":0},null,{"$f":"Daten!L49","v":0}]
[]
[" ",{"$f":"Daten!A50","v":0},{"$f":"Daten!B50","v":0},{"$f":"Daten!C50","v":0},{"$f":"Daten!D50","v":0},{"$f":"Daten!E50","v":0},{"$f":"Daten!F50","v":0},null,{"$f":"Daten!G50","v":0},null,{"$f":"Daten!H50","v":0},null,{"$f":"Daten!I50","v":0},null,{"$f":"Daten!J50","v":0},null,{"$f":"Daten!K50","v":0},null,{"$f":"Daten!L50","v":0}]
[]
[" ",{"$f":"Daten!A51","v":0},{"$f":"Daten!B51","v":0},{"$f":"Daten!C51","v":0},{"$f":"Daten!D51","v":0},{"$f":"Daten!E51","v":0},{"$f":"Daten!F51","v":0},null,{"$f":"Daten!G51","v":0},null,{"$f":"Daten!H51","v":0},null,{"$f":"Daten!I51","v":0},null,{"$f":"Daten!J51","v":0},null,{"$f":"Daten!K51","v":0},null,{"$f":"Daten!L51","v":0}]
[]
[" ",{"$f":"Daten!A52","v":0},{"$f":"Daten!B52","v":0},{"$f":"Daten!C52","v":0},{"$f":"Daten!D52","v":0},{"$f":"Daten!E52","v":0},{"$f":"Daten!F52","v":0},null,{"$f":"Daten!G52","v":0},null,{"$f":"Daten!H52","v":0},null,{"$f":"Daten!I52","v":0},null,{"$f":"Daten!J52","v":0},null,{"$f":"Daten!K52","v":0},null,{"$f":"Daten!L52","v":0}]
[]
[" ",{"$f":"Daten!A53","v":0},{"$f":"Daten!B53","v":0},{"$f":"Daten!C53","v":0},{"$f":"Daten!D53","v":0},{"$f":"Daten!E53","v":0},{"$f":"Daten!F53","v":0},null,{"$f":"Daten!G53","v":0},null,{"$f":"Daten!H53","v":0},null,{"$f":"Daten!I53","v":0},null,{"$f":"Daten!J53","v":0},null,{"$f":"Daten!K53","v":0},null,{"$f":"Daten!L53","v":0}]
[]
[" ",{"$f":"Daten!A54","v":0},{"$f":"Daten!B54","v":0},{"$f":"Daten!C54","v":0},{"$f":"Daten!D54","v":0},{"$f":"Daten!E54","v":0},{"$f":"Daten!F54","v":0},null,{"$f":"Daten!G54","v":0},null,{"$f":"Daten!H54","v":0},null,{"$f":"Daten!I54","v":0},null,{"$f":"Daten!J54","v":0},null,{"$f":"Daten!K54","v":0},null,{"$f":"Daten!L54","v":0}]
[]
[" ",{"$f":"Daten!A55","v":0},{"$f":"Daten!B55","v":0},{"$f":"Daten!C55","v":0},{"$f":"Daten!D55","v":0},{"$f":"Daten!E55","v":0},{"$f":"Daten!F55","v":0},null,{"$f":"Daten!G55","v":0},null,{"$f":"Daten!H55","v":0},null,{"$f":"Daten!I55","v":0},null,{"$f":"Daten!J55","v":0},null,{"$f":"Daten!K55","v":0},null,{"$f":"Daten!L55","v":0}]
[]
[" ",{"$f":"Daten!A56","v":0},{"$f":"Daten!B56","v":0},{"$f":"Daten!C56","v":0},{"$f":"Daten!D56","v":0},{"$f":"Daten!E56","v":0},{"$f":"Daten!F56","v":0},null,{"$f":"Daten!G56","v":0},null,{"$f":"Daten!H56","v":0},null,{"$f":"Daten!I56","v":0},null,{"$f":"Daten!J56","v":0},null,{"$f":"Daten!K56","v":0},null,{"$f":"Daten!L56","v":0}]
[]
[" ",{"$f":"Daten!A57","v":0},{"$f":"Daten!B57","v":0},{"$f":"Daten!C57","v":0},{"$f":"Daten!D57","v":0},{"$f":"Daten!E57","v":0},{"$f":"Daten!F57","v":0},null,{"$f":"Daten!G57","v":0},null,{"$f":"Daten!H57","v":0},null,{"$f":"Daten!I57","v":0},null,{"$f":"Daten!J57","v":0},null,{"$f":"Daten!K57","v":0},null,{"$f":"Daten!L57","v":0}]
[]
[" ",{"$f":"Daten!A58","v":0},{"$f":"Daten!B58","v":0},{"$f":"Daten!C58","v":0},{"$f":"Daten!D58","v":0},{"$f":"Daten!E58","v":0},{"$f":"Daten!F58","v":0},null,{"$f":"Daten!G58","v":0},null,{"$f":"Daten!H58","v":0},null,{"$f":"Daten!I58","v":0},null,{"$f":"Daten!J58","v":0},null,{"$f":"Daten!K58","v":0},null,{"$f":"Daten!L58","v":0}]
[]
[" ",{"$f":"Daten!A59","v":0},{"$f":"Daten!B59","v":0},{"$f":"Daten!C59","v":0},{"$f":"Daten!D59","v":0},{"$f":"Daten!E59","v":0},{"$f":"Daten!F59","v":0},null,{"$f":"Daten!G59","v":0},null,{"$f":"Daten!H59","v":0},null,{"$f":"Daten!I59","v":0},null,{"$f":"Daten!J59","v":0},null,{"$f":"Daten!K59","v":0},null,{"$f":"Daten!L59","v":0}]
[]
[" ",{"$f":"Daten!A60","v":0},{"$f":"Daten!B60","v":0},{"$f":"Daten!C60","v":0},{"$f":"Daten!D60","v":0},{"$f":"Daten!E60","v":0},{"$f":"Daten!F60","v":0},null,{"$f":"Daten!G60","v":0},null,{"$f":"Daten!H60","v":0},null,{"$f":"Daten!I60","v":0},null,{"$f":"Daten!J60","v":0},null,{"$f":"Daten!K60","v":0},null,{"$f":"Daten!L60","v":0}]
[]
[" ",{"$f":"Daten!A61","v":0},{"$f":"Daten!B61","v":0},{"$f":"Daten!C61","v":0},{"$f":"Daten!D61","v":0},{"$f":"Daten!E61","v":0},{"$f":"Daten!F61","v":0},null,{"$f":"Daten!G61","v":0},null,{"$f":"Daten!H61","v":0},null,{"$f":"Daten!I61","v":0},null,{"$f":"Daten!J61","v":0},null,{"$f":"Daten!K61","v":0},null,{"$f":"Daten!L61","v":0}]
[]
[" ",{"$f":"Daten!A62","v":0},{"$f":"Daten!B62","v":0},{"$f":"Daten!C62","v":0},{"$f":"Daten!D62","v":0},{"$f":"Daten!E62","v":0},{"$f":"Daten!F62","v":0},null,{"$f":"Daten!G62","v":0},null,{"$f":"Daten!H62","v":0},null,{"$f":"Daten!I62","v":0},null,{"$f":"Daten!J62","v":0},null,{"$f":"Daten!K62","v":0},null,{"$f":"Daten!L62","v":0}]
[]
[" ",{"$f":"Daten!A63","v":0},{"$f":"Daten!B63","v":0},{"$f":"Daten!C63","v":0},{"$f":"Daten!D63","v":0},{"$f":"Daten!E63","v":0},{"$f":"Daten!F63","v":0},null,{"$f":"Daten!G63","v":0},null,{"$f":"Daten!H63","v":0},null,{"$f":"Daten!I63","v":0},null,{"$f":"Daten!J63","v":0},null,{"$f":"Daten!K63","v":0},null,{"$f":"Daten!L63","v":0}]
[]
[" ",{"$f":"Daten!A64","v":0},{"$f":"Daten!B64","v":0},{"$f":"Daten!C64","v":0},{"$f":"Daten!D64","v":0},{"$f":"Daten!E64","v":0},{"$f":"Daten!F64","v":0},null,{"$f":"Daten!G64","v":0},null,{"$f":"Daten!H64","v":0},null,{"$f":"Daten!I64","v":0},null,{"$f":"Daten!J64","v":0},null,{"$f":"Daten!K64","v":0},null,{"$f":"Daten!L64","v":0}]
[]
[" ",{"$f":"Daten!A65","v":0},{"$f":"Daten!B65","v":0},{"$f":"Daten!C65","v":0},{"$f":"Daten!D65","v":0},{"$f":"Daten!E65","v":0},{"$f":"Daten!F65","v":0},null,{"$f":"Daten!G65","v":0},null,{"$f":"Daten!H65","v":0},null,{"$f":"Daten!I65","v":0},null,{"$f":"Daten!J65","v":0},null,{"$f":"Daten!K65","v":0},null,{"$f":"Daten!L65","v":0}]
[]
[" ",{"$f":"Daten!A66","v":0},{"$f":"Daten!B66","v":0},{"$f":"Daten!C66","v":0},{"$f":"Daten!D66","v":0},{"$f":"Daten!E66","v":0},{"$f":"Daten!F66","v":0},null,{"$f":"Daten!G66","v":0},null,{"$f":"Daten!H66","v":0},null,{"$f":"Daten!I66","v":0},null,{"$f":"Daten!J66","v":0},null,{"$f":"Daten!K66","v":0},null,{"$f":"Daten!L66","v":0}]
[]
[" ",{"$f":"Daten!A67","v":0},{"$f":"Daten!B67","v":0},{"$f":"Daten!C67","v":0},{"$f":"Daten!D67","v":0},{"$f":"Daten!E67","v":0},{"$f":"Daten!F67","v":0},null,{"$f":"Daten!G67","v":0},null,{"$f":"Daten!H67","v":0},null,{"$f":"Daten!I67","v":0},null,{"$f":"Daten!J67","v":0},null,{"$f":"Daten!K67","v":0},null,{"$f":"Daten!L67","v":0}]
[]
[" ",{"$f":"Daten!A68","v":0},{"$f":"Daten!B68","v":0},{"$f":"Daten!C68","v":0},{"$f":"Daten!D68","v":0},{"$f":"Daten!E68","v":0},{"$f":"Daten!F68","v":0},null,{"$f":"Daten!G68","v":0},null,{"$f":"Daten!H68","v":0},null,{"$f":"Daten!I68","v":0},null,{"$f":"Daten!J68","v":0},null,{"$f":"Daten!K68","v":0},null,{"$f":"Daten!L68","v":0}]
[]
[" ",{"$f":"Daten!A69","v":0},{"$f":"Daten!B69","v":0},{"$f":"Daten!C69","v":0},{"$f":"Daten!D69","v":0},{"$f":"Daten!E69","v":0},{"$f":"Daten!F69","v":0},null,{"$f":"Daten!G69","v":0},null,{"$f":"Daten!H69","v":0},null,{"$f":"Daten!I69","v":0},null,{"$f":"Daten!J69","v":0},null,{"$f":"Daten!K69","v":0},null,{"$f":"Daten!L69","v":0}]
[]
[{"$f":"IF(B132=0,\" \",B132&\" \"&C132&\" \"&D132)","v":" "},{"$f":"Daten!A70","v":0},{"$f":"Daten!B70","v":0},{"$f":"Daten!C70","v":0},{"$f":"Daten!D70","v":0},{"$f":"Daten!E70","v":0},{"$f":"Daten!F70","v":0},null,{"$f":"Daten!G70","v":0},null,{"$f":"Daten!H70","v":0},null,{"$f":"Daten!I70","v":0},null,{"$f":"Daten!J70","v":0},null,{"$f":"Daten!K70","v":0},null,{"$f":"Daten!L70","v":0}]
[]
[" ",{"$f":"Daten!A71","v":0},{"$f":"Daten!B71","v":0},{"$f":"Daten!C71","v":0},{"$f":"Daten!D71","v":0},{"$f":"Daten!E71","v":0},{"$f":"Daten!F71","v":0},null,{"$f":"Daten!G71","v":0},null,{"$f":"Daten!H71","v":0},null,{"$f":"Daten!I71","v":0},null,{"$f":"Daten!J71","v":0},null,{"$f":"Daten!K71","v":0},null,{"$f":"Daten!L71","v":0}]
[]
[" ",{"$f":"Daten!A72","v":0},{"$f":"Daten!B72","v":0},{"$f":"Daten!C72","v":0},{"$f":"Daten!D72","v":0},{"$f":"Daten!E72","v":0},{"$f":"Daten!F72","v":0},null,{"$f":"Daten!G72","v":0},null,{"$f":"Daten!H72","v":0},null,{"$f":"Daten!I72","v":0},null,{"$f":"Daten!J72","v":0},null,{"$f":"Daten!K72","v":0},null,{"$f":"Daten!L72","v":0}]
[]
[" ",{"$f":"Daten!A73","v":0},{"$f":"Daten!B73","v":0},{"$f":"Daten!C73","v":0},{"$f":"Daten!D73","v":0},{"$f":"Daten!E73","v":0},{"$f":"Daten!F73","v":0},null,{"$f":"Daten!G73","v":0},null,{"$f":"Daten!H73","v":0},null,{"$f":"Daten!I73","v":0},null,{"$f":"Daten!J73","v":0},null,{"$f":"Daten!K73","v":0},null,{"$f":"Daten!L73","v":0}]
[]
[" ",{"$f":"Daten!A74","v":0},{"$f":"Daten!B74","v":0},{"$f":"Daten!C74","v":0},{"$f":"Daten!D74","v":0},{"$f":"Daten!E74","v":0},{"$f":"Daten!F74","v":0},null,{"$f":"Daten!G74","v":0},null,{"$f":"Daten!H74","v":0},null,{"$f":"Daten!I74","v":0},null,{"$f":"Daten!J74","v":0},null,{"$f":"Daten!K74","v":0},null,{"$f":"Daten!L74","v":0}]
[]
[" ",{"$f":"Daten!A75","v":0},{"$f":"Daten!B75","v":0},{"$f":"Daten!C75","v":0},{"$f":"Daten!D75","v":0},{"$f":"Daten!E75","v":0},{"$f":"Daten!F75","v":0},null,{"$f":"Daten!G75","v":0},null,{"$f":"Daten!H75","v":0},null,{"$f":"Daten!I75","v":0},null,{"$f":"Daten!J75","v":0},null,{"$f":"Daten!K75","v":0},null,{"$f":"Daten!L75","v":0}]
[]
[" ",{"$f":"Daten!A76","v":0},{"$f":"Daten!B76","v":0},{"$f":"Daten!C76","v":0},{"$f":"Daten!D76","v":0},{"$f":"Daten!E76","v":0},{"$f":"Daten!F76","v":0},null,{"$f":"Daten!G76","v":0},null,{"$f":"Daten!H76","v":0},null,{"$f":"Daten!I76","v":0},null,{"$f":"Daten!J76","v":0},null,{"$f":"Daten!K76","v":0},null,{"$f":"Daten!L76","v":0}]
[]
[" ",{"$f":"Daten!A77","v":0},{"$f":"Daten!B77","v":0},{"$f":"Daten!C77","v":0},{"$f":"Daten!D77","v":0},{"$f":"Daten!E77","v":0},{"$f":"Daten!F77","v":0},null,{"$f":"Daten!G77","v":0},null,{"$f":"Daten!H77","v":0},null,{"$f":"Daten!I77","v":0},null,{"$f":"Daten!J77","v":0},null,{"$f":"Daten!K77","v":0},null,{"$f":"Daten!L77","v":0}]
[]
[" ",{"$f":"Daten!A78","v":0},{"$f":"Daten!B78","v":0},{"$f":"Daten!C78","v":0},{"$f":"Daten!D78","v":0},{"$f":"Daten!E78","v":0},{"$f":"Daten!F78","v":0},null,{"$f":"Daten!G78","v":0},null,{"$f":"Daten!H78","v":0},null,{"$f":"Daten!I78","v":0},null,{"$f":"Daten!J78","v":0},null,{"$f":"Daten!K78","v":0},null,{"$f":"Daten!L78","v":0}]
[]
[" ",{"$f":"Daten!A79","v":0},{"$f":"Daten!B79","v":0},{"$f":"Daten!C79","v":0},{"$f":"Daten!D79","v":0},{"$f":"Daten!E79","v":0},{"$f":"Daten!F79","v":0},null,{"$f":"Daten!G79","v":0},null,{"$f":"Daten!H79","v":0},null,{"$f":"Daten!I79","v":0},null,{"$f":"Daten!J79","v":0},null,{"$f":"Daten!K79","v":0},null,{"$f":"Daten!L79","v":0}]
[]
[" ",{"$f":"Daten!A80","v":0},{"$f":"Daten!B80","v":0},{"$f":"Daten!C80","v":0},{"$f":"Daten!D80","v":0},{"$f":"Daten!E80","v":0},{"$f":"Daten!F80","v":0},null,{"$f":"Daten!G80","v":0},null,{"$f":"Daten!H80","v":0},null,{"$f":"Daten!I80","v":0},null,{"$f":"Daten!J80","v":0},null,{"$f":"Daten!K80","v":0},null,{"$f":"Daten!L80","v":0}]
[]
[" ",{"$f":"Daten!A81","v":0},{"$f":"Daten!B81","v":0},{"$f":"Daten!C81","v":0},{"$f":"Daten!D81","v":0},{"$f":"Daten!E81","v":0},{"$f":"Daten!F81","v":0},null,{"$f":"Daten!G81","v":0},null,{"$f":"Daten!H81","v":0},null,{"$f":"Daten!I81","v":0},null,{"$f":"Daten!J81","v":0},null,{"$f":"Daten!K81","v":0},null,{"$f":"Daten!L81","v":0}]
[]
[" ",{"$f":"Daten!A82","v":0},{"$f":"Daten!B82","v":0},{"$f":"Daten!C82","v":0},{"$f":"Daten!D82","v":0},{"$f":"Daten!E82","v":0},{"$f":"Daten!F82","v":0},null,{"$f":"Daten!G82","v":0},null,{"$f":"Daten!H82","v":0},null,{"$f":"Daten!I82","v":0},null,{"$f":"Daten!J82","v":0},null,{"$f":"Daten!K82","v":0},null,{"$f":"Daten!L82","v":0}]
[]
[" ",{"$f":"Daten!A83","v":0},{"$f":"Daten!B83","v":0},{"$f":"Daten!C83","v":0},{"$f":"Daten!D83","v":0},{"$f":"Daten!E83","v":0},{"$f":"Daten!F83","v":0},null,{"$f":"Daten!G83","v":0},null,{"$f":"Daten!H83","v":0},null,{"$f":"Daten!I83","v":0},null,{"$f":"Daten!J83","v":0},null,{"$f":"Daten!K83","v":0},null,{"$f":"Daten!L83","v":0}]
[]
[" ",{"$f":"Daten!A84","v":0},{"$f":"Daten!B84","v":0},{"$f":"Daten!C84","v":0},{"$f":"Daten!D84","v":0},{"$f":"Daten!E84","v":0},{"$f":"Daten!F84","v":0},null,{"$f":"Daten!G84","v":0},null,{"$f":"Daten!H84","v":0},null,{"$f":"Daten!I84","v":0},null,{"$f":"Daten!J84","v":0},null,{"$f":"Daten!K84","v":0},null,{"$f":"Daten!L84","v":0}]
[]
[" ",{"$f":"Daten!A85","v":0},{"$f":"Daten!B85","v":0},{"$f":"Daten!C85","v":0},{"$f":"Daten!D85","v":0},{"$f":"Daten!E85","v":0},{"$f":"Daten!F85","v":0},null,{"$f":"Daten!G85","v":0},null,{"$f":"Daten!H85","v":0},null,{"$f":"Daten!I85","v":0},null,{"$f":"Daten!J85","v":0},null,{"$f":"Daten!K85","v":0},null,{"$f":"Daten!L85","v":0}]
[]
[" ",{"$f":"Daten!A86","v":0},{"$f":"Daten!B86","v":0},{"$f":"Daten!C86","v":0},{"$f":"Daten!D86","v":0},{"$f":"Daten!E86","v":0},{"$f":"Daten!F86","v":0},null,{"$f":"Daten!G86","v":0},null,{"$f":"Daten!H86","v":0},null,{"$f":"Daten!I86","v":0},null,{"$f":"Daten!J86","v":0},null,{"$f":"Daten!K86","v":0},null,{"$f":"Daten!L86","v":0}]
[" "]
[" ",{"$f":"Daten!A87","v":0},{"$f":"Daten!B87","v":0},{"$f":"Daten!C87","v":0},{"$f":"Daten!D87","v":0},{"$f":"Daten!E87","v":0},{"$f":"Daten!F87","v":0},null,{"$f":"Daten!G87","v":0},null,{"$f":"Daten!H87","v":0},null,{"$f":"Daten!I87","v":0},null,{"$f":"Daten!J87","v":0},null,{"$f":"Daten!K87","v":0},null,{"$f":"Daten!L87","v":0}]
[" "]
[" ",{"$f":"Daten!A88","v":0},{"$f":"Daten!B88","v":0},{"$f":"Daten!C88","v":0},{"$f":"Daten!D88","v":0},{"$f":"Daten!E88","v":0},{"$f":"Daten!F88","v":0},null,{"$f":"Daten!G88","v":0},null,{"$f":"Daten!H88","v":0},null,{"$f":"Daten!I88","v":0},null,{"$f":"Daten!J88","v":0},null,{"$f":"Daten!K88","v":0},null,{"$f":"Daten!L88","v":0}]
[" "]
[" ",{"$f":"Daten!A89","v":0},{"$f":"Daten!B89","v":0},{"$f":"Daten!C89","v":0},{"$f":"Daten!D89","v":0},{"$f":"Daten!E89","v":0},{"$f":"Daten!F89","v":0},null,{"$f":"Daten!G89","v":0},null,{"$f":"Daten!H89","v":0},null,{"$f":"Daten!I89","v":0},null,{"$f":"Daten!J89","v":0},null,{"$f":"Daten!K89","v":0},null,{"$f":"Daten!L89","v":0}]
[" "]
[" ",{"$f":"Daten!A90","v":0},{"$f":"Daten!B90","v":0},{"$f":"Daten!C90","v":0},{"$f":"Daten!D90","v":0},{"$f":"Daten!E90","v":0},{"$f":"Daten!F90","v":0},null,{"$f":"Daten!G90","v":0},null,{"$f":"Daten!H90","v":0},null,{"$f":"Daten!I90","v":0},null,{"$f":"Daten!J90","v":0},null,{"$f":"Daten!K90","v":0},null,{"$f":"Daten!L90","v":0}]
[]
[" ",{"$f":"Daten!A91","v":0},{"$f":"Daten!B91","v":0},{"$f":"Daten!C91","v":0},{"$f":"Daten!D91","v":0},{"$f":"Daten!E91","v":0},{"$f":"Daten!F91","v":0},null,{"$f":"Daten!G91","v":0},null,{"$f":"Daten!H91","v":0},null,{"$f":"Daten!I91","v":0},null,{"$f":"Daten!J91","v":0},null,{"$f":"Daten!K91","v":0},null,{"$f":"Daten!L91","v":0}]
[]
[" ",{"$f":"Daten!A92","v":0},{"$f":"Daten!B92","v":0},{"$f":"Daten!C92","v":0},{"$f":"Daten!D92","v":0},{"$f":"Daten!E92","v":0},{"$f":"Daten!F92","v":0},null,{"$f":"Daten!G92","v":0},null,{"$f":"Daten!H92","v":0},null,{"$f":"Daten!I92","v":0},null,{"$f":"Daten!J92","v":0},null,{"$f":"Daten!K92","v":0},null,{"$f":"Daten!L92","v":0}]
[]
[" ",{"$f":"Daten!A93","v":0},{"$f":"Daten!B93","v":0},{"$f":"Daten!C93","v":0},{"$f":"Daten!D93","v":0},{"$f":"Daten!E93","v":0},{"$f":"Daten!F93","v":0},null,{"$f":"Daten!G93","v":0},null,{"$f":"Daten!H93","v":0},null,{"$f":"Daten!I93","v":0},null,{"$f":"Daten!J93","v":0},null,{"$f":"Daten!K93","v":0},null,{"$f":"Daten!L93","v":0}]
[]
[" ",{"$f":"Daten!A94","v":0},{"$f":"Daten!B94","v":0},{"$f":"Daten!C94","v":0},{"$f":"Daten!D94","v":0},{"$f":"Daten!E94","v":0},{"$f":"Daten!F94","v":0},null,{"$f":"Daten!G94","v":0},null,{"$f":"Daten!H94","v":0},null,{"$f":"Daten!I94","v":0},null,{"$f":"Daten!J94","v":0},null,{"$f":"Daten!K94","v":0},null,{"$f":"Daten!L94","v":0}]
[]
[" ",{"$f":"Daten!A95","v":0},{"$f":"Daten!B95","v":0},{"$f":"Daten!C95","v":0},{"$f":"Daten!D95","v":0},{"$f":"Daten!E95","v":0},{"$f":"Daten!F95","v":0},null,{"$f":"Daten!G95","v":0},null,{"$f":"Daten!H95","v":0},null,{"$f":"Daten!I95","v":0},null,{"$f":"Daten!J95","v":0},null,{"$f":"Daten!K95","v":0},null,{"$f":"Daten!L95","v":0}]
[]
[" ",{"$f":"Daten!A96","v":0},{"$f":"Daten!B96","v":0},{"$f":"Daten!C96","v":0},{"$f":"Daten!D96","v":0},{"$f":"Daten!E96","v":0},{"$f":"Daten!F96","v":0},null,{"$f":"Daten!G96","v":0},null,{"$f":"Daten!H96","v":0},null,{"$f":"Daten!I96","v":0},null,{"$f":"Daten!J96","v":0},null,{"$f":"Daten!K96","v":0},null,{"$f":"Daten!L96","v":0}]
[]
[" ",{"$f":"Daten!A97","v":0},{"$f":"Daten!B97","v":0},{"$f":"Daten!C97","v":0},{"$f":"Daten!D97","v":0},{"$f":"Daten!E97","v":0},{"$f":"Daten!F97","v":0},null,{"$f":"Daten!G97","v":0},null,{"$f":"Daten!H97","v":0},null,{"$f":"Daten!I97","v":0},null,{"$f":"Daten!J97","v":0},null,{"$f":"Daten!K97","v":0},null,{"$f":"Daten!L97","v":0}]
[]
[" ",{"$f":"Daten!A98","v":0},{"$f":"Daten!B98","v":0},{"$f":"Daten!C98","v":0},{"$f":"Daten!D98","v":0},{"$f":"Daten!E98","v":0},{"$f":"Daten!F98","v":0},null,{"$f":"Daten!G98","v":0},null,{"$f":"Daten!H98","v":0},null,{"$f":"Daten!I98","v":0},null,{"$f":"Daten!J98","v":0},null,{"$f":"Daten!K98","v":0},null,{"$f":"Daten!L98","v":0}]
[]
[" ",{"$f":"Daten!A99","v":0},{"$f":"Daten!B99","v":0},{"$f":"Daten!C99","v":0},{"$f":"Daten!D99","v":0},{"$f":"Daten!E99","v":0},{"$f":"Daten!F99","v":0},null,{"$f":"Daten!G99","v":0},null,{"$f":"Daten!H99","v":0},null,{"$f":"Daten!I99","v":0},null,{"$f":"Daten!J99","v":0},null,{"$f":"Daten!K99","v":0},null,{"$f":"Daten!L99","v":0}]
[]
[" ",{"$f":"Daten!A100","v":0},{"$f":"Daten!B100","v":0},{"$f":"Daten!C100","v":0},{"$f":"Daten!D100","v":0},{"$f":"Daten!E100","v":0},{"$f":"Daten!F100","v":0},null,{"$f":"Daten!G100","v":0},null,{"$f":"Daten!H100","v":0},null,{"$f":"Daten!I100","v":0},null,{"$f":"Daten!J100","v":0},null,{"$f":"Daten!K100","v":0},null,{"$f":"Daten!L100","v":0}]
[]
[" ",{"$f":"Daten!A101","v":0},{"$f":"Daten!B101","v":0},{"$f":"Daten!C101","v":0},{"$f":"Daten!D101","v":0},{"$f":"Daten!E101","v":0},{"$f":"Daten!F101","v":0},null,{"$f":"Daten!G101","v":0},null,{"$f":"Daten!H101","v":0},null,{"$f":"Daten!I101","v":0},null,{"$f":"Daten!J101","v":0},null,{"$f":"Daten!K101","v":0},null,{"$f":"Daten!L101","v":0}]
[]
[" ",{"$f":"Daten!A102","v":0},{"$f":"Daten!B102","v":0},{"$f":"Daten!C102","v":0},{"$f":"Daten!D102","v":0},{"$f":"Daten!E102","v":0},{"$f":"Daten!F102","v":0},null,{"$f":"Daten!G102","v":0},null,{"$f":"Daten!H102","v":0},null,{"$f":"Daten!I102","v":0},null,{"$f":"Daten!J102","v":0},null,{"$f":"Daten!K102","v":0},null,{"$f":"Daten!L102","v":0}]
[]
[" ",{"$f":"Daten!A103","v":0},{"$f":"Daten!B103","v":0},{"$f":"Daten!C103","v":0},{"$f":"Daten!D103","v":0},{"$f":"Daten!E103","v":0},{"$f":"Daten!F103","v":0},null,{"$f":"Daten!G103","v":0},null,{"$f":"Daten!H103","v":0},null,{"$f":"Daten!I103","v":0},null,{"$f":"Daten!J103","v":0},null,{"$f":"Daten!K103","v":0},null,{"$f":"Daten!L103","v":0}]
[]
[" ",{"$f":"Daten!A104","v":0},{"$f":"Daten!B104","v":0},{"$f":"Daten!C104","v":0},{"$f":"Daten!D104","v":0},{"$f":"Daten!E104","v":0},{"$f":"Daten!F104","v":0},null,{"$f":"Daten!G104","v":0},null,{"$f":"Daten!H104","v":0},null,{"$f":"Daten!I104","v":0},null,{"$f":"Daten!J104","v":0},null,{"$f":"Daten!K104","v":0},null,{"$f":"Daten!L104","v":0}]
[]
[" ",{"$f":"Daten!A105","v":0},{"$f":"Daten!B105","v":0},{"$f":"Daten!C105","v":0},{"$f":"Daten!D105","v":0},{"$f":"Daten!E105","v":0},{"$f":"Daten!F105","v":0},null,{"$f":"Daten!G105","v":0},null,{"$f":"Daten!H105","v":0},null,{"$f":"Daten!I105","v":0},null,{"$f":"Daten!J105","v":0},null,{"$f":"Daten!K105","v":0},null,{"$f":"Daten!L105","v":0}]
[]
[" ",{"$f":"Daten!A106","v":0},{"$f":"Daten!B106","v":0},{"$f":"Daten!C106","v":0},{"$f":"Daten!D106","v":0},{"$f":"Daten!E106","v":0},{"$f":"Daten!F106","v":0},null,{"$f":"Daten!G106","v":0},null,{"$f":"Daten!H106","v":0},null,{"$f":"Daten!I106","v":0},null,{"$f":"Daten!J106","v":0},null,{"$f":"Daten!K106","v":0},null,{"$f":"Daten!L106","v":0}]
[]
[" ",{"$f":"Daten!A107","v":0},{"$f":"Daten!B107","v":0},{"$f":"Daten!C107","v":0},{"$f":"Daten!D107","v":0},{"$f":"Daten!E107","v":0},{"$f":"Daten!F107","v":0},null,{"$f":"Daten!G107","v":0},null,{"$f":"Daten!H107","v":0},null,{"$f":"Daten!I107","v":0},null,{"$f":"Daten!J107","v":0},null,{"$f":"Daten!K107","v":0},null,{"$f":"Daten!L107","v":0}]
[]
[" ",{"$f":"Daten!A108","v":0},{"$f":"Daten!B108","v":0},{"$f":"Daten!C108","v":0},{"$f":"Daten!D108","v":0},{"$f":"Daten!E108","v":0},{"$f":"Daten!F108","v":0},null,{"$f":"Daten!G108","v":0},null,{"$f":"Daten!H108","v":0},null,{"$f":"Daten!I108","v":0},null,{"$f":"Daten!J108","v":0},null,{"$f":"Daten!K108","v":0},null,{"$f":"Daten!L108","v":0}]
[]
[" ",{"$f":"Daten!A109","v":0},{"$f":"Daten!B109","v":0},{"$f":"Daten!C109","v":0},{"$f":"Daten!D109","v":0},{"$f":"Daten!E109","v":0},{"$f":"Daten!F109","v":0},null,{"$f":"Daten!G109","v":0},null,{"$f":"Daten!H109","v":0},null,{"$f":"Daten!I109","v":0},null,{"$f":"Daten!J109","v":0},null,{"$f":"Daten!K109","v":0},null,{"$f":"Daten!L109","v":0}]
[]
[" ",{"$f":"Daten!A110","v":0},{"$f":"Daten!B110","v":0},{"$f":"Daten!C110","v":0},{"$f":"Daten!D110","v":0},{"$f":"Daten!E110","v":0},{"$f":"Daten!F110","v":0},null,{"$f":"Daten!G110","v":0},null,{"$f":"Daten!H110","v":0},null,{"$f":"Daten!I110","v":0},null,{"$f":"Daten!J110","v":0},null,{"$f":"Daten!K110","v":0},null,{"$f":"Daten!L110","v":0}]
[]
[" ",{"$f":"Daten!A111","v":0},{"$f":"Daten!B111","v":0},{"$f":"Daten!C111","v":0},{"$f":"Daten!D111","v":0},{"$f":"Daten!E111","v":0},{"$f":"Daten!F111","v":0},null,{"$f":"Daten!G111","v":0},null,{"$f":"Daten!H111","v":0},null,{"$f":"Daten!I111","v":0},null,{"$f":"Daten!J111","v":0},null,{"$f":"Daten!K111","v":0},null,{"$f":"Daten!L111","v":0}]
[]
[" ",{"$f":"Daten!A112","v":0},{"$f":"Daten!B112","v":0},{"$f":"Daten!C112","v":0},{"$f":"Daten!D112","v":0},{"$f":"Daten!E112","v":0},{"$f":"Daten!F112","v":0},null,{"$f":"Daten!G112","v":0},null,{"$f":"Daten!H112","v":0},null,{"$f":"Daten!I112","v":0},null,{"$f":"Daten!J112","v":0},null,{"$f":"Daten!K112","v":0},null,{"$f":"Daten!L112","v":0}]
[]
[" ",{"$f":"Daten!A113","v":0},{"$f":"Daten!B113","v":0},{"$f":"Daten!C113","v":0},{"$f":"Daten!D113","v":0},{"$f":"Daten!E113","v":0},{"$f":"Daten!F113","v":0},null,{"$f":"Daten!G113","v":0},null,{"$f":"Daten!H113","v":0},null,{"$f":"Daten!I113","v":0},null,{"$f":"Daten!J113","v":0},null,{"$f":"Daten!K113","v":0},null,{"$f":"Daten!L113","v":0}]
[]
[" ",{"$f":"Daten!A114","v":0},{"$f":"Daten!B114","v":0},{"$f":"Daten!C114","v":0},{"$f":"Daten!D114","v":0},{"$f":"Daten!E114","v":0},{"$f":"Daten!F114","v":0},null,{"$f":"Daten!G114","v":0},null,{"$f":"Daten!H114","v":0},null,{"$f":"Daten!I114","v":0},null,{"$f":"Daten!J114","v":0},null,{"$f":"Daten!K114","v":0},null,{"$f":"Daten!L114","v":0}]
[]
[" ",{"$f":"Daten!A115","v":0},{"$f":"Daten!B115","v":0},{"$f":"Daten!C115","v":0},{"$f":"Daten!D115","v":0},{"$f":"Daten!E115","v":0},{"$f":"Daten!F115","v":0},null,{"$f":"Daten!G115","v":0},null,{"$f":"Daten!H115","v":0},null,{"$f":"Daten!I115","v":0},null,{"$f":"Daten!J115","v":0},null,{"$f":"Daten!K115","v":0},null,{"$f":"Daten!L115","v":0}]
[]
[" ",{"$f":"Daten!A116","v":0},{"$f":"Daten!B116","v":0},{"$f":"Daten!C116","v":0},{"$f":"Daten!D116","v":0},{"$f":"Daten!E116","v":0},{"$f":"Daten!F116","v":0},null,{"$f":"Daten!G116","v":0},null,{"$f":"Daten!H116","v":0},null,{"$f":"Daten!I116","v":0},null,{"$f":"Daten!J116","v":0},null,{"$f":"Daten!K116","v":0},null,{"$f":"Daten!L116","v":0}]
[]
[" ",{"$f":"Daten!A117","v":0},{"$f":"Daten!B117","v":0},{"$f":"Daten!C117","v":0},{"$f":"Daten!D117","v":0},{"$f":"Daten!E117","v":0},{"$f":"Daten!F117","v":0},null,{"$f":"Daten!G117","v":0},null,{"$f":"Daten!H117","v":0},null,{"$f":"Daten!I117","v":0},null,{"$f":"Daten!J117","v":0},null,{"$f":"Daten!K117","v":0},null,{"$f":"Daten!L117","v":0}]
[]
[" ",{"$f":"Daten!A118","v":0},{"$f":"Daten!B118","v":0},{"$f":"Daten!C118","v":0},{"$f":"Daten!D118","v":0},{"$f":"Daten!E118","v":0},{"$f":"Daten!F118","v":0},null,{"$f":"Daten!G118","v":0},null,{"$f":"Daten!H118","v":0},null,{"$f":"Daten!I118","v":0},null,{"$f":"Daten!J118","v":0},null,{"$f":"Daten!K118","v":0},null,{"$f":"Daten!L118","v":0}]
[]
[" ",{"$f":"Daten!A119","v":0},{"$f":"Daten!B119","v":0},{"$f":"Daten!C119","v":0},{"$f":"Daten!D119","v":0},{"$f":"Daten!E119","v":0},{"$f":"Daten!F119","v":0},null,{"$f":"Daten!G119","v":0},null,{"$f":"Daten!H119","v":0},null,{"$f":"Daten!I119","v":0},null,{"$f":"Daten!J119","v":0},null,{"$f":"Daten!K119","v":0},null,{"$f":"Daten!L119","v":0}]
[]
[" ",{"$f":"Daten!A120","v":0},{"$f":"Daten!B120","v":0},{"$f":"Daten!C120","v":0},{"$f":"Daten!D120","v":0},{"$f":"Daten!E120","v":0},{"$f":"Daten!F120","v":0},null,{"$f":"Daten!G120","v":0},null,{"$f":"Daten!H120","v":0},null,{"$f":"Daten!I120","v":0},null,{"$f":"Daten!J120","v":0},null,{"$f":"Daten!K120","v":0},null,{"$f":"Daten!L120","v":0}]
[]
[" ",{"$f":"Daten!A121","v":0},{"$f":"Daten!B121","v":0},{"$f":"Daten!C121","v":0},{"$f":"Daten!D121","v":0},{"$f":"Daten!E121","v":0},{"$f":"Daten!F121","v":0},null,{"$f":"Daten!G121","v":0},null,{"$f":"Daten!H121","v":0},null,{"$f":"Daten!I121","v":0},null,{"$f":"Daten!J121","v":0},null,{"$f":"Daten!K121","v":0},null,{"$f":"Daten!L121","v":0}]
[]
[" ",{"$f":"Daten!A122","v":0},{"$f":"Daten!B122","v":0},{"$f":"Daten!C122","v":0},{"$f":"Daten!D122","v":0},{"$f":"Daten!E122","v":0},{"$f":"Daten!F122","v":0},null,{"$f":"Daten!G122","v":0},null,{"$f":"Daten!H122","v":0},null,{"$f":"Daten!I122","v":0},null,{"$f":"Daten!J122","v":0},null,{"$f":"Daten!K122","v":0},null,{"$f":"Daten!L122","v":0}]
[]
[" ",{"$f":"Daten!A123","v":0},{"$f":"Daten!B123","v":0},{"$f":"Daten!C123","v":0},{"$f":"Daten!D123","v":0},{"$f":"Daten!E123","v":0},{"$f":"Daten!F123","v":0},null,{"$f":"Daten!G123","v":0},null,{"$f":"Daten!H123","v":0},null,{"$f":"Daten!I123","v":0},null,{"$f":"Daten!J123","v":0},null,{"$f":"Daten!K123","v":0},null,{"$f":"Daten!L123","v":0}]
[]
[" ",{"$f":"Daten!A124","v":0},{"$f":"Daten!B124","v":0},{"$f":"Daten!C124","v":0},{"$f":"Daten!D124","v":0},{"$f":"Daten!E124","v":0},{"$f":"Daten!F124","v":0},null,{"$f":"Daten!G124","v":0},null,{"$f":"Daten!H124","v":0},null,{"$f":"Daten!I124","v":0},null,{"$f":"Daten!J124","v":0},null,{"$f":"Daten!K124","v":0},null,{"$f":"Daten!L124","v":0}]

{"sheet":"Listen","index":10,"n_rows":18,"n_cols":10,"rows_kept":18,"cut":false,"hidden":true,"merged":[]}
[null,null,"BBM KV-PV","BBM AV-RV","AV","KV","PV","RV","ZV","Summe"]
["2015/16",null,49500,72600,1.4999999999999999E-2,7.2999999999999995E-2,1.175E-2,9.35E-2,6.9000000000000006E-2,{"$f":"SUM(E2:I2)","v":0.26224999999999998}]
["2016/17",null,50850,74400,1.4999999999999999E-2,7.2999999999999995E-2,1.175E-2,9.35E-2,6.9000000000000006E-2,{"$f":"SUM(E3:I3)","v":0.26224999999999998}]
["2017/18",null,52200,76200,1.4999999999999999E-2,7.2999999999999995E-2,1.2749999999999999E-2,9.35E-2,6.9000000000000006E-2,{"$f":"SUM(E4:I4)","v":0.26324999999999998}]
["2018/19",null,53100,78000,1.4999999999999999E-2,7.2999999999999995E-2,1.2749999999999999E-2,9.2999999999999999E-2,6.9000000000000006E-2,{"$f":"SUM(E5:I5)","v":0.26274999999999998}]
["2019/20",null,54450,80400,1.2500000000000001E-2,7.7499999999999999E-2,1.525E-2,9.2999999999999999E-2,6.9000000000000006E-2,{"$f":"SUM(E6:I6)","v":0.26724999999999999}]
["2020/21",null,56250,82800,1.2E-2,7.85E-2,1.5252E-2,9.2999999999999999E-2,6.9000000000000006E-2,{"$f":"SUM(E7:I7)","v":0.26775199999999999}]
["2021/22",null,58050,85200,1.2E-2,7.9500000000000001E-2,1.525E-2,9.2999999999999999E-2,6.9000000000000006E-2,0.26874999999999999]
["2022/23",null,58050,84600,1.2E-2,7.9500000000000001E-2,1.525E-2,9.2999999999999999E-2,6.9000000000000006E-2,0.26874999999999999]
["2023/24",null,null,null,null,null,null,null,null,0]
["2024/25",null,null,null,null,null,null,null,null,0]
["2025/26",null,null,null,null,null,null,null,null,0]
["2026/27",null,null,null,null,null,null,null,null,0]
["2027/28",null,null,null,null,null,null,null,null,0]
[]
[]
[null,null,"Aktuell KV-PV","Aktuell AV-RV"]
[null,null,{"$f":"IF('Anlage 3'!M2=\"\",\"\",VLOOKUP(Daten!B3,BBM,3))","v":{"$error":"#N/A"}},{"$f":"IF('Anlage 3'!M2=\"\",\"\",VLOOKUP(Daten!B3,BBM,4))","v":{"$error":"#N/A"}}]